From mboxrd@z Thu Jan 1 00:00:00 1970 Return-Path: Received: from mails.dpdk.org (mails.dpdk.org [217.70.189.124]) by inbox.dpdk.org (Postfix) with ESMTP id 8A6FD48A08 for ; Thu, 30 Oct 2025 08:05:16 +0100 (CET) Received: from mails.dpdk.org (localhost [127.0.0.1]) by mails.dpdk.org (Postfix) with ESMTP id 626714027A; Thu, 30 Oct 2025 08:05:16 +0100 (CET) Received: from mail-pj1-f100.google.com (mail-pj1-f100.google.com [209.85.216.100]) by mails.dpdk.org (Postfix) with ESMTP id E40154027A for ; Thu, 30 Oct 2025 08:05:14 +0100 (CET) Received: by mail-pj1-f100.google.com with SMTP id 98e67ed59e1d1-33d463e79ddso883066a91.0 for ; Thu, 30 Oct 2025 00:05:14 -0700 (PDT) DKIM-Signature: v=1; a=rsa-sha256; c=relaxed/relaxed; d=iol.unh.edu; s=unh-iol; t=1761807914; x=1762412714; darn=dpdk.org; h=cc:to:from:subject:message-id:date:from:to:cc:subject:date :message-id:reply-to; bh=deN1MjwZFbgGfLTnIiQv7HywTIYWC9GFskMlq9hdSUQ=; b=jA/i0E89xP9upD3PudNsazXyUKRsWNU6wLJsjIq1DWYRKO3SYZOBCzb7Kd7qdmzwXF 3XSxW5JMW3zVpUx17CvB0+JhaMyhbBINdE3NMGLlDzCIxVphhJeqxy39ZPgOBtkWschJ cZ7l4jJMgLG7Lfwgrd6vS2vDCp5SxeihqNrtE= X-Google-DKIM-Signature: v=1; a=rsa-sha256; c=relaxed/relaxed; d=1e100.net; s=20230601; t=1761807914; x=1762412714; h=cc:to:from:subject:message-id:date:x-gm-message-state:from:to:cc :subject:date:message-id:reply-to; bh=deN1MjwZFbgGfLTnIiQv7HywTIYWC9GFskMlq9hdSUQ=; b=AX5WPcZJfA39PQoWiPrGxZecuX7ciXzPlZmThksOxh0LSeC7wBZ9AZ+vzyG33MuwVh K4o+bG3hRxYmAtwJxBJJZdP9az/PzFiPbF+kTD6Pe9Rdhsj9VwtfuDTFkO7qNAC9VEzB C9n2IziR2ANKtFYm1ILAinafx/RWxC3GS/iIJ8Cx0RfoM1TeBOppLsbQyWqlRGxmdx2g 0CL+xc86oy1+/k0l+LnWo+xd8E2KqI/v2nLg8vGvAcKvicx9ZbNgi+/aZ7P01cnrs9QK MwgwUf7U7sJHVKUB980u6dL76i6qpWS+kcNIh8jMOYrAt+CWhhIXwwDHJ+jcPcq395Lp SMPA== X-Gm-Message-State: AOJu0YxLuC2MqzP39G2g0rhN45ZnrdtL8sHVAHN0zgQSm152MijrlUg7 uNgHPXe5x4/kGtGTVP3F4s0gGIQMhLLmKALxjqOG1aNoMm5i9gbTvg93tP/ojaehAv64S3Dzx5/ TJ+JpfH1qODL6g8dwOiGTpvfdOtc9uT07nBS7Ugv1MAezrgUTLrxn X-Gm-Gg: ASbGnct/oFx1AbXatInnd6uRrYs/Uz6YfNjB1QVWnVLeqpFHnflygySesIvI6QmX6rO amonbhNpaWR6MuRTXYzH7Of/Qp2dui+e2lN5aYz/qwlZeLngYnVDnmhbWyxo2Adp2UWQm33IERD WhsLJC3FEqzkKEnoM/PTgUqpJxTNi7dMrO98JSelLA2rPmGQ+KFQFoLXsQ638idwHEekFvsr2hW 4jvBNzpry/bu52PQmdA7oC6EVtB+xFgDJSWDRL3QbsssS8THcY4CZZu+2BHCENRxToCBUhGAZLG TAjzcI4QhmH7ltGG0E4Z8abIluO1XQ9IjPaw0y1OA2pgY4A3NMOX0I4jUyTgc0SsaU95OJ4KD5k cEFGg3SRS X-Google-Smtp-Source: AGHT+IELg1C3zwUoHNJLhC4NfQXmGgm5gWLXwcAOOWVDwb04AM8audAOcU6s846NvHuq4ICLUrSFbyrJvFhc X-Received: by 2002:a17:90b:3882:b0:32b:6eed:d203 with SMTP id 98e67ed59e1d1-3403a2a24a9mr7159961a91.24.1761807913928; Thu, 30 Oct 2025 00:05:13 -0700 (PDT) Received: from postal.iol.unh.edu (postal.iol.unh.edu. [2606:4100:3880:1234::84]) by smtp-relay.gmail.com with ESMTPS id 41be03b00d2f7-b712f78804fsm1144725a12.12.2025.10.30.00.05.13 (version=TLS1_2 cipher=ECDHE-ECDSA-AES128-GCM-SHA256 bits=128/128); Thu, 30 Oct 2025 00:05:13 -0700 (PDT) X-Relaying-Domain: iol.unh.edu Date: Thu, 30 Oct 2025 00:05:13 -0700 (PDT) Message-ID: <69030e29.630a0220.20ed17.665aSMTPIN_ADDED_MISSING@mx.google.com> Received: from [172.21.0.2] (unknown [172.18.0.240]) by postal.iol.unh.edu (Postfix) with ESMTP id B3E746051830; Thu, 30 Oct 2025 03:05:12 -0400 (EDT) Subject: |SUCCESS| [GIT MASTER] b287e404643aeab5bb5db084c142789df187844e From: dpdklab@iol.unh.edu To: Test Report Cc: dpdk-test-reports@iol.unh.edu, Xueming Li , Christian Ehrhardt , Kevin Traynor , Luca Boccassi Content-Type: text/plain X-BeenThere: test-report@dpdk.org X-Mailman-Version: 2.1.29 Precedence: list List-Id: automatic DPDK test reports List-Unsubscribe: , List-Archive: List-Post: List-Help: List-Subscribe: , Errors-To: test-report-bounces@dpdk.org _Testing PASS_ Branch: tags/v24.11 b287e404643aeab5bb5db084c142789df187844e --> testing pass Upstream job id: Generic-Unit-Test-DPDK#386986 Test environment and result as below: +-------------------------------+----------------+ | Environment | dpdk_unit_test | +===============================+================+ | CentOS Stream 10 | PASS | +-------------------------------+----------------+ | Fedora Linux 40 | PASS | +-------------------------------+----------------+ | CentOS Stream 9 | PASS | +-------------------------------+----------------+ | Fedora Linux 41 | PASS | +-------------------------------+----------------+ | Fedora Linux 42 | PASS | +-------------------------------+----------------+ | Ubuntu 24.04 | PASS | +-------------------------------+----------------+ | Red Hat Enterprise Linux 9.5 | PASS | +-------------------------------+----------------+ | Ubuntu 20.04 | PASS | +-------------------------------+----------------+ | Ubuntu 22.04 | PASS | +-------------------------------+----------------+ | Debian GNU/Linux 12 | PASS | +-------------------------------+----------------+ | Red Hat Enterprise Linux 8.10 | PASS | +-------------------------------+----------------+ | Windows Server 2022 | PASS | +-------------------------------+----------------+ CentOS Stream 10 Kernel: 5.15 Compiler: gcc gcc (GCC) 14.2.1 20250110 (Red Hat 14.2.1-8) Fedora Linux 40 Kernel: 5.15 Compiler: gcc gcc (GCC) 14.2.1 20240912 (Red Hat 14.2.1-3) CentOS Stream 9 Kernel: 5.15 Compiler: gcc gcc (GCC) 11.5.0 20240719 (Red Hat 11.5.0-11) Fedora Linux 41 Kernel: 5.15 Compiler: gcc gcc (GCC) 14.3.1 20250523 (Red Hat 14.3.1-1) Fedora Linux 42 Kernel: 5.15 Compiler: gcc gcc (GCC) 15.2.1 20250808 (Red Hat 15.2.1-1) Ubuntu 24.04 Kernel: 5.15 Compiler: gcc gcc (Ubuntu 13.3.0-6ubuntu2~24.04) 13.3.0 Red Hat Enterprise Linux 9.5 Kernel: 5.15 Compiler: gcc gcc (GCC) 11.5.0 20240719 (Red Hat 11.5.0-2) Ubuntu 20.04 Kernel: 5.15 Compiler: gcc gcc (Ubuntu 9.4.0-1ubuntu1~20.04.2) 9.4.0 Ubuntu 22.04 Kernel: 5.15 Compiler: gcc gcc (Ubuntu 11.4.0-1ubuntu1~22.04) 11.4.0 Debian GNU/Linux 12 Kernel: 5.15 Compiler: gcc gcc (Debian 12.2.0-14+deb12u1) 12.2.0 Red Hat Enterprise Linux 8.10 Kernel: 5.15 Compiler: gcc gcc (GCC) 8.5.0 20210514 (Red Hat 8.5.0-22) Windows Server 2022 Kernel: 10.0.20348.2031 Compiler: clang 15.0.7, gcc 14.1.0 (MinGW), and MSVC VS 19.39.33521 To view detailed results, visit: https://lab.dpdk.org/results/dashboard/tarballs/35399/ UNH-IOL DPDK Community Lab To manage your email subscriptions, visit: https://lab.dpdk.org/results/dashboard/preferences/subscriptions/