From mboxrd@z Thu Jan 1 00:00:00 1970 Return-Path: Received: from mails.dpdk.org (mails.dpdk.org [217.70.189.124]) by inbox.dpdk.org (Postfix) with ESMTP id 7373C48A0C for ; Thu, 30 Oct 2025 08:28:11 +0100 (CET) Received: from mails.dpdk.org (localhost [127.0.0.1]) by mails.dpdk.org (Postfix) with ESMTP id 6E5464027A; Thu, 30 Oct 2025 08:28:11 +0100 (CET) Received: from mail-il1-f226.google.com (mail-il1-f226.google.com [209.85.166.226]) by mails.dpdk.org (Postfix) with ESMTP id E0BA24027A for ; Thu, 30 Oct 2025 08:28:09 +0100 (CET) Received: by mail-il1-f226.google.com with SMTP id e9e14a558f8ab-430d098121cso2885975ab.0 for ; Thu, 30 Oct 2025 00:28:09 -0700 (PDT) DKIM-Signature: v=1; a=rsa-sha256; c=relaxed/relaxed; d=iol.unh.edu; s=unh-iol; t=1761809289; x=1762414089; darn=dpdk.org; h=references:in-reply-to:cc:to:from:subject:message-id:date:from:to :cc:subject:date:message-id:reply-to; bh=Bljpj9JUQKZYhWZ/PoZyQZtKOqegsojEMWJltTxoPeU=; b=bESm+TApoFdtxUmKGwXNVdZ1reUxGfK01OUaHnddsrlyD+svS0Am2qWnF5AEel0eay 520iElvemlyor6qI3+Z05+WnCtTahIDHTMBB7QsTsf9BBYK+OxyX8GwjrMXJuEIcDntT GevneUALMd6kKCH3wcMnnzBrV3s06INp0SLKg= X-Google-DKIM-Signature: v=1; a=rsa-sha256; c=relaxed/relaxed; d=1e100.net; s=20230601; t=1761809289; x=1762414089; h=references:in-reply-to:cc:to:from:subject:message-id:date :x-gm-message-state:from:to:cc:subject:date:message-id:reply-to; bh=Bljpj9JUQKZYhWZ/PoZyQZtKOqegsojEMWJltTxoPeU=; b=e27z+1vJ7hksKypBaduoUqCilg9lM1MwHSFQjFESQIiP9G7KRI+OFwAJM24r3/XVGM JbWBK0+KpDgXNUFTs5FGkfpuhhtAPnRJT6RVdDbK4fJbbycNSIt2FwiGrTQS0E1T21Oc +mQo1wO0TLNCDLmKmcn5/zDfS0X2ltS4Myqxd1l5pBJAt62+B/Ve7NZM6Co8tR7eWRLj NbTiP8uD2rs3gxOkOItcSRiZvx8iN6ewII7+Xgd1yOmty6jRo0LX1RAxrLKUbUiYQu4m 2Jbb/Os0s0EqD2kKzwmfPeqKUa/EnXBgQpfcbAiGucWDpIFZDlMD5jBQyYqCef8mjuMD RXNg== X-Gm-Message-State: AOJu0YyH89/A/EIvBBluRy/nTL381rvfJVKV45AcEx9vNALszOgiqWCC 1RTJoAhYxppLW2hpIfISMIHYEboIGNmcXFiyMzUVGXXlmKaANJzRXjhhdo0H+2U2ewOy/RLHHbi kZyuXm2sS71BelyaX4Ds/LhXvsOtz4UIY118wXK1C51BIacHdzCUyQEea+fba X-Gm-Gg: ASbGncu5gWhU4s7kA41iobgLpOBDJE+WBxBNRvNvOiBL2DxeaJMC0c4/eXk974zTdX+ NICaIKCa7KQn8o6jmVacqbpD8J0XmKdAJYywblJo0C43Xr2qRDgijDv6XMItUyJ1yjy6en8E4Dh EE7ru7oLJHUvS/i4ysV2Z9z3Hhlu38R+15r2IJvOuutlbv2OgwQbQDiUyDFJPM03lB0mEmaBjTU tyoAicD8WJE/A97cwvgwNsYbJLPCyk8GeHuCCcaTf+Xj+PVm7ePfW3V5xQbyOVsKTu9BwSptnnH RATlFVaAwdKy7npo8k1rSwpPX7V4VnvBZUeoEMUC7sQyKZW+U6X+i6gh8IFmq4FnabgUMRSC0Qs p78bfwyPM X-Google-Smtp-Source: AGHT+IGtYTqO58flitlv+AHlrdKmWEspBkrRSRMlGkdz5JX+eOdV69Xkm9ZZIjJAJOQvJPzq274c9oj/wHUg X-Received: by 2002:a92:cdab:0:b0:42f:9eb7:759b with SMTP id e9e14a558f8ab-432f9044dffmr66119695ab.28.1761809289245; Thu, 30 Oct 2025 00:28:09 -0700 (PDT) Received: from postal.iol.unh.edu (postal.iol.unh.edu. [2606:4100:3880:1234::84]) by smtp-relay.gmail.com with ESMTPS id e9e14a558f8ab-431f67ea775sm16081465ab.2.2025.10.30.00.28.06 (version=TLS1_2 cipher=ECDHE-ECDSA-AES128-GCM-SHA256 bits=128/128); Thu, 30 Oct 2025 00:28:09 -0700 (PDT) X-Relaying-Domain: iol.unh.edu Date: Thu, 30 Oct 2025 00:28:09 -0700 (PDT) Message-ID: <69031389.050a0220.30d4aa.c083SMTPIN_ADDED_MISSING@mx.google.com> Received: from [172.21.0.2] (unknown [172.18.0.240]) by postal.iol.unh.edu (Postfix) with ESMTP id 5A23D6051830; Thu, 30 Oct 2025 03:28:06 -0400 (EDT) Subject: |SUCCESS| pw158286 [PATCH] net/cnxk: fix port ID default action From: dpdklab@iol.unh.edu To: Test Report Cc: dpdk-test-reports@iol.unh.edu In-Reply-To: <20251030034404.4187369-1-psatheesh@marvell.com> References: <20251030034404.4187369-1-psatheesh@marvell.com> Content-Type: text/plain X-BeenThere: test-report@dpdk.org X-Mailman-Version: 2.1.29 Precedence: list List-Id: automatic DPDK test reports List-Unsubscribe: , List-Archive: List-Post: List-Help: List-Subscribe: , Errors-To: test-report-bounces@dpdk.org Test-Label: iol-unit-amd64-testing Test-Status: SUCCESS http://dpdk.org/patch/158286 _Testing PASS_ Submitter: Satheesh Paul Antonysamy Date: Thursday, October 30 2025 03:44:03 DPDK git baseline: Repo:dpdk-next-net-mrvl Branch: master CommitID:39b54f2dcf44ad1f91eabc7080cd5dea763607fd 158286 --> testing pass Upstream job id: Generic-Unit-Test-DPDK#387017 Test environment and result as below: +-------------------------------+----------------+ | Environment | dpdk_unit_test | +===============================+================+ | CentOS Stream 9 | PASS | +-------------------------------+----------------+ | CentOS Stream 10 | PASS | +-------------------------------+----------------+ | Fedora Linux 40 | PASS | +-------------------------------+----------------+ | Fedora Linux 41 | PASS | +-------------------------------+----------------+ | Debian GNU/Linux 12 | PASS | +-------------------------------+----------------+ | Fedora Linux 42 | PASS | +-------------------------------+----------------+ | Red Hat Enterprise Linux 8.10 | PASS | +-------------------------------+----------------+ | Red Hat Enterprise Linux 9.5 | PASS | +-------------------------------+----------------+ | Ubuntu 20.04 | PASS | +-------------------------------+----------------+ | Ubuntu 24.04 | PASS | +-------------------------------+----------------+ | Ubuntu 22.04 | PASS | +-------------------------------+----------------+ | Windows Server 2022 | PASS | +-------------------------------+----------------+ CentOS Stream 9 Kernel: 5.15 Compiler: gcc gcc (GCC) 11.5.0 20240719 (Red Hat 11.5.0-11) CentOS Stream 10 Kernel: 5.15 Compiler: gcc gcc (GCC) 14.2.1 20250110 (Red Hat 14.2.1-8) Fedora Linux 40 Kernel: 5.15 Compiler: clang gcc (GCC) 14.2.1 20240912 (Red Hat 14.2.1-3) Fedora Linux 41 Kernel: 5.15 Compiler: gcc gcc (GCC) 14.3.1 20250523 (Red Hat 14.3.1-1) Debian GNU/Linux 12 Kernel: 5.15 Compiler: gcc gcc (Debian 12.2.0-14+deb12u1) 12.2.0 Fedora Linux 42 Kernel: 5.15 Compiler: clang gcc (GCC) 15.2.1 20250808 (Red Hat 15.2.1-1) Red Hat Enterprise Linux 8.10 Kernel: 5.15 Compiler: gcc gcc (GCC) 8.5.0 20210514 (Red Hat 8.5.0-22) Red Hat Enterprise Linux 9.5 Kernel: 5.15 Compiler: gcc gcc (GCC) 11.5.0 20240719 (Red Hat 11.5.0-2) Ubuntu 20.04 Kernel: 5.15 Compiler: gcc gcc (Ubuntu 9.4.0-1ubuntu1~20.04.2) 9.4.0 Ubuntu 24.04 Kernel: 5.15 Compiler: gcc gcc (Ubuntu 13.3.0-6ubuntu2~24.04) 13.3.0 Ubuntu 22.04 Kernel: 5.15 Compiler: gcc gcc (Ubuntu 11.4.0-1ubuntu1~22.04) 11.4.0 Windows Server 2022 Kernel: 10.0.20348.2031 Compiler: clang 15.0.7, gcc 14.1.0 (MinGW), and MSVC VS 19.39.33521 To view detailed results, visit: https://lab.dpdk.org/results/dashboard/patchsets/34423/ UNH-IOL DPDK Community Lab To manage your email subscriptions, visit: https://lab.dpdk.org/results/dashboard/preferences/subscriptions/