From mboxrd@z Thu Jan 1 00:00:00 1970 Return-Path: Received: from mails.dpdk.org (mails.dpdk.org [217.70.189.124]) by inbox.dpdk.org (Postfix) with ESMTP id 3AC1148A08 for ; Thu, 30 Oct 2025 08:51:47 +0100 (CET) Received: from mails.dpdk.org (localhost [127.0.0.1]) by mails.dpdk.org (Postfix) with ESMTP id 308524027A; Thu, 30 Oct 2025 08:51:47 +0100 (CET) Received: from mail-pg1-f228.google.com (mail-pg1-f228.google.com [209.85.215.228]) by mails.dpdk.org (Postfix) with ESMTP id A29C24027A for ; Thu, 30 Oct 2025 08:51:45 +0100 (CET) Received: by mail-pg1-f228.google.com with SMTP id 41be03b00d2f7-b6a73db16efso670168a12.3 for ; Thu, 30 Oct 2025 00:51:45 -0700 (PDT) DKIM-Signature: v=1; a=rsa-sha256; c=relaxed/relaxed; d=iol.unh.edu; s=unh-iol; t=1761810705; x=1762415505; darn=dpdk.org; h=references:in-reply-to:cc:to:from:subject:message-id:date:from:to :cc:subject:date:message-id:reply-to; bh=UdccUCwIFG7+lxBlPCVKz+zie+BY4HQ9T6LEFPi8LcI=; b=UeX9bmFi1Q9UY9wE56G6qRjYbsFBSHMCSwHNK797CZCa8IpdkO5LAe/2eM7oFh/gHC ua2n64Of4m+8pOkQC34BVbS6YmoEu100NDrQo2ZU9v9gSfTILe0EWXDfUq+/JuA1zuMY rNVw6h9YXg+XtIx7GcGLwkY7JmyAmjcLDv5x0= X-Google-DKIM-Signature: v=1; a=rsa-sha256; c=relaxed/relaxed; d=1e100.net; s=20230601; t=1761810705; x=1762415505; h=references:in-reply-to:cc:to:from:subject:message-id:date :x-gm-message-state:from:to:cc:subject:date:message-id:reply-to; bh=UdccUCwIFG7+lxBlPCVKz+zie+BY4HQ9T6LEFPi8LcI=; b=WJRGmLpfuGv2YPzusM9kKJ4x8OOCc6t+vBLM6Jz1cOmf3/7GOaCGk2PQ+EgG33YQip c1UrS4QP8I0zoocJgpFMnIt39e/I7CVBq71I0Q1BIbfwisA2XJs7mfpNPAByEPz8PLAF Crgb7oQpj6VAgkVhkQ9dRPsbsfyOKyXTJDCtjKY5vAr/Lvy63P3VSqRZUv3PV5iv51/f tbR7n5dpixDcC4tIRrF1NSU8WeyDUVitDl2RIWNANkLFAa+LItradpKiQRcn0RJffZQd z5VAPi+c+1nxO29xKNlB+dxCDuugdoeGtZjdQSkezZMEBxxPCSPaTq/8KDH9yIf2wJGN g4xg== X-Gm-Message-State: AOJu0Yw4uUgjScqAGf8QzeSVWjJ2UDIdH7PphjBoPfw1IQWOXlPS/5BO lzXr6d+e5LzOiZDPPc7UMu5q1zHPT5ZuTZAJYnwcdRQPo9QL2HISnaHFdwsEr/aT2FZqaUoIhNU oaToceq0R3ST6ngNIsyqHW/l3YzV1y0cbTI68Xek3IWdEaZkZMQ7OcYFaPYJ5 X-Gm-Gg: ASbGncsPzidHLe88CheVM0xgw7qwnTqfp3oiJu3QTuWXgx99Qzjg42V00P/G23N2ETQ JUUxK8HqyymoGgetv+OiPFlc+DgcgI9JSEZVJWWEdkgASo07vj9M3x9eng/iI4H+nhR8jv58DOa zQ5ijMFM5xeOany9ZczBXPaDe8r1jHBAoaHVDKkLRE/giRfPdKUi03x7jUavQiwIfIHb4ZdIKxa YsUhS0yEkVLaOrGnnZuXBfgu3Z2W14aXP1KH+Vzn28RV+5UEOh+MFHEztINWBeljuc9oMAr6t9Z 82gTrh0MmfytAJ2PyWk4DAbZMvHYY5/zsbaCuGBy2/dlxPDQFIpqSNV6bkMCJ5SWb6EHNzguExX Zx06gjuYS X-Google-Smtp-Source: AGHT+IH76B2Yfco0YV60QpYe4phtJsqjV9LukcOyr+LJ2H6nhXxGcWIeNwCMB6m1PIaRzN2Shk5XSR/7+Bci X-Received: by 2002:a17:903:1b4f:b0:294:9476:494a with SMTP id d9443c01a7336-294def31c13mr66013765ad.56.1761810704761; Thu, 30 Oct 2025 00:51:44 -0700 (PDT) Received: from postal.iol.unh.edu (postal.iol.unh.edu. [2606:4100:3880:1234::84]) by smtp-relay.gmail.com with ESMTPS id 98e67ed59e1d1-3404f197273sm157044a91.0.2025.10.30.00.51.44 (version=TLS1_2 cipher=ECDHE-ECDSA-AES128-GCM-SHA256 bits=128/128); Thu, 30 Oct 2025 00:51:44 -0700 (PDT) X-Relaying-Domain: iol.unh.edu Date: Thu, 30 Oct 2025 00:51:44 -0700 (PDT) Message-ID: <69031910.170a0220.138914.7969SMTPIN_ADDED_MISSING@mx.google.com> Received: from [172.21.0.4] (unknown [172.18.0.240]) by postal.iol.unh.edu (Postfix) with ESMTP id 0DA006051830; Thu, 30 Oct 2025 03:51:44 -0400 (EDT) Subject: |SUCCESS| pw158284 [PATCH] [RFC] ethdev: fix UAF in rte_eth_tx_burst From: dpdklab@iol.unh.edu To: Test Report Cc: dpdk-test-reports@iol.unh.edu, Stephen Hemminger In-Reply-To: <20251029235400.1486861-1-stephen@networkplumber.org> References: <20251029235400.1486861-1-stephen@networkplumber.org> Content-Type: text/plain X-BeenThere: test-report@dpdk.org X-Mailman-Version: 2.1.29 Precedence: list List-Id: automatic DPDK test reports List-Unsubscribe: , List-Archive: List-Post: List-Help: List-Subscribe: , Errors-To: test-report-bounces@dpdk.org Test-Label: iol-compile-arm64-testing Test-Status: SUCCESS http://dpdk.org/patch/158284 _Testing PASS_ Submitter: Stephen Hemminger Date: Wednesday, October 29 2025 23:54:00 DPDK git baseline: Repo:dpdk-next-net Branch: master CommitID:33145656260ac9a87590daab3d6f57aa9e579247 158284 --> testing pass Upstream job id: Generic-DPDK-Compile-Meson#439215 Test environment and result as below: +------------------------------+--------------------+ | Environment | dpdk_meson_compile | +==============================+====================+ | Red Hat Enterprise Linux 9.5 | PASS | +------------------------------+--------------------+ | Ubuntu 20.04 | PASS | +------------------------------+--------------------+ | Debian GNU/Linux 12 | PASS | +------------------------------+--------------------+ | Fedora Linux 42 | PASS | +------------------------------+--------------------+ | Ubuntu 22.04 | PASS | +------------------------------+--------------------+ | Ubuntu 24.04 | PASS | +------------------------------+--------------------+ | CentOS Stream 9 | PASS | +------------------------------+--------------------+ | CentOS Stream 10 | PASS | +------------------------------+--------------------+ Red Hat Enterprise Linux 9.5 Kernel: 5.4 Compiler: gcc gcc (GCC) 11.5.0 20240719 (Red Hat 11.5.0-2) Ubuntu 20.04 Kernel: 5.15 Compiler: aarch64-linux-gnu-gcc gcc (Ubuntu 9.4.0-1ubuntu1~20.04.2) 9.4.0 Debian GNU/Linux 12 Kernel: 5.4 Compiler: gcc gcc (Debian 12.2.0-14+deb12u1) 12.2.0 Fedora Linux 42 Kernel: 5.4 Compiler: gcc gcc (GCC) 15.2.1 20250808 (Red Hat 15.2.1-1) Ubuntu 22.04 Kernel: 5.4 Compiler: gcc gcc (Ubuntu 11.4.0-1ubuntu1~22.04) 11.4.0 Ubuntu 24.04 Kernel: 5.4 Compiler: gcc gcc (Ubuntu 13.3.0-6ubuntu2~24.04) 13.3.0 CentOS Stream 9 Kernel: 5.4 Compiler: gcc gcc (GCC) 11.5.0 20240719 (Red Hat 11.5.0-11) CentOS Stream 10 Kernel: 5.4 Compiler: gcc gcc (GCC) 14.2.1 20250110 (Red Hat 14.2.1-8) To view detailed results, visit: https://lab.dpdk.org/results/dashboard/patchsets/34421/ UNH-IOL DPDK Community Lab To manage your email subscriptions, visit: https://lab.dpdk.org/results/dashboard/preferences/subscriptions/