From mboxrd@z Thu Jan 1 00:00:00 1970 Return-Path: Received: from mails.dpdk.org (mails.dpdk.org [217.70.189.124]) by inbox.dpdk.org (Postfix) with ESMTP id 45C0D48A08 for ; Thu, 30 Oct 2025 08:52:12 +0100 (CET) Received: from mails.dpdk.org (localhost [127.0.0.1]) by mails.dpdk.org (Postfix) with ESMTP id 415DB4027A; Thu, 30 Oct 2025 08:52:12 +0100 (CET) Received: from mail-pf1-f227.google.com (mail-pf1-f227.google.com [209.85.210.227]) by mails.dpdk.org (Postfix) with ESMTP id EE29A4027A for ; Thu, 30 Oct 2025 08:52:10 +0100 (CET) Received: by mail-pf1-f227.google.com with SMTP id d2e1a72fcca58-7a59ec9bef4so1046861b3a.2 for ; Thu, 30 Oct 2025 00:52:10 -0700 (PDT) DKIM-Signature: v=1; a=rsa-sha256; c=relaxed/relaxed; d=iol.unh.edu; s=unh-iol; t=1761810730; x=1762415530; darn=dpdk.org; h=references:in-reply-to:cc:to:from:subject:message-id:date:from:to :cc:subject:date:message-id:reply-to; bh=NonSwDMLI9w/co2hL3da23p9ybNJbSKV4VHCOCZcJwo=; b=jIjm7CqUb768RNvMSbhcPJSHzFTJFRgkQQps878wTa08oBgXKP67C0y9EzihhMlGwf 4CJS8nrkdMMStuuL3nDHZHZlQdKeMAVZKxBZTTU6h307olS+rdzXQXP8G5VEuBK1wirv LD0ZChzlFW8EX16j+lEg2lSgGu9+UFhfD1M/U= X-Google-DKIM-Signature: v=1; a=rsa-sha256; c=relaxed/relaxed; d=1e100.net; s=20230601; t=1761810730; x=1762415530; h=references:in-reply-to:cc:to:from:subject:message-id:date :x-gm-message-state:from:to:cc:subject:date:message-id:reply-to; bh=NonSwDMLI9w/co2hL3da23p9ybNJbSKV4VHCOCZcJwo=; b=TadIUFJMlOCeCWYtHe3hZJsAA/hHhSo6i0DeXknFgltZk+wscNAa7QFoR2ai2T8EZK xEmO3jZzMcLexRhRpc1JMBfxlSsdzK6zuQPGiWzHy5A1tmmpTD8TCUtEjWLOMk1cvY0Y epy7/jzys4c9CU+qFu4+kvDuYd14M+y+7d3JSyH2j5+JnmVQuNpuwq/Wzd59Au0hIeRm vTdt9ckBdOnty7X7A2LTKWgELSVSBiVRx6iRH4eIe7n5H/+G+uB2j/UOjmE3rZhxnLLV uFvKqh0x721QeowreI9L+6pU5zBV6HvElFRN9n5OrEX2mDZHz6VVnZ6FKuGpjuz917tv wBLg== X-Gm-Message-State: AOJu0YzcU88pHyQ+MU2yTIyH7ckJL2FRQ6fs8d8/AVpAu0EWaschUpBB xx19nVQoBcVxYmMnRJ2VqdvaE4fCcrGCUY01ZjIV3hh1obwnbHkyEcOHodGp1TJeGnswnUu+Jkl FS2FsABOj+Up0/TGBC29DtJTblmbk/9QnJ0R5CZmLG6lR X-Gm-Gg: ASbGncvElX+gVIH4ctRllwQE042Js6I6GzKUqc5Eg4/rQdtvKutQekkizFYNRq9OoDP TXHvmhEsnfy6FxzxrY2uN+ztxMvPv71qaq4wBHkXOuR1J+2X2NUiUDrcHo1C4otHKQ+o7njLitm D3uQjp2JQUjjRz5FODx+3ognSwlZWZS1mi7Z3KdTj3pmY7MQsc7qNIDyXMWOTaINQ+OFCwc+FGN E63uwQwBIehEbSPKokC9BCUlGlGIptia4vaT+/FJ0IBtYAV1tPnUW+zZnfBc1AQHMJVPb7wrRgR PAClP6+ggfZD4JVt0QEXuIV1GLoKqHC4V0S8tPYrJisaSEz4+Dyf95kiXqDXWlpGn+QzWHl+MjG CfA9DPCq1Km1kzH8F1Kp+r5X+BRLOT88= X-Google-Smtp-Source: AGHT+IHBay+UrdFm2hXdm7C0l/lv8SlHO2v1OjZN3eUPIhqi546RbGhQmL+d3xO2UzdpAP2dP+pOWbTGOzU+ X-Received: by 2002:a05:6a20:2590:b0:33d:5e7b:2f2b with SMTP id adf61e73a8af0-34659c3521fmr6744951637.44.1761810730066; Thu, 30 Oct 2025 00:52:10 -0700 (PDT) Received: from postal.iol.unh.edu (postal.iol.unh.edu. [132.177.123.84]) by smtp-relay.gmail.com with ESMTPS id 41be03b00d2f7-b712791546bsm1266033a12.2.2025.10.30.00.52.09 (version=TLS1_2 cipher=ECDHE-ECDSA-AES128-GCM-SHA256 bits=128/128); Thu, 30 Oct 2025 00:52:10 -0700 (PDT) X-Relaying-Domain: iol.unh.edu Date: Thu, 30 Oct 2025 00:52:10 -0700 (PDT) Message-ID: <6903192a.050a0220.92aa3.b7b6SMTPIN_ADDED_MISSING@mx.google.com> Received: from [172.21.0.5] (unknown [172.18.0.240]) by postal.iol.unh.edu (Postfix) with ESMTP id 265446051830; Thu, 30 Oct 2025 03:52:09 -0400 (EDT) Subject: |SUCCESS| pw158285 [PATCH] [v1,1/1] net/nbl: fix issues reported by From: dpdklab@iol.unh.edu To: Test Report Cc: dpdk-test-reports@iol.unh.edu, Stephen Hemminger In-Reply-To: <20251030033619.3386064-2-dimon.zhao@nebula-matrix.com> References: <20251030033619.3386064-2-dimon.zhao@nebula-matrix.com> Content-Type: text/plain X-BeenThere: test-report@dpdk.org X-Mailman-Version: 2.1.29 Precedence: list List-Id: automatic DPDK test reports List-Unsubscribe: , List-Archive: List-Post: List-Help: List-Subscribe: , Errors-To: test-report-bounces@dpdk.org Test-Label: iol-compile-arm64-testing Test-Status: SUCCESS http://dpdk.org/patch/158285 _Testing PASS_ Submitter: Dimon Zhao Date: Thursday, October 30 2025 03:36:19 DPDK git baseline: Repo:dpdk-next-net Branch: master CommitID:33145656260ac9a87590daab3d6f57aa9e579247 158285 --> testing pass Upstream job id: Generic-DPDK-Compile-Meson#439234 Test environment and result as below: +------------------------------+--------------------+ | Environment | dpdk_meson_compile | +==============================+====================+ | Red Hat Enterprise Linux 9.5 | PASS | +------------------------------+--------------------+ | Ubuntu 20.04 | PASS | +------------------------------+--------------------+ | Debian GNU/Linux 12 | PASS | +------------------------------+--------------------+ | Fedora Linux 42 | PASS | +------------------------------+--------------------+ | Ubuntu 22.04 | PASS | +------------------------------+--------------------+ | Ubuntu 24.04 | PASS | +------------------------------+--------------------+ | CentOS Stream 10 | PASS | +------------------------------+--------------------+ | CentOS Stream 9 | PASS | +------------------------------+--------------------+ Red Hat Enterprise Linux 9.5 Kernel: 5.4 Compiler: gcc gcc (GCC) 11.5.0 20240719 (Red Hat 11.5.0-2) Ubuntu 20.04 Kernel: 5.15 Compiler: aarch64-linux-gnu-gcc gcc (Ubuntu 9.4.0-1ubuntu1~20.04.2) 9.4.0 Debian GNU/Linux 12 Kernel: 5.4 Compiler: gcc gcc (Debian 12.2.0-14+deb12u1) 12.2.0 Fedora Linux 42 Kernel: 5.4 Compiler: clang gcc (GCC) 15.2.1 20250808 (Red Hat 15.2.1-1) Ubuntu 22.04 Kernel: 5.4 Compiler: gcc gcc (Ubuntu 11.4.0-1ubuntu1~22.04) 11.4.0 Ubuntu 24.04 Kernel: 5.4 Compiler: gcc gcc (Ubuntu 13.3.0-6ubuntu2~24.04) 13.3.0 CentOS Stream 10 Kernel: 5.4 Compiler: gcc gcc (GCC) 14.2.1 20250110 (Red Hat 14.2.1-8) CentOS Stream 9 Kernel: 5.4 Compiler: gcc gcc (GCC) 11.5.0 20240719 (Red Hat 11.5.0-11) To view detailed results, visit: https://lab.dpdk.org/results/dashboard/patchsets/34422/ UNH-IOL DPDK Community Lab To manage your email subscriptions, visit: https://lab.dpdk.org/results/dashboard/preferences/subscriptions/