From mboxrd@z Thu Jan 1 00:00:00 1970 Return-Path: Received: from mails.dpdk.org (mails.dpdk.org [217.70.189.124]) by inbox.dpdk.org (Postfix) with ESMTP id E859F48A08 for ; Thu, 30 Oct 2025 09:10:15 +0100 (CET) Received: from mails.dpdk.org (localhost [127.0.0.1]) by mails.dpdk.org (Postfix) with ESMTP id C75734027A; Thu, 30 Oct 2025 09:10:15 +0100 (CET) Received: from mail-yx1-f99.google.com (mail-yx1-f99.google.com [74.125.224.99]) by mails.dpdk.org (Postfix) with ESMTP id BCC614027A for ; Thu, 30 Oct 2025 09:10:14 +0100 (CET) Received: by mail-yx1-f99.google.com with SMTP id 956f58d0204a3-63e3a7a67a4so962870d50.1 for ; Thu, 30 Oct 2025 01:10:14 -0700 (PDT) DKIM-Signature: v=1; a=rsa-sha256; c=relaxed/relaxed; d=iol.unh.edu; s=unh-iol; t=1761811814; x=1762416614; darn=dpdk.org; h=references:in-reply-to:cc:to:from:subject:message-id:date:from:to :cc:subject:date:message-id:reply-to; bh=6WNAD0+eBYd/cjTJLicEXUQah/kpTFmUrprHpHcwBic=; b=PmUjs1IqN1GfaZpcvfTDGewqdYBONecHW7ydgQTj0TlU7MmFwiNUFbksd5BNeuiEZi E4e43Om7pAQEcwVcKtwSPUXTYn5u5tfQLt3/YQvx57j7GRlLwLL+kgxUbx6k3+ysnm0I GHmIGc/KYtCpRuqVk3Q2spO86f/4oW3dG+h34= X-Google-DKIM-Signature: v=1; a=rsa-sha256; c=relaxed/relaxed; d=1e100.net; s=20230601; t=1761811814; x=1762416614; h=references:in-reply-to:cc:to:from:subject:message-id:date :x-gm-message-state:from:to:cc:subject:date:message-id:reply-to; bh=6WNAD0+eBYd/cjTJLicEXUQah/kpTFmUrprHpHcwBic=; b=MVUhupoLN58AzFIJXoHjogGF0fJV7a1zUtGWS7a8JKVcJk2yuzwDgEh0wBJY2b9kwC eVbCNqUt95pt6JH67zXYwO4duLfY5ih2nx356gP2b6c4hhbAXynVD2P2hFyKeVVNkPXP aaLXfAr2mI1Tcq4txnLzuIqjSwGR9iBg7/7RNgVqIbw/Gvyq10gfXta32U3xxX0v0Rot WnPvWJtSHTQN5u7AZPqCZxsTQ12OInIxF9wEq853FUmCRYWnZQBxCedQ4YBLONzJdI8C OWWHlwoJyMm45Yl+gcs2Btdfbdq4QPCrQgV74n8mFbE438gSejRjH+PdJ8IYt9LEq0U6 uFjg== X-Gm-Message-State: AOJu0YzKthQbm6nZdOVTpdBqGTA22PsUNHdKF4STaIaEVASTcTw2UMzR TXK3wZq5wsmXTiBOlMELsaEuuC7IdXaRPmEDDJ56PATWEedCi2VTO3kaRZYqr42unJLXVRk4twu XgjvPMQ6Vuk4nG56qdjJg2RU4U70IMuwWygQHQN+pf9b8 X-Gm-Gg: ASbGncurEVwGDz+tYfaTRzMTS+twib0vnuyLLbd5o3I3Cc1r3eSEEju8AJ4EQD4zb3e A/1TdS5nCJd1qs4MLK6WfTPoV81g5OtW2MS7d2kqYS67+RRUe13zMUfvUl4erd9iMKnWzdsfHdx S8rTm31og/i1I5RcFoWcFNdIg3wzWLUdXtyZ/Q7z9wWP5giS7yTaJ2bX8H6R/V6nlSjrh6CnN03 h41cKPkbu8+fQRCviqA5DVmTEOm2NOuegZ+QJB3Pl6o+l95rmgFhNRK2hd3gPxa8JVqavH1nipj txaQcajoL56GoFlOuDcjR2uLz0o3gBgswh6ZvX+x58XsG8sKVXgpMK1iKNPb0E3rZ4QNuWzbHB9 Ncp1JI3dTJTL9oLy/kcv9YrnAQCtRNWk= X-Google-Smtp-Source: AGHT+IEDuDYp9T6CRK1hDURjMlWsJE2GT65r+jH8CGVaSbaHI/SjSWzZ40AjFmATr8bsBQiZf6abPrtFstOp X-Received: by 2002:a05:690c:490b:b0:784:8153:c604 with SMTP id 00721157ae682-78628eab862mr46543487b3.31.1761811814078; Thu, 30 Oct 2025 01:10:14 -0700 (PDT) Received: from postal.iol.unh.edu (postal.iol.unh.edu. [132.177.123.84]) by smtp-relay.gmail.com with ESMTPS id 00721157ae682-7863582761asm2077077b3.9.2025.10.30.01.10.14 (version=TLS1_2 cipher=ECDHE-ECDSA-AES128-GCM-SHA256 bits=128/128); Thu, 30 Oct 2025 01:10:14 -0700 (PDT) X-Relaying-Domain: iol.unh.edu Date: Thu, 30 Oct 2025 01:10:14 -0700 (PDT) Message-ID: <69031d66.050a0220.1a0f92.9f87SMTPIN_ADDED_MISSING@mx.google.com> Received: from [172.21.0.4] (unknown [172.18.0.240]) by postal.iol.unh.edu (Postfix) with ESMTP id C82346051830; Thu, 30 Oct 2025 04:10:13 -0400 (EDT) Subject: |WARNING| pw158287-158289 [PATCH] [v2,3/3] doc: update TxPP document From: dpdklab@iol.unh.edu To: Test Report Cc: dpdk-test-reports@iol.unh.edu, Bruce Richardson In-Reply-To: <20251030173304.260209-4-soumyadeep.hore@intel.com> References: <20251030173304.260209-4-soumyadeep.hore@intel.com> Content-Type: text/plain X-BeenThere: test-report@dpdk.org X-Mailman-Version: 2.1.29 Precedence: list List-Id: automatic DPDK test reports List-Unsubscribe: , List-Archive: List-Post: List-Help: List-Subscribe: , Errors-To: test-report-bounces@dpdk.org Test-Label: iol-compile-amd64-testing Test-Status: WARNING http://dpdk.org/patch/158289 _Testing issues_ Submitter: Soumyadeep Hore Date: Thursday, October 30 2025 17:33:04 DPDK git baseline: Repo:dpdk-next-net-intel Branch: master CommitID:6b997d6b9ffdbb4f8ecd14d1f217da69cdc783af 158287-158289 --> testing issues Upstream job id: Generic-DPDK-Compile-Meson#439344 Test environment and result as below: +-------------------------------+--------------------+-------------------+-------------------------+----------------------+-------------------+------------------+ | Environment | dpdk_meson_compile | dpdk_msvc_compile | dpdk_llvm_clang_compile | dpdk_mingw64_compile | dpdk_compile_spdk | dpdk_compile_ovs | +===============================+====================+===================+=========================+======================+===================+==================+ | Ubuntu 20.04 | PEND | SKIPPED | SKIPPED | SKIPPED | SKIPPED | SKIPPED | +-------------------------------+--------------------+-------------------+-------------------------+----------------------+-------------------+------------------+ | FreeBSD 14.2 | PASS | SKIPPED | SKIPPED | SKIPPED | SKIPPED | SKIPPED | +-------------------------------+--------------------+-------------------+-------------------------+----------------------+-------------------+------------------+ | CentOS Stream 9 | PASS | SKIPPED | SKIPPED | SKIPPED | WARN | SKIPPED | +-------------------------------+--------------------+-------------------+-------------------------+----------------------+-------------------+------------------+ | CentOS Stream 10 | PEND | SKIPPED | SKIPPED | SKIPPED | SKIPPED | SKIPPED | +-------------------------------+--------------------+-------------------+-------------------------+----------------------+-------------------+------------------+ | Debian GNU/Linux 12 | PEND | SKIPPED | SKIPPED | SKIPPED | PEND | SKIPPED | +-------------------------------+--------------------+-------------------+-------------------------+----------------------+-------------------+------------------+ | Fedora Linux 42 | PEND | SKIPPED | SKIPPED | SKIPPED | PEND | PEND | +-------------------------------+--------------------+-------------------+-------------------------+----------------------+-------------------+------------------+ | openSUSE Leap 15.6 | PEND | SKIPPED | SKIPPED | SKIPPED | SKIPPED | SKIPPED | +-------------------------------+--------------------+-------------------+-------------------------+----------------------+-------------------+------------------+ | Red Hat Enterprise Linux 8.10 | PEND | SKIPPED | SKIPPED | SKIPPED | SKIPPED | SKIPPED | +-------------------------------+--------------------+-------------------+-------------------------+----------------------+-------------------+------------------+ | Red Hat Enterprise Linux 9.5 | PEND | SKIPPED | SKIPPED | SKIPPED | SKIPPED | SKIPPED | +-------------------------------+--------------------+-------------------+-------------------------+----------------------+-------------------+------------------+ | Windows Server 2022 | SKIPPED | PASS | PASS | PASS | SKIPPED | SKIPPED | +-------------------------------+--------------------+-------------------+-------------------------+----------------------+-------------------+------------------+ ==== 20 line log output for CentOS Stream 9 (dpdk_compile_spdk): ==== --- Failed to get log output --- ==== End log output ==== Ubuntu 20.04 Kernel: 4.19 Compiler: gcc gcc (Ubuntu 9.4.0-1ubuntu1~20.04.2) 9.4.0 FreeBSD 14.2 Kernel: 14.2-RELEASE Compiler: clang 18.1.6 CentOS Stream 9 Kernel: 5.15 Compiler: gcc gcc (GCC) 11.5.0 20240719 (Red Hat 11.5.0-11) CentOS Stream 10 Kernel: 5.15 Compiler: gcc gcc (GCC) 14.2.1 20250110 (Red Hat 14.2.1-8) Debian GNU/Linux 12 Kernel: 5.15 Compiler: gcc gcc (Debian 12.2.0-14+deb12u1) 12.2.0 Fedora Linux 42 Kernel: 5.15 Compiler: clang gcc (GCC) 15.2.1 20250808 (Red Hat 15.2.1-1) openSUSE Leap 15.6 Kernel: 5.15 Compiler: gcc gcc (SUSE Linux) 7.5.0 Red Hat Enterprise Linux 8.10 Kernel: 5.15 Compiler: gcc gcc (GCC) 8.5.0 20210514 (Red Hat 8.5.0-22) Red Hat Enterprise Linux 9.5 Kernel: 5.15 Compiler: gcc gcc (GCC) 11.5.0 20240719 (Red Hat 11.5.0-2) Windows Server 2022 Kernel: 10.0.20348.2031 Compiler: clang 15.0.7, gcc 14.1.0 (MinGW), and MSVC VS 19.39.33521 To view detailed results, visit: https://lab.dpdk.org/results/dashboard/patchsets/34424/ UNH-IOL DPDK Community Lab To manage your email subscriptions, visit: https://lab.dpdk.org/results/dashboard/preferences/subscriptions/