From mboxrd@z Thu Jan 1 00:00:00 1970 Return-Path: Received: from mails.dpdk.org (mails.dpdk.org [217.70.189.124]) by inbox.dpdk.org (Postfix) with ESMTP id 377CB48A08 for ; Thu, 30 Oct 2025 09:13:50 +0100 (CET) Received: from mails.dpdk.org (localhost [127.0.0.1]) by mails.dpdk.org (Postfix) with ESMTP id 262914027A; Thu, 30 Oct 2025 09:13:50 +0100 (CET) Received: from mail-qv1-f98.google.com (mail-qv1-f98.google.com [209.85.219.98]) by mails.dpdk.org (Postfix) with ESMTP id 057D34027A for ; Thu, 30 Oct 2025 09:13:49 +0100 (CET) Received: by mail-qv1-f98.google.com with SMTP id 6a1803df08f44-7f7835f4478so6734926d6.1 for ; Thu, 30 Oct 2025 01:13:48 -0700 (PDT) DKIM-Signature: v=1; a=rsa-sha256; c=relaxed/relaxed; d=iol.unh.edu; s=unh-iol; t=1761812028; x=1762416828; darn=dpdk.org; h=references:in-reply-to:cc:to:from:subject:message-id:date:from:to :cc:subject:date:message-id:reply-to; bh=XbGD+wCtflBZ+yRn+0BFtzgL3JU/9MHJYQn9yIbgQJ4=; b=jptAUeynT1WIfkdBhxHrmYiKFudqHP2JIEJxaLgC5s5Rud8B0HlNCC8rL1rcfYTtP0 /D/XRiKNDvMzJucJ8naVG4BxL8ewlhI9P9t40z1g19G5MUePhmXj8X+ejNJQS93tUUpR XJINRXUz8HbimvLjwSGCoxpnmgvN9naxRsSZs= X-Google-DKIM-Signature: v=1; a=rsa-sha256; c=relaxed/relaxed; d=1e100.net; s=20230601; t=1761812028; x=1762416828; h=references:in-reply-to:cc:to:from:subject:message-id:date :x-gm-message-state:from:to:cc:subject:date:message-id:reply-to; bh=XbGD+wCtflBZ+yRn+0BFtzgL3JU/9MHJYQn9yIbgQJ4=; b=f3CmsWtQ21oHzAEV93u29Q6XKDIJPbGpCLtQEAVsfsUW/4EoubFqY1NAH/pxYY29rZ 31MCH2kSIlKkccLrUysceFqABqVRSUa4819KG0BeyOu/F83t1tr674SecV7o6W2eKnPG lMrrPHB1z3calr4ztWKQAdDpSGSYTLe6ym7D7AEOQ0sRYt8rTglPQwV99KjThsyW7kOE N1DLtySxxzRA2bIUGn5RQHZ7eJ1bpQZb8wWEu7rvGV8twzUnQvo9j1NLTf7/+VVkZvaE zInLIFnQ3Caan0wqeCc9ydzMuOIaeo6hjnYLCrwMcBpmzlU2Cdwp/6MXz3m1Kj6cynyO XBHA== X-Gm-Message-State: AOJu0Ywg3GADa3SGgjTNJ/ivFvtT4JSENMFju7qS68OD8+UkO8yHu+cH HL5i2AkIekTiNZCSadrJ+oct+T/pNdgJjiHIaHnHP+ppeZzjBtXFt6sUkXtX2d7/QoETUmcTE27 zSbO8GdkUsRuSblvIU8nhcISfsrZeKAWgPRONnyWo0nbeuIBM7S91pASVeoXu X-Gm-Gg: ASbGncsPMrEr7dggKujM2iqkvRe077Pfgd9dC4DBJ8xVOXU6mNgUVqULTLl8K+C7FqT 1PdVNo5juLMj17ieFDmCerWB7dLj7eBgFEy/0TdkyPSFIlR+n4C8ZnnjwPx8hvfTpHpBz9u7IBM Kh90Yyyk7UzuBl63CAMwS8TXg8PJYFbBZB3Ukv6Nh9LUXsJU5Xh+QpQK73J4dlNddG4++GeoVDw JskGX/tEoMxbE3Lnlykevpr3pde2bwtI/WJ3tZDiRrZSMgYVHsHyHhGXmmoKhKAAfjKYd3TaMgB ZTzlL9pbHWJkTSeB/NhViqe8ggBl1qN/5WNVianLSVuQ2v4Fmcx0K1b6PGtWBKQBsWMGsc7ObOc bIAdKQQAn X-Google-Smtp-Source: AGHT+IGUAVzKdvCxtqfP5PUA6TR/31A8YBxl5WkCWMyfC0F0uzeSk4e36NHHBQqYf2rmrAx2kQ1ABn+q7XeB X-Received: by 2002:a05:6214:487:b0:775:1d3:d07f with SMTP id 6a1803df08f44-8801b0c5fbemr28715306d6.11.1761812028311; Thu, 30 Oct 2025 01:13:48 -0700 (PDT) Received: from postal.iol.unh.edu (postal.iol.unh.edu. [2606:4100:3880:1234::84]) by smtp-relay.gmail.com with ESMTPS id 6a1803df08f44-87fc48f8526sm16302866d6.9.2025.10.30.01.13.48 (version=TLS1_2 cipher=ECDHE-ECDSA-AES128-GCM-SHA256 bits=128/128); Thu, 30 Oct 2025 01:13:48 -0700 (PDT) X-Relaying-Domain: iol.unh.edu Date: Thu, 30 Oct 2025 01:13:48 -0700 (PDT) Message-ID: <69031e3c.050a0220.3152c7.dbb4SMTPIN_ADDED_MISSING@mx.google.com> Received: from [172.21.0.4] (unknown [172.18.0.240]) by postal.iol.unh.edu (Postfix) with ESMTP id 122C26051830; Thu, 30 Oct 2025 04:13:48 -0400 (EDT) Subject: |SUCCESS| pw158287-158289 [PATCH] [v2,3/3] doc: update TxPP document From: dpdklab@iol.unh.edu To: Test Report Cc: dpdk-test-reports@iol.unh.edu, Bruce Richardson In-Reply-To: <20251030173304.260209-4-soumyadeep.hore@intel.com> References: <20251030173304.260209-4-soumyadeep.hore@intel.com> Content-Type: text/plain X-BeenThere: test-report@dpdk.org X-Mailman-Version: 2.1.29 Precedence: list List-Id: automatic DPDK test reports List-Unsubscribe: , List-Archive: List-Post: List-Help: List-Subscribe: , Errors-To: test-report-bounces@dpdk.org Test-Label: iol-unit-amd64-testing Test-Status: SUCCESS http://dpdk.org/patch/158289 _Testing PASS_ Submitter: Soumyadeep Hore Date: Thursday, October 30 2025 17:33:04 DPDK git baseline: Repo:dpdk-next-net-intel Branch: master CommitID:6b997d6b9ffdbb4f8ecd14d1f217da69cdc783af 158287-158289 --> testing pass Upstream job id: Generic-Unit-Test-DPDK#387043 Test environment and result as below: +-------------------------------+----------------+ | Environment | dpdk_unit_test | +===============================+================+ | CentOS Stream 9 | PASS | +-------------------------------+----------------+ | Debian GNU/Linux 12 | PASS | +-------------------------------+----------------+ | CentOS Stream 10 | PASS | +-------------------------------+----------------+ | Fedora Linux 40 | PASS | +-------------------------------+----------------+ | Fedora Linux 41 | PASS | +-------------------------------+----------------+ | Red Hat Enterprise Linux 8.10 | PASS | +-------------------------------+----------------+ | Fedora Linux 42 | PASS | +-------------------------------+----------------+ | Ubuntu 22.04 | PASS | +-------------------------------+----------------+ | Red Hat Enterprise Linux 9.5 | PASS | +-------------------------------+----------------+ | Ubuntu 20.04 | PASS | +-------------------------------+----------------+ | Ubuntu 24.04 | PASS | +-------------------------------+----------------+ | Windows Server 2022 | PASS | +-------------------------------+----------------+ CentOS Stream 9 Kernel: 5.15 Compiler: gcc gcc (GCC) 11.5.0 20240719 (Red Hat 11.5.0-11) Debian GNU/Linux 12 Kernel: 5.15 Compiler: gcc gcc (Debian 12.2.0-14+deb12u1) 12.2.0 CentOS Stream 10 Kernel: 5.15 Compiler: gcc gcc (GCC) 14.2.1 20250110 (Red Hat 14.2.1-8) Fedora Linux 40 Kernel: 5.15 Compiler: gcc gcc (GCC) 14.2.1 20240912 (Red Hat 14.2.1-3) Fedora Linux 41 Kernel: 5.15 Compiler: gcc gcc (GCC) 14.3.1 20250523 (Red Hat 14.3.1-1) Red Hat Enterprise Linux 8.10 Kernel: 5.15 Compiler: gcc gcc (GCC) 8.5.0 20210514 (Red Hat 8.5.0-22) Fedora Linux 42 Kernel: 5.15 Compiler: gcc gcc (GCC) 15.2.1 20250808 (Red Hat 15.2.1-1) Ubuntu 22.04 Kernel: 5.15 Compiler: gcc gcc (Ubuntu 11.4.0-1ubuntu1~22.04) 11.4.0 Red Hat Enterprise Linux 9.5 Kernel: 5.15 Compiler: gcc gcc (GCC) 11.5.0 20240719 (Red Hat 11.5.0-2) Ubuntu 20.04 Kernel: 5.15 Compiler: gcc gcc (Ubuntu 9.4.0-1ubuntu1~20.04.2) 9.4.0 Ubuntu 24.04 Kernel: 5.15 Compiler: gcc gcc (Ubuntu 13.3.0-6ubuntu2~24.04) 13.3.0 Windows Server 2022 Kernel: 10.0.20348.2031 Compiler: clang 15.0.7, gcc 14.1.0 (MinGW), and MSVC VS 19.39.33521 To view detailed results, visit: https://lab.dpdk.org/results/dashboard/patchsets/34424/ UNH-IOL DPDK Community Lab To manage your email subscriptions, visit: https://lab.dpdk.org/results/dashboard/preferences/subscriptions/