From: dpdklab@iol.unh.edu
To: Test Report <test-report@dpdk.org>
Cc: dpdk-test-reports@iol.unh.edu,
Bruce Richardson <bruce.richardson@intel.com>
Subject: |WARNING| pw158287-158289 [PATCH] [v2,3/3] doc: update TxPP document
Date: Thu, 30 Oct 2025 01:28:34 -0700 (PDT) [thread overview]
Message-ID: <690321b2.170a0220.1efd50.615bSMTPIN_ADDED_MISSING@mx.google.com> (raw)
In-Reply-To: <20251030173304.260209-4-soumyadeep.hore@intel.com>
Test-Label: iol-sample-apps-testing
Test-Status: WARNING
http://dpdk.org/patch/158289
_Testing issues_
Submitter: Soumyadeep Hore <soumyadeep.hore@intel.com>
Date: Thursday, October 30 2025 17:33:04
DPDK git baseline: Repo:dpdk-next-net-intel
Branch: master
CommitID:6b997d6b9ffdbb4f8ecd14d1f217da69cdc783af
158287-158289 --> testing issues
Upstream job id: Template-DTS-Pipeline#252147
Test environment and result as below:
+--------------+----------------------+----------------------+
| Environment | compressdev_zlib_pmd | dpdk_fips_validation |
+==============+======================+======================+
| Ubuntu 22.04 | PASS | SKIPPED |
+--------------+----------------------+----------------------+
| Ubuntu 20.04 | SKIPPED | WARN |
+--------------+----------------------+----------------------+
==== 20 line log output for Ubuntu 20.04 (dpdk_fips_validation): ====
Traceback (most recent call last):
File "/dpdk-ci/tools/acvp/acvp_tool.py", line 368, in <module>
main(
File "/dpdk-ci/tools/acvp/acvp_tool.py", line 314, in main
with open(response_path, 'r') as upload_file:
FileNotFoundError: [Errno 2] No such file or directory: '/root/workspace/ACVP-FIPS-testing/out/hmac-sha-1-answers.rsp'
INFO:root:Using response file...
Traceback (most recent call last):
File "/dpdk-ci/tools/acvp/acvp_tool.py", line 368, in <module>
main(
File "/dpdk-ci/tools/acvp/acvp_tool.py", line 314, in main
with open(response_path, 'r') as upload_file:
FileNotFoundError: [Errno 2] No such file or directory: '/root/workspace/ACVP-FIPS-testing/out/acvp-tdes-cbc-answers.rsp'
INFO:root:Using response file...
Traceback (most recent call last):
File "/dpdk-ci/tools/acvp/acvp_tool.py", line 368, in <module>
main(
File "/dpdk-ci/tools/acvp/acvp_tool.py", line 314, in main
with open(response_path, 'r') as upload_file:
FileNotFoundError: [Errno 2] No such file or directory: '/root/workspace/ACVP-FIPS-testing/out/acvp-aes-ctr-answers.rsp'
==== End log output ====
Ubuntu 22.04
Kernel: 5.15
Compiler: gcc gcc (Ubuntu 11.4.0-1ubuntu1~22.04.2) 11.4.0
Ubuntu 20.04
Kernel: 5.15
Compiler: gcc gcc (Ubuntu 9.4.0-1ubuntu1~20.04.2) 9.4.0
To view detailed results, visit:
https://lab.dpdk.org/results/dashboard/patchsets/34424/
UNH-IOL DPDK Community Lab
To manage your email subscriptions, visit:
https://lab.dpdk.org/results/dashboard/preferences/subscriptions/
next prev parent reply other threads:[~2025-10-30 8:28 UTC|newest]
Thread overview: 27+ messages / expand[flat|nested] mbox.gz Atom feed top
[not found] <20251030173304.260209-4-soumyadeep.hore@intel.com>
2025-10-30 4:19 ` |SUCCESS| pw158287-158289 [PATCH v2 3/3] doc: update TxPP documentation qemudev
2025-10-30 4:24 ` qemudev
2025-10-30 4:54 ` |SUCCESS| pw158289 " checkpatch
2025-10-30 5:21 ` |PENDING| pw158287-158289 [PATCH] [v2,3/3] doc: update TxPP document dpdklab
2025-10-30 5:25 ` |SUCCESS| " dpdklab
2025-10-30 5:28 ` dpdklab
2025-10-30 5:29 ` dpdklab
2025-10-30 5:33 ` dpdklab
2025-10-30 5:56 ` dpdklab
2025-10-30 6:13 ` dpdklab
2025-10-30 6:22 ` |SUCCESS| pw158289 [PATCH v2 3/3] doc: update TxPP documentation 0-day Robot
2025-10-30 6:22 ` 0-day Robot
2025-10-30 6:28 ` |SUCCESS| pw158287-158289 [PATCH] [v2,3/3] doc: update TxPP document dpdklab
2025-10-30 6:30 ` |PENDING| " dpdklab
2025-10-30 6:32 ` |SUCCESS| " dpdklab
2025-10-30 6:53 ` dpdklab
2025-10-30 6:55 ` |WARNING| " dpdklab
2025-10-30 6:56 ` |SUCCESS| " dpdklab
2025-10-30 7:15 ` |PENDING| " dpdklab
2025-10-30 8:10 ` |WARNING| " dpdklab
2025-10-30 8:13 ` |SUCCESS| " dpdklab
2025-10-30 8:23 ` |PENDING| " dpdklab
2025-10-30 8:28 ` dpdklab [this message]
2025-10-30 8:41 ` |WARNING| " dpdklab
2025-10-30 8:41 ` |SUCCESS| " dpdklab
2025-10-30 8:48 ` dpdklab
2025-10-30 16:17 ` dpdklab
Reply instructions:
You may reply publicly to this message via plain-text email
using any one of the following methods:
* Save the following mbox file, import it into your mail client,
and reply-to-all from there: mbox
Avoid top-posting and favor interleaved quoting:
https://en.wikipedia.org/wiki/Posting_style#Interleaved_style
* Reply using the --to, --cc, and --in-reply-to
switches of git-send-email(1):
git send-email \
--in-reply-to=690321b2.170a0220.1efd50.615bSMTPIN_ADDED_MISSING@mx.google.com \
--to=dpdklab@iol.unh.edu \
--cc=bruce.richardson@intel.com \
--cc=dpdk-test-reports@iol.unh.edu \
--cc=test-report@dpdk.org \
/path/to/YOUR_REPLY
https://kernel.org/pub/software/scm/git/docs/git-send-email.html
* If your mail client supports setting the In-Reply-To header
via mailto: links, try the mailto: link
Be sure your reply has a Subject: header at the top and a blank line
before the message body.
This is a public inbox, see mirroring instructions
for how to clone and mirror all data and code used for this inbox;
as well as URLs for NNTP newsgroup(s).