From mboxrd@z Thu Jan 1 00:00:00 1970 Return-Path: Received: from mails.dpdk.org (mails.dpdk.org [217.70.189.124]) by inbox.dpdk.org (Postfix) with ESMTP id 96EC148A08 for ; Thu, 30 Oct 2025 09:39:54 +0100 (CET) Received: from mails.dpdk.org (localhost [127.0.0.1]) by mails.dpdk.org (Postfix) with ESMTP id 92F674027A; Thu, 30 Oct 2025 09:39:54 +0100 (CET) Received: from mail-io1-f99.google.com (mail-io1-f99.google.com [209.85.166.99]) by mails.dpdk.org (Postfix) with ESMTP id 0F02B4027A for ; Thu, 30 Oct 2025 09:39:53 +0100 (CET) Received: by mail-io1-f99.google.com with SMTP id ca18e2360f4ac-945a2c8e52cso33665239f.3 for ; Thu, 30 Oct 2025 01:39:52 -0700 (PDT) DKIM-Signature: v=1; a=rsa-sha256; c=relaxed/relaxed; d=iol.unh.edu; s=unh-iol; t=1761813592; x=1762418392; darn=dpdk.org; h=references:in-reply-to:cc:to:from:subject:message-id:date:from:to :cc:subject:date:message-id:reply-to; bh=nyWbakv3NGVfUh2l0LQIaTjt7d++NN3vt5FXKWoN4Mc=; b=QSNSuRe3iyIBlSw9mXyezMH6+5NcuhMPamGbL5c3UXyNatHvg7srW78KI7qgvXW8LI /4DKhFW5U2iDkXH+sglWpIJzB3CD9A5A7pP0ujI9AC8JE8FHnu9aLdBBoMuIyx7dCiPr 3V2LAy5Uvj7hh64wZSh94JpoGoQ5w0+WrB3tc= X-Google-DKIM-Signature: v=1; a=rsa-sha256; c=relaxed/relaxed; d=1e100.net; s=20230601; t=1761813592; x=1762418392; h=references:in-reply-to:cc:to:from:subject:message-id:date :x-gm-message-state:from:to:cc:subject:date:message-id:reply-to; bh=nyWbakv3NGVfUh2l0LQIaTjt7d++NN3vt5FXKWoN4Mc=; b=YvO35dOuoVLOPxOyuX/mqf726e3h8y4VG5VQfa7vKMeIdXPsGC9kIWybG17lsWtNjl 2XlM17UWhSzK/OkJ3rQCwb8aT2gsgQT9y804Osd3DfStqUaGYYa9y04qZdUfrmM19WaG n3H2bfOkUuU+9GvEhpxMEziIqRo5Ftl2yL9KntV8PmI/UqxRt/T542TRLU/ckrcdAXJy WmdrXXyqKQXNAHFa/REXn9JiMOG1YmQyqybLY/5MZCiXkXTYauDH8lsOfXcE4ZXDB8lw R2DhP5Yr+CE8WsBWu0p/eyWbunMDjTp0mSZf+vH4KPlNgQRw0R7LaG/+g6esf5D3MWQD d2xQ== X-Gm-Message-State: AOJu0YxmfOcdd9owvpPX8EZ1ZW2F8z59YbdfjRSmnb6MCo2BN+yPZE8h K4nuUurPn2qGFFJx4iLSzFzsnl0PjOPCvKCX0OzyIs32j2pYW19KT8H90dpKijunDg5bXhemaRp 3gf/f7imnyQKRc+E6vtWADcl2TlQCBP08DEFJ8AyXKxbe X-Gm-Gg: ASbGnctjzsmGpChKXx6hgW3Ed8L/mlr6g6K+u90b0ObdnS9dvEFnb5XosFQCq9Hmqdt xddLhQEWWCiNV2pBsogLXsJ1nXjkv0EIukfhPIGyk0c/5W/XBQX1rfwC4gArV5zOVAD8KQBE4EG UT3x4uXTGTWI0ZkskEW3jgI2CAjA/gLWgQMVKTxz3t+8tlPoTgHJjizmFkrpVOZx8xJtp4uZsOZ Bw4w3OKsQ8/Utx/5NXa0o5Pjzz6VHfNsM8Edi3sw6MK5JhWAOWXGbQVhuW8nycWCkymdoZuZhVF l39kx80t4g9WRbaM7dmUOprR3w+gVsbqyDhprsrkBbtJkzgSIwfqmi2ysKl8CwX/fEAnuk4APVs Gvz1/2xdSvhxUjWt/ASJI/ti65GvxpSg= X-Google-Smtp-Source: AGHT+IGVAL/+yW7dCzlYG4ekhxnRwDYlCXBePRSCJtaaxYpz/vneGrIJ3615i7LpqW2fL6Ao+/uvy2oKhMlu X-Received: by 2002:a05:6e02:3982:b0:42d:84b3:ac43 with SMTP id e9e14a558f8ab-432f8f99cdemr82370085ab.2.1761813592213; Thu, 30 Oct 2025 01:39:52 -0700 (PDT) Received: from postal.iol.unh.edu (postal.iol.unh.edu. [132.177.123.84]) by smtp-relay.gmail.com with ESMTPS id 8926c6da1cb9f-5aea9e331c3sm1194954173.32.2025.10.30.01.39.52 (version=TLS1_2 cipher=ECDHE-ECDSA-AES128-GCM-SHA256 bits=128/128); Thu, 30 Oct 2025 01:39:52 -0700 (PDT) X-Relaying-Domain: iol.unh.edu Date: Thu, 30 Oct 2025 01:39:52 -0700 (PDT) Message-ID: <69032458.050a0220.148469.7441SMTPIN_ADDED_MISSING@mx.google.com> Received: from [172.21.0.3] (unknown [172.18.0.240]) by postal.iol.unh.edu (Postfix) with ESMTP id D30DF6051830; Thu, 30 Oct 2025 04:39:51 -0400 (EDT) Subject: |SUCCESS| pw158206 [PATCH] bitmap: change return value of rte_bitmap From: dpdklab@iol.unh.edu To: Test Report Cc: dpdk-test-reports@iol.unh.edu In-Reply-To: <20251028204432.880074-1-stephen@networkplumber.org> References: <20251028204432.880074-1-stephen@networkplumber.org> Content-Type: text/plain X-BeenThere: test-report@dpdk.org X-Mailman-Version: 2.1.29 Precedence: list List-Id: automatic DPDK test reports List-Unsubscribe: , List-Archive: List-Post: List-Help: List-Subscribe: , Errors-To: test-report-bounces@dpdk.org Test-Label: iol-unit-arm64-testing Test-Status: SUCCESS http://dpdk.org/patch/158206 _Testing PASS_ Submitter: Stephen Hemminger Date: Tuesday, October 28 2025 20:44:32 DPDK git baseline: Repo:dpdk Branch: master CommitID:39b54f2dcf44ad1f91eabc7080cd5dea763607fd 158206 --> testing pass Upstream job id: Generic-Unit-Test-DPDK#386675 Test environment and result as below: +------------------------------+---------------------------+------------------------------+--------------+----------------+ | Environment | cryptodev_sw_zuc_autotest | cryptodev_sw_snow3g_autotest | lpm_autotest | dpdk_unit_test | +==============================+===========================+==============================+==============+================+ | Debian 12 (arm) | PASS | PASS | SKIPPED | SKIPPED | +------------------------------+---------------------------+------------------------------+--------------+----------------+ | Ubuntu 20.04 | SKIPPED | SKIPPED | PASS | PASS | +------------------------------+---------------------------+------------------------------+--------------+----------------+ | Ubuntu 22.04 | SKIPPED | SKIPPED | SKIPPED | PASS | +------------------------------+---------------------------+------------------------------+--------------+----------------+ | Fedora Linux 40 | SKIPPED | SKIPPED | SKIPPED | PASS | +------------------------------+---------------------------+------------------------------+--------------+----------------+ | CentOS Stream 9 | SKIPPED | SKIPPED | SKIPPED | PASS | +------------------------------+---------------------------+------------------------------+--------------+----------------+ | CentOS Stream 10 | SKIPPED | SKIPPED | SKIPPED | PASS | +------------------------------+---------------------------+------------------------------+--------------+----------------+ | Fedora Linux 41 | SKIPPED | SKIPPED | SKIPPED | PASS | +------------------------------+---------------------------+------------------------------+--------------+----------------+ | Debian GNU/Linux 12 | SKIPPED | SKIPPED | SKIPPED | PASS | +------------------------------+---------------------------+------------------------------+--------------+----------------+ | Fedora Linux 42 | SKIPPED | SKIPPED | SKIPPED | PASS | +------------------------------+---------------------------+------------------------------+--------------+----------------+ | Red Hat Enterprise Linux 9.5 | SKIPPED | SKIPPED | SKIPPED | PASS | +------------------------------+---------------------------+------------------------------+--------------+----------------+ | Ubuntu 24.04 | SKIPPED | SKIPPED | SKIPPED | PASS | +------------------------------+---------------------------+------------------------------+--------------+----------------+ Debian 12 (arm) Kernel: Depends on container host Compiler: gcc (Debian 12.2.0-14) 12.2.0 Ubuntu 20.04 Kernel: 5.4 Compiler: gcc gcc (Ubuntu 9.4.0-1ubuntu1~20.04.2) 9.4.0 Ubuntu 22.04 Kernel: 5.15 Compiler: gcc gcc (Ubuntu 11.4.0-1ubuntu1~22.04.2) 11.4.0 Fedora Linux 40 Kernel: 5.4 Compiler: clang gcc (GCC) 14.2.1 20240912 (Red Hat 14.2.1-3) CentOS Stream 9 Kernel: 5.4 Compiler: gcc gcc (GCC) 11.5.0 20240719 (Red Hat 11.5.0-11) CentOS Stream 10 Kernel: 5.4 Compiler: gcc gcc (GCC) 14.2.1 20250110 (Red Hat 14.2.1-8) Fedora Linux 41 Kernel: 5.4 Compiler: gcc gcc (GCC) 14.3.1 20250523 (Red Hat 14.3.1-1) Debian GNU/Linux 12 Kernel: 5.4 Compiler: gcc gcc (Debian 12.2.0-14+deb12u1) 12.2.0 Fedora Linux 42 Kernel: 5.4 Compiler: clang gcc (GCC) 15.2.1 20250808 (Red Hat 15.2.1-1) Red Hat Enterprise Linux 9.5 Kernel: 5.4 Compiler: gcc gcc (GCC) 11.5.0 20240719 (Red Hat 11.5.0-2) Ubuntu 24.04 Kernel: 5.4 Compiler: gcc gcc (Ubuntu 13.3.0-6ubuntu2~24.04) 13.3.0 To view detailed results, visit: https://lab.dpdk.org/results/dashboard/patchsets/34409/ UNH-IOL DPDK Community Lab To manage your email subscriptions, visit: https://lab.dpdk.org/results/dashboard/preferences/subscriptions/