From mboxrd@z Thu Jan 1 00:00:00 1970 Return-Path: Received: from mails.dpdk.org (mails.dpdk.org [217.70.189.124]) by inbox.dpdk.org (Postfix) with ESMTP id A15DE48A08 for ; Thu, 30 Oct 2025 09:39:59 +0100 (CET) Received: from mails.dpdk.org (localhost [127.0.0.1]) by mails.dpdk.org (Postfix) with ESMTP id 9D64E4027A; Thu, 30 Oct 2025 09:39:59 +0100 (CET) Received: from mail-pl1-f226.google.com (mail-pl1-f226.google.com [209.85.214.226]) by mails.dpdk.org (Postfix) with ESMTP id 3B44B402AE for ; Thu, 30 Oct 2025 09:39:55 +0100 (CET) Received: by mail-pl1-f226.google.com with SMTP id d9443c01a7336-290c2b6a6c2so7809915ad.1 for ; Thu, 30 Oct 2025 01:39:55 -0700 (PDT) DKIM-Signature: v=1; a=rsa-sha256; c=relaxed/relaxed; d=iol.unh.edu; s=unh-iol; t=1761813594; x=1762418394; darn=dpdk.org; h=references:in-reply-to:cc:to:from:subject:message-id:date:from:to :cc:subject:date:message-id:reply-to; bh=9WeZt5A3UZgoyxTNte6fPQX6aNethgSl29oeD3uPmfo=; b=Yax418GFTruO1UblRLP7PlhDPaT1liYzyoqIX/MQAhrnxioG7q6rFcN2mhnjPqDj3w 53b4oFl/u+CgdYuJhXwkT/yu8EvdQkdsXxkbY2cyKE0UT4y1thJRlHcUzzYQUqqjeNX1 yAznKXKzXOp4JL/IwK8PGuD4hScEEPwl3golE= X-Google-DKIM-Signature: v=1; a=rsa-sha256; c=relaxed/relaxed; d=1e100.net; s=20230601; t=1761813594; x=1762418394; h=references:in-reply-to:cc:to:from:subject:message-id:date :x-gm-message-state:from:to:cc:subject:date:message-id:reply-to; bh=9WeZt5A3UZgoyxTNte6fPQX6aNethgSl29oeD3uPmfo=; b=Z42o9lPEcNR/S/hiWKR5vJEgh7mw1hk5QoCgiAtXYmPEwNayRdKmJS3n1gd+q2M9Md L6wUvZqCa9PBxlgI9pBs3wDZAXdsMIaHZgzQDpDa5sgwVNYWUGdgMRlAnG9n1ZesRv2o CHnItFnBg45TbTb7rtzChAsHbnIBcDvZ2LOtLIhzoZfZD/TsvSHaNhslVZQ1YW5bNWSn TBuXy8FPQJAuNSnLY7kcdyUhzxgDRBTHNyMzhyYo3buPBpSyVBPFRKNxeHeqro57Uepa E6Eix2A2ulJMGCqGOCWS2rGBocrsAIhVa/4HFlMgFPptpwSUSLOOovS8k1dPjGyYQyqU H/mw== X-Gm-Message-State: AOJu0YymMvlVdsEdA2tjc5oQzLsQhfO3hjfGwpOU7J7/JSiP6SPL/0mA z/m9hHeqsTPhRVxidvNV96L0ZrS04SOS1JE8AIXrQT5Ugskzf3xlubG3OoZD1O0RSAMZGI+ahdr WgKt6iSDy6JZV9P72v78vuxZk7srId4WwtizPwEkNZHK5rCER+C+29aPTuQkw X-Gm-Gg: ASbGncsemWC7C2eaH22SpiOLTsv36X7TqKpoDwTOAq3X6a8R4ZfrdDs1q7Co7KDZ65T mk52WJiUByPbh32TDuLRaNac5csgAxGTbThF55sxkCmzhirwD1eHAduqGCVLy448CgBhOyJsxlV t+5/gMokmw+FGjHiaiccqvwA+IAQFHzL8vUtAhl/e3L+JQt7xMfgqPmOvSzRd9MTQD405jJI3kM fLJB8QAh9Bi2pykVrk2mRZfl3cvV5bubp0UOUGlUTLNadsihl46GqPR/BWE5p0eTBmVOmcX08/b 7ZRH9eG5UfxuNnKsyyfPuBwWLJj/gD+UIVclAbL0wLfZWBsSwRXf+zKOBq6f76/1Wki+P5yX6Q7 LdyZQLGKR X-Google-Smtp-Source: AGHT+IHuRPefbmzO2LJVfhFPHwk119l1dA45EMJkb/XDAr+gpr6DN16tsImOejOkW+8AL59tyNMoVOEk8RZ4 X-Received: by 2002:a17:902:f64b:b0:290:ccf0:e878 with SMTP id d9443c01a7336-294deed4844mr70947285ad.40.1761813594296; Thu, 30 Oct 2025 01:39:54 -0700 (PDT) Received: from postal.iol.unh.edu (postal.iol.unh.edu. [2606:4100:3880:1234::84]) by smtp-relay.gmail.com with ESMTPS id d9443c01a7336-29498e42ad3sm15293465ad.62.2025.10.30.01.39.53 (version=TLS1_2 cipher=ECDHE-ECDSA-AES128-GCM-SHA256 bits=128/128); Thu, 30 Oct 2025 01:39:54 -0700 (PDT) X-Relaying-Domain: iol.unh.edu Date: Thu, 30 Oct 2025 01:39:54 -0700 (PDT) Message-ID: <6903245a.170a0220.333820.7bd7SMTPIN_ADDED_MISSING@mx.google.com> Received: from [172.21.0.2] (unknown [172.18.0.240]) by postal.iol.unh.edu (Postfix) with ESMTP id 3006B6051830; Thu, 30 Oct 2025 04:39:53 -0400 (EDT) Subject: |WARNING| pw158286 [PATCH] net/cnxk: fix port ID default action From: dpdklab@iol.unh.edu To: Test Report Cc: dpdk-test-reports@iol.unh.edu In-Reply-To: <20251030034404.4187369-1-psatheesh@marvell.com> References: <20251030034404.4187369-1-psatheesh@marvell.com> Content-Type: text/plain X-BeenThere: test-report@dpdk.org X-Mailman-Version: 2.1.29 Precedence: list List-Id: automatic DPDK test reports List-Unsubscribe: , List-Archive: List-Post: List-Help: List-Subscribe: , Errors-To: test-report-bounces@dpdk.org Test-Label: iol-compile-amd64-testing Test-Status: WARNING http://dpdk.org/patch/158286 _Testing issues_ Submitter: Satheesh Paul Antonysamy Date: Thursday, October 30 2025 03:44:03 DPDK git baseline: Repo:dpdk-next-net-mrvl Branch: master CommitID:39b54f2dcf44ad1f91eabc7080cd5dea763607fd 158286 --> testing issues Upstream job id: Generic-DPDK-Compile-Meson#439320 Test environment and result as below: +-------------------------------+--------------------+-------------------+-------------------------+----------------------+-------------------+------------------+ | Environment | dpdk_meson_compile | dpdk_msvc_compile | dpdk_llvm_clang_compile | dpdk_mingw64_compile | dpdk_compile_spdk | dpdk_compile_ovs | +===============================+====================+===================+=========================+======================+===================+==================+ | Ubuntu 20.04 | PASS | SKIPPED | SKIPPED | SKIPPED | SKIPPED | SKIPPED | +-------------------------------+--------------------+-------------------+-------------------------+----------------------+-------------------+------------------+ | FreeBSD 14.2 | PASS | SKIPPED | SKIPPED | SKIPPED | SKIPPED | SKIPPED | +-------------------------------+--------------------+-------------------+-------------------------+----------------------+-------------------+------------------+ | CentOS Stream 9 | PASS | SKIPPED | SKIPPED | SKIPPED | WARN | SKIPPED | +-------------------------------+--------------------+-------------------+-------------------------+----------------------+-------------------+------------------+ | CentOS Stream 10 | PASS | SKIPPED | SKIPPED | SKIPPED | SKIPPED | SKIPPED | +-------------------------------+--------------------+-------------------+-------------------------+----------------------+-------------------+------------------+ | Debian GNU/Linux 12 | PASS | SKIPPED | SKIPPED | SKIPPED | WARN | SKIPPED | +-------------------------------+--------------------+-------------------+-------------------------+----------------------+-------------------+------------------+ | Fedora Linux 42 | PASS | SKIPPED | SKIPPED | SKIPPED | WARN | PASS | +-------------------------------+--------------------+-------------------+-------------------------+----------------------+-------------------+------------------+ | openSUSE Leap 15.6 | PASS | SKIPPED | SKIPPED | SKIPPED | SKIPPED | SKIPPED | +-------------------------------+--------------------+-------------------+-------------------------+----------------------+-------------------+------------------+ | Red Hat Enterprise Linux 8.10 | PASS | SKIPPED | SKIPPED | SKIPPED | SKIPPED | SKIPPED | +-------------------------------+--------------------+-------------------+-------------------------+----------------------+-------------------+------------------+ | Red Hat Enterprise Linux 9.5 | PASS | SKIPPED | SKIPPED | SKIPPED | SKIPPED | SKIPPED | +-------------------------------+--------------------+-------------------+-------------------------+----------------------+-------------------+------------------+ | Ubuntu 22.04 | PASS | SKIPPED | SKIPPED | SKIPPED | WARN | SKIPPED | +-------------------------------+--------------------+-------------------+-------------------------+----------------------+-------------------+------------------+ | Ubuntu 24.04 | PASS | SKIPPED | SKIPPED | SKIPPED | WARN | PASS | +-------------------------------+--------------------+-------------------+-------------------------+----------------------+-------------------+------------------+ | Alpine Linux 3.22.0 | PASS | SKIPPED | SKIPPED | SKIPPED | SKIPPED | SKIPPED | +-------------------------------+--------------------+-------------------+-------------------------+----------------------+-------------------+------------------+ | Windows Server 2022 | SKIPPED | PASS | PASS | PASS | SKIPPED | SKIPPED | +-------------------------------+--------------------+-------------------+-------------------------+----------------------+-------------------+------------------+ ==== 20 line log output for Ubuntu 24.04 (dpdk_compile_spdk): ==== --- Failed to get log output --- ==== End log output ==== Ubuntu 20.04 Kernel: 4.19 Compiler: gcc gcc (Ubuntu 9.4.0-1ubuntu1~20.04.2) 9.4.0 FreeBSD 14.2 Kernel: 14.2-RELEASE Compiler: clang 18.1.6 CentOS Stream 9 Kernel: 5.15 Compiler: gcc gcc (GCC) 11.5.0 20240719 (Red Hat 11.5.0-11) CentOS Stream 10 Kernel: 5.15 Compiler: gcc gcc (GCC) 14.2.1 20250110 (Red Hat 14.2.1-8) Debian GNU/Linux 12 Kernel: 5.15 Compiler: gcc gcc (Debian 12.2.0-14+deb12u1) 12.2.0 Fedora Linux 42 Kernel: 5.15 Compiler: clang gcc (GCC) 15.2.1 20250808 (Red Hat 15.2.1-1) openSUSE Leap 15.6 Kernel: 5.15 Compiler: gcc gcc (SUSE Linux) 7.5.0 Red Hat Enterprise Linux 8.10 Kernel: 5.15 Compiler: gcc gcc (GCC) 8.5.0 20210514 (Red Hat 8.5.0-22) Red Hat Enterprise Linux 9.5 Kernel: 5.15 Compiler: gcc gcc (GCC) 11.5.0 20240719 (Red Hat 11.5.0-2) Ubuntu 22.04 Kernel: 5.15 Compiler: gcc gcc (Ubuntu 11.4.0-1ubuntu1~22.04) 11.4.0 Ubuntu 24.04 Kernel: 5.15 Compiler: gcc gcc (Ubuntu 13.3.0-6ubuntu2~24.04) 13.3.0 Alpine Linux 3.22.0 Kernel: 5.15 Compiler: gcc gcc (Alpine 14.2.0) 14.2.0 Windows Server 2022 Kernel: 10.0.20348.2031 Compiler: clang 15.0.7, gcc 14.1.0 (MinGW), and MSVC VS 19.39.33521 To view detailed results, visit: https://lab.dpdk.org/results/dashboard/patchsets/34423/ UNH-IOL DPDK Community Lab To manage your email subscriptions, visit: https://lab.dpdk.org/results/dashboard/preferences/subscriptions/