From mboxrd@z Thu Jan 1 00:00:00 1970 Return-Path: Received: from mails.dpdk.org (mails.dpdk.org [217.70.189.124]) by inbox.dpdk.org (Postfix) with ESMTP id C355248A08 for ; Thu, 30 Oct 2025 09:41:10 +0100 (CET) Received: from mails.dpdk.org (localhost [127.0.0.1]) by mails.dpdk.org (Postfix) with ESMTP id BE70B4027A; Thu, 30 Oct 2025 09:41:10 +0100 (CET) Received: from mail-io1-f97.google.com (mail-io1-f97.google.com [209.85.166.97]) by mails.dpdk.org (Postfix) with ESMTP id AB5F44027A for ; Thu, 30 Oct 2025 09:41:09 +0100 (CET) Received: by mail-io1-f97.google.com with SMTP id ca18e2360f4ac-93e7e87c21bso85806039f.3 for ; Thu, 30 Oct 2025 01:41:09 -0700 (PDT) DKIM-Signature: v=1; a=rsa-sha256; c=relaxed/relaxed; d=iol.unh.edu; s=unh-iol; t=1761813669; x=1762418469; darn=dpdk.org; h=references:in-reply-to:cc:to:from:subject:message-id:date:from:to :cc:subject:date:message-id:reply-to; bh=75htUxNRdR8z3MtbpJ0ZBs41cJMdqHiNE9+YcDFKEUo=; b=PuAfKY/KoQtg/Hz00FcMPXJlihoSAz2aa56Dqn9oordI+UPK4Wgm/Lo9pGhU729m/9 KEwyMaOwS5L74PLzFX0cbccDygO0dQbRkdhTOks9PG8GKqDz18kZSv1vYEVZpolcC7CA FVPSZObcFIccj7AXSPoXCh8vvcuhekC81vWAU= X-Google-DKIM-Signature: v=1; a=rsa-sha256; c=relaxed/relaxed; d=1e100.net; s=20230601; t=1761813669; x=1762418469; h=references:in-reply-to:cc:to:from:subject:message-id:date :x-gm-message-state:from:to:cc:subject:date:message-id:reply-to; bh=75htUxNRdR8z3MtbpJ0ZBs41cJMdqHiNE9+YcDFKEUo=; b=JuNaTymqPtRBi6beG7A0AhgFS7IuXiqCaCl/wPF06Qn3MGPw5J0HWFMiGOfmfTCRXR tNFUcPrkdjt9j2TFQlTundjFUlsFYXcmwGDBUf7XuPjAsYC886e5Rl69sQ5e5eh6UD57 dkd2SD7NUIKE7/l7Fru7s6njQIdb72DM5Wl80oIP9BgTYttFh/fLK+SV/40bD53SycN/ rDtw2Mf4agVV1d2yO8PE2tTdILsNZHMaae+LmZgBFJbk5aQl5cwe5MfZv/WounTS1SOW WQPZ4Wf78kdethlBbS/b5Nqc+Q6CBLRtORApdjcU16iEb1r9xZba14Ll86qhfKwbv2pk cyAw== X-Gm-Message-State: AOJu0YyHsBsGugD9I3g4qzDz4A7A/zsZunCa56c1uKYJii02PxCjmAhA obVU60efWZM7fQlwUZ4Mg/HmvV11PAA1k9+njoB8TwLcp80cC51p45U5IewxAGebGDftbLTipMu 60OFuPOUFEM4DKMIUOVSg2WIYcV4hJ1Yjuu3F/DYLAOp1mGYU3kRo1zdukl6q X-Gm-Gg: ASbGncuktq4NEllB4jdmgJkDc5ITPvXIurTror1w8ZAMaHjQvYZYxb3pTphGxHgBFTc F1JRDDhdLfbO9MG2fqPeTsIWlYRytoJcLXnp7KSig+WYf227jv4lLsJqBmorkbAj8WH51nXUix3 AlfGSKfF2eW7BmKsfFeeEf2q24JlUa4IMh8iQgMIaO4/RvEi1lWCWwNzFtDGntDiPtXcLaireNh jo31sfH3XlUP5ADfmbvegbAcMgEKi5/yji1o0Snl1z+2wLeZ7ckBCHY4jSyY8Nw5WamMF4asWhX Pf9T4YCSOw6pcjL1I16bAyYRrBqN4X/nvqPf/c1qR4and2PrviKE2r3Jpgv6opEp3YycPq7cQ+4 9VllDouqZ X-Google-Smtp-Source: AGHT+IGTkVXjMkAoWH+D5AcEgqo7u+Pe2GLIfQoIP4L+ly7T+ZtIbMgNhVlEHbZMRIyGEMmFpbw0dyODKiJ+ X-Received: by 2002:a05:6e02:308b:b0:430:b2e3:8fb with SMTP id e9e14a558f8ab-432f8fad6e3mr84826305ab.9.1761813669003; Thu, 30 Oct 2025 01:41:09 -0700 (PDT) Received: from postal.iol.unh.edu (postal.iol.unh.edu. [2606:4100:3880:1234::84]) by smtp-relay.gmail.com with ESMTPS id e9e14a558f8ab-432fbc61e4fsm4063415ab.31.2025.10.30.01.41.08 (version=TLS1_2 cipher=ECDHE-ECDSA-AES128-GCM-SHA256 bits=128/128); Thu, 30 Oct 2025 01:41:08 -0700 (PDT) X-Relaying-Domain: iol.unh.edu Date: Thu, 30 Oct 2025 01:41:08 -0700 (PDT) Message-ID: <690324a4.050a0220.2482fb.3581SMTPIN_ADDED_MISSING@mx.google.com> Received: from [172.21.0.2] (unknown [172.18.0.240]) by postal.iol.unh.edu (Postfix) with ESMTP id 8DB726051830; Thu, 30 Oct 2025 04:41:08 -0400 (EDT) Subject: |WARNING| pw158287-158289 [PATCH] [v2,3/3] doc: update TxPP document From: dpdklab@iol.unh.edu To: Test Report Cc: dpdk-test-reports@iol.unh.edu, Bruce Richardson In-Reply-To: <20251030173304.260209-4-soumyadeep.hore@intel.com> References: <20251030173304.260209-4-soumyadeep.hore@intel.com> Content-Type: text/plain X-BeenThere: test-report@dpdk.org X-Mailman-Version: 2.1.29 Precedence: list List-Id: automatic DPDK test reports List-Unsubscribe: , List-Archive: List-Post: List-Help: List-Subscribe: , Errors-To: test-report-bounces@dpdk.org Test-Label: iol-compile-amd64-testing Test-Status: WARNING http://dpdk.org/patch/158289 _Testing issues_ Submitter: Soumyadeep Hore Date: Thursday, October 30 2025 17:33:04 DPDK git baseline: Repo:dpdk-next-net-intel Branch: master CommitID:6b997d6b9ffdbb4f8ecd14d1f217da69cdc783af 158287-158289 --> testing issues Upstream job id: Generic-DPDK-Compile-Meson#439370 Test environment and result as below: +-------------------------------+--------------------+-------------------+-------------------------+----------------------+-------------------+------------------+ | Environment | dpdk_meson_compile | dpdk_msvc_compile | dpdk_llvm_clang_compile | dpdk_mingw64_compile | dpdk_compile_spdk | dpdk_compile_ovs | +===============================+====================+===================+=========================+======================+===================+==================+ | Ubuntu 20.04 | PASS | SKIPPED | SKIPPED | SKIPPED | SKIPPED | SKIPPED | +-------------------------------+--------------------+-------------------+-------------------------+----------------------+-------------------+------------------+ | FreeBSD 14.2 | PASS | SKIPPED | SKIPPED | SKIPPED | SKIPPED | SKIPPED | +-------------------------------+--------------------+-------------------+-------------------------+----------------------+-------------------+------------------+ | CentOS Stream 9 | PASS | SKIPPED | SKIPPED | SKIPPED | WARN | SKIPPED | +-------------------------------+--------------------+-------------------+-------------------------+----------------------+-------------------+------------------+ | CentOS Stream 10 | PASS | SKIPPED | SKIPPED | SKIPPED | SKIPPED | SKIPPED | +-------------------------------+--------------------+-------------------+-------------------------+----------------------+-------------------+------------------+ | Debian GNU/Linux 12 | PASS | SKIPPED | SKIPPED | SKIPPED | WARN | SKIPPED | +-------------------------------+--------------------+-------------------+-------------------------+----------------------+-------------------+------------------+ | Fedora Linux 42 | PASS | SKIPPED | SKIPPED | SKIPPED | WARN | PASS | +-------------------------------+--------------------+-------------------+-------------------------+----------------------+-------------------+------------------+ | openSUSE Leap 15.6 | PASS | SKIPPED | SKIPPED | SKIPPED | SKIPPED | SKIPPED | +-------------------------------+--------------------+-------------------+-------------------------+----------------------+-------------------+------------------+ | Red Hat Enterprise Linux 8.10 | PASS | SKIPPED | SKIPPED | SKIPPED | SKIPPED | SKIPPED | +-------------------------------+--------------------+-------------------+-------------------------+----------------------+-------------------+------------------+ | Red Hat Enterprise Linux 9.5 | PASS | SKIPPED | SKIPPED | SKIPPED | SKIPPED | SKIPPED | +-------------------------------+--------------------+-------------------+-------------------------+----------------------+-------------------+------------------+ | Ubuntu 22.04 | PASS | SKIPPED | SKIPPED | SKIPPED | WARN | SKIPPED | +-------------------------------+--------------------+-------------------+-------------------------+----------------------+-------------------+------------------+ | Ubuntu 24.04 | PASS | SKIPPED | SKIPPED | SKIPPED | WARN | PASS | +-------------------------------+--------------------+-------------------+-------------------------+----------------------+-------------------+------------------+ | Alpine Linux 3.22.0 | PASS | SKIPPED | SKIPPED | SKIPPED | SKIPPED | SKIPPED | +-------------------------------+--------------------+-------------------+-------------------------+----------------------+-------------------+------------------+ | Windows Server 2022 | SKIPPED | PASS | PASS | PASS | SKIPPED | SKIPPED | +-------------------------------+--------------------+-------------------+-------------------------+----------------------+-------------------+------------------+ ==== 20 line log output for Ubuntu 24.04 (dpdk_compile_spdk): ==== --- Failed to get log output --- ==== End log output ==== Ubuntu 20.04 Kernel: 4.19 Compiler: gcc gcc (Ubuntu 9.4.0-1ubuntu1~20.04.2) 9.4.0 FreeBSD 14.2 Kernel: 14.2-RELEASE Compiler: clang 18.1.6 CentOS Stream 9 Kernel: 5.15 Compiler: gcc gcc (GCC) 11.5.0 20240719 (Red Hat 11.5.0-11) CentOS Stream 10 Kernel: 5.15 Compiler: gcc gcc (GCC) 14.2.1 20250110 (Red Hat 14.2.1-8) Debian GNU/Linux 12 Kernel: 5.15 Compiler: gcc gcc (Debian 12.2.0-14+deb12u1) 12.2.0 Fedora Linux 42 Kernel: 5.15 Compiler: clang gcc (GCC) 15.2.1 20250808 (Red Hat 15.2.1-1) openSUSE Leap 15.6 Kernel: 5.15 Compiler: gcc gcc (SUSE Linux) 7.5.0 Red Hat Enterprise Linux 8.10 Kernel: 5.15 Compiler: gcc gcc (GCC) 8.5.0 20210514 (Red Hat 8.5.0-22) Red Hat Enterprise Linux 9.5 Kernel: 5.15 Compiler: gcc gcc (GCC) 11.5.0 20240719 (Red Hat 11.5.0-2) Ubuntu 22.04 Kernel: 5.15 Compiler: gcc gcc (Ubuntu 11.4.0-1ubuntu1~22.04) 11.4.0 Ubuntu 24.04 Kernel: 5.15 Compiler: gcc gcc (Ubuntu 13.3.0-6ubuntu2~24.04) 13.3.0 Alpine Linux 3.22.0 Kernel: 5.15 Compiler: gcc gcc (Alpine 14.2.0) 14.2.0 Windows Server 2022 Kernel: 10.0.20348.2031 Compiler: clang 15.0.7, gcc 14.1.0 (MinGW), and MSVC VS 19.39.33521 To view detailed results, visit: https://lab.dpdk.org/results/dashboard/patchsets/34424/ UNH-IOL DPDK Community Lab To manage your email subscriptions, visit: https://lab.dpdk.org/results/dashboard/preferences/subscriptions/