From mboxrd@z Thu Jan 1 00:00:00 1970 Return-Path: Received: from mails.dpdk.org (mails.dpdk.org [217.70.189.124]) by inbox.dpdk.org (Postfix) with ESMTP id 9449448A0C for ; Thu, 30 Oct 2025 10:58:51 +0100 (CET) Received: from mails.dpdk.org (localhost [127.0.0.1]) by mails.dpdk.org (Postfix) with ESMTP id 6DC274026F; Thu, 30 Oct 2025 10:58:51 +0100 (CET) Received: from mail-pl1-f228.google.com (mail-pl1-f228.google.com [209.85.214.228]) by mails.dpdk.org (Postfix) with ESMTP id 5DABB4026F for ; Thu, 30 Oct 2025 10:58:50 +0100 (CET) Received: by mail-pl1-f228.google.com with SMTP id d9443c01a7336-295070beaa4so1535525ad.0 for ; Thu, 30 Oct 2025 02:58:50 -0700 (PDT) DKIM-Signature: v=1; a=rsa-sha256; c=relaxed/relaxed; d=iol.unh.edu; s=unh-iol; t=1761818329; x=1762423129; darn=dpdk.org; h=cc:to:from:subject:message-id:date:from:to:cc:subject:date :message-id:reply-to; bh=UaLCCYOfSbCMPLgNWlJnkFJLJINYbgKpqa+4nAqhq0A=; b=EkwMiDkpQ9EAW9WTQ3qPjvprmvM67IcJKgLQFJKT/qsuy3ZhsPyt2i9m6SQpyV6gTH IC8UXRCa6HqojIVrRZWmS6yXciEMwkGBAfHT7p70pY7lok16v1MxhDCjpLocBQqhPylF UpJkKAvq+oc5grUbALjptwLZHqPO3cR+f3jwg= X-Google-DKIM-Signature: v=1; a=rsa-sha256; c=relaxed/relaxed; d=1e100.net; s=20230601; t=1761818329; x=1762423129; h=cc:to:from:subject:message-id:date:x-gm-message-state:from:to:cc :subject:date:message-id:reply-to; bh=UaLCCYOfSbCMPLgNWlJnkFJLJINYbgKpqa+4nAqhq0A=; b=eyBztirRZS4PXdlyL8QsrKl0M8psUKfAMb+4XRBgd3NSKnPqq3Tr0+DhYEG5x+aUJz jrz0wzYZaXUtc/2u7L0bu6llxbFO0KgH2FmKe56qBXBUm+b/iTe6TEqDug76BHZylcWo 6IAbadM9C+bnD8NMVvcp7tpA1UZ6lPs8Zk3NDngWDOt/ARvWr4rwBVXahSbSUwHX15KO dnPKwN/4PV9ldfQHhVxMa+DgoqA4x562oejUbC8vcqg9ecxPblw7rVMgdAZj5cMXXtXO a4oIvQQzXK0ThLWal7ISAvH+olxeFQbPu7Pf3Fh4fSvC0D0p8YsB1pFfyqxKH/rM0PIo 6SKQ== X-Gm-Message-State: AOJu0Yw0nL8RTNztkbnaKuThl5wfIsuqY7VT5OiFdOQ75Cmn9FthL+yA ZbU4Jr36lDeApLSodwhwEvYzg8l+uroN0FBt5A7ff1vl/y303kszkIFYtpMOwl3rQ7yurNMRQf/ umBlcTtzYWqns8lb55JMxBGXDSgMjUys7BZwX X-Gm-Gg: ASbGncu6hyQHFPhT+p10DjVUcPNEepiPILG6M2mqv60qqXcHG+IZcw6yZNZbazoY8/o jwXZD7o9aIIvDMR81dET3hbwROmIFRAeqLqTOQk4SZ4D3vhq1DjVlovHu6xsVaJd06BXJAJqS4l erA0d/DTZx8ANX3F1+8NEUUCfqG3Wy5dXXWcJTADxkST6n9mvNhNGntPM5Wtw+v/v5ye+rfbY2A w5fckq8I+XQg5/yv+kVRGAQJe6T13t1tFiB7JiIfPbaC6jL3PtVyc8Z49ITd8vIOuZNTd9cIRYi mzTG+nzV6+yG4IEpxmp6VM4psafcMbmFNphgP02kQ7dIgUe52Rq/mOnQTM0xvIecM8fqIT9Hd5c EQLtdkFaa3ecmGq49DEotQXLc/BK9PVs= X-Google-Smtp-Source: AGHT+IHTZF9+uPoEJ9gZeWyzJ6XelvtmJR5fuUa7sod1o6FHmL/z2wce+vjsS4XFol1UifUp8qnGRWktRQ/q X-Received: by 2002:a17:902:d2d2:b0:293:b97:c323 with SMTP id d9443c01a7336-294deec6434mr74647035ad.32.1761818329481; Thu, 30 Oct 2025 02:58:49 -0700 (PDT) Received: from postal.iol.unh.edu (postal.iol.unh.edu. [132.177.123.84]) by smtp-relay.gmail.com with ESMTPS id d9443c01a7336-29498d274d7sm16386225ad.34.2025.10.30.02.58.49 (version=TLS1_2 cipher=ECDHE-ECDSA-AES128-GCM-SHA256 bits=128/128); Thu, 30 Oct 2025 02:58:49 -0700 (PDT) X-Relaying-Domain: iol.unh.edu Date: Thu, 30 Oct 2025 02:58:49 -0700 (PDT) Message-ID: <690336d9.170a0220.257c2.d9d2SMTPIN_ADDED_MISSING@mx.google.com> Received: from [172.21.0.2] (unknown [172.18.0.240]) by postal.iol.unh.edu (Postfix) with ESMTP id D5F2F60003E7; Thu, 30 Oct 2025 05:58:48 -0400 (EDT) Subject: |SUCCESS| [GIT MASTER] 3b43ce3f4a54468e7ef65760c2fd7b4d6ee6d9fc From: dpdklab@iol.unh.edu To: Test Report Cc: dpdk-test-reports@iol.unh.edu, Xueming Li , Christian Ehrhardt , Kevin Traynor , Luca Boccassi Content-Type: text/plain X-BeenThere: test-report@dpdk.org X-Mailman-Version: 2.1.29 Precedence: list List-Id: automatic DPDK test reports List-Unsubscribe: , List-Archive: List-Post: List-Help: List-Subscribe: , Errors-To: test-report-bounces@dpdk.org _Testing PASS_ Branch: tags/v22.11 3b43ce3f4a54468e7ef65760c2fd7b4d6ee6d9fc --> testing pass Upstream job id: Generic-DPDK-Compile-Meson#439264 Test environment and result as below: +------------------------------+--------------------+ | Environment | dpdk_meson_compile | +==============================+====================+ | Ubuntu 20.04 | PASS | +------------------------------+--------------------+ | Red Hat Enterprise Linux 9.5 | PASS | +------------------------------+--------------------+ | Debian GNU/Linux 12 | PASS | +------------------------------+--------------------+ | Fedora Linux 42 | PASS | +------------------------------+--------------------+ | Ubuntu 22.04 | PASS | +------------------------------+--------------------+ | Ubuntu 24.04 | PASS | +------------------------------+--------------------+ | CentOS Stream 9 | PASS | +------------------------------+--------------------+ | CentOS Stream 10 | PASS | +------------------------------+--------------------+ Ubuntu 20.04 Kernel: 5.15 Compiler: aarch64-linux-gnu-gcc gcc (Ubuntu 9.4.0-1ubuntu1~20.04.2) 9.4.0 Red Hat Enterprise Linux 9.5 Kernel: 5.4 Compiler: gcc gcc (GCC) 11.5.0 20240719 (Red Hat 11.5.0-2) Debian GNU/Linux 12 Kernel: 5.4 Compiler: gcc gcc (Debian 12.2.0-14+deb12u1) 12.2.0 Fedora Linux 42 Kernel: 5.4 Compiler: clang gcc (GCC) 15.2.1 20250808 (Red Hat 15.2.1-1) Ubuntu 22.04 Kernel: 5.4 Compiler: gcc gcc (Ubuntu 11.4.0-1ubuntu1~22.04) 11.4.0 Ubuntu 24.04 Kernel: 5.4 Compiler: gcc gcc (Ubuntu 13.3.0-6ubuntu2~24.04) 13.3.0 CentOS Stream 9 Kernel: 5.4 Compiler: gcc gcc (GCC) 11.5.0 20240719 (Red Hat 11.5.0-11) CentOS Stream 10 Kernel: 5.4 Compiler: gcc gcc (GCC) 14.2.1 20250110 (Red Hat 14.2.1-8) To view detailed results, visit: https://lab.dpdk.org/results/dashboard/tarballs/35397/ UNH-IOL DPDK Community Lab To manage your email subscriptions, visit: https://lab.dpdk.org/results/dashboard/preferences/subscriptions/