From mboxrd@z Thu Jan 1 00:00:00 1970 Return-Path: Received: from mails.dpdk.org (mails.dpdk.org [217.70.189.124]) by inbox.dpdk.org (Postfix) with ESMTP id 40F1848A0D for ; Thu, 30 Oct 2025 13:27:24 +0100 (CET) Received: from mails.dpdk.org (localhost [127.0.0.1]) by mails.dpdk.org (Postfix) with ESMTP id 23EB64026F; Thu, 30 Oct 2025 13:27:24 +0100 (CET) Received: from mail-qk1-f225.google.com (mail-qk1-f225.google.com [209.85.222.225]) by mails.dpdk.org (Postfix) with ESMTP id D57994026F for ; Thu, 30 Oct 2025 13:27:22 +0100 (CET) Received: by mail-qk1-f225.google.com with SMTP id af79cd13be357-89e93741814so99699685a.0 for ; Thu, 30 Oct 2025 05:27:22 -0700 (PDT) DKIM-Signature: v=1; a=rsa-sha256; c=relaxed/relaxed; d=iol.unh.edu; s=unh-iol; t=1761827242; x=1762432042; darn=dpdk.org; h=cc:to:from:subject:message-id:date:from:to:cc:subject:date :message-id:reply-to; bh=YX1bnymE2prpuMRtiHUPwr0yJknNu5wrvwC6NlIjwv4=; b=EHlUmYSkJg6Df0xdtJdOMzrkJeMgFYy6c+KYAXvjoLTk3LQVlmoVjzZDB8RHAKueEJ 1Yb4s9yqbhQB7dkpen9RPjjLebTJ2LcSCm6dOX7AJYKkrJGmUOdIeUmq6i1APZJ2BMAE mHZrLdtpftALmN7c1rycIABIdja8xmur2WBJ4= X-Google-DKIM-Signature: v=1; a=rsa-sha256; c=relaxed/relaxed; d=1e100.net; s=20230601; t=1761827242; x=1762432042; h=cc:to:from:subject:message-id:date:x-gm-message-state:from:to:cc :subject:date:message-id:reply-to; bh=YX1bnymE2prpuMRtiHUPwr0yJknNu5wrvwC6NlIjwv4=; b=S0l5AHJlVEkCg/LJw8QbIbCpv8C9/PZcXHpVQxE/4+emTG9+HwnaGkbwGCefuoW46t ZV5gA2BcsEUePjgIf5duX1pudVNo4gRnx6G/rQ2KN0wtZsVzRbmy1BL4kC0biJdfnR4K xXM5vZ6IDC63i1VTGj6sFgBIs8emBZckzGe+/Piofy7yV6WIyKLfA6XWesD0Fuv2kvW2 LsJnUXC9rig+3DoI+QGqBSMEAQ7NopzN2nfh4uwW/3MhQCE/NQrJ/T/eSOvO39Hlvmha TxxOOUJaNJ2Umx5Y5OCPb5TVKYWJ86b8QexnsKdxEs0Rv2rL5pML6QEcJ5Q+Vxku41+f OJzg== X-Gm-Message-State: AOJu0YyyyMEeK1lMJpHLtTSp/bDgdLCEy9FbC1fFP3pIj1O5LPsDXN9O 6yiAhW7LbJka/FLTwpPwwcRV/BjYsgg1et19m9D8s6uRYLQDh3Q3yG7s56HaeElbOHlW5AgybVD 41QBtHngH2z5lXH5HFzjaHR6ify3iuLkQsUIO X-Gm-Gg: ASbGncvYaQy9ITGsc7fNvT7wdu1Ivxzh2uq5ah7vOqeEeGu25N+ETtqS+mrXXdnioiW wEaciPv4Ne8+kmi7L64+47D1poQM+AnyOzJ5glRvVTmkjPV/pG5Kj0Af+XXtO4kwr5R+Yw1+T7H tRA2knRU2YtR0dcOyGCl7RMlmYHaSKl4uHCqyddO4roS2La1PNvfnwbgkS9rTft/kMTJ72fK080 j/UXCLhSyHuuNvmKR13xsloYTEVITbjy2In9nmmeNhIWdVAf+pZho/9ejM+hU9qRQdpNnym8QmM SfanAiFvsp5rxNcgT7d283hRqudYLLrRJSpVy4A2o7t9xauBUiz2M/7bOXIbOk4WAj7p1j95qqY NlddrKf1szyxW9CKZUvYYHF8c+n66peM= X-Google-Smtp-Source: AGHT+IGjmEZvsidN6RPoeYzWw079AMBuJyt26tb16HX/KT0R+KctiHrQIJv1bd8eCbDzstXeeIj3MWvSK5sD X-Received: by 2002:a05:620a:2996:b0:8a1:ac72:e3dc with SMTP id af79cd13be357-8a8e6287307mr861257285a.43.1761827242067; Thu, 30 Oct 2025 05:27:22 -0700 (PDT) Received: from postal.iol.unh.edu (postal.iol.unh.edu. [132.177.123.84]) by smtp-relay.gmail.com with ESMTPS id af79cd13be357-8a9670577c9sm43231685a.2.2025.10.30.05.27.22 (version=TLS1_2 cipher=ECDHE-ECDSA-AES128-GCM-SHA256 bits=128/128); Thu, 30 Oct 2025 05:27:22 -0700 (PDT) X-Relaying-Domain: iol.unh.edu Date: Thu, 30 Oct 2025 05:27:22 -0700 (PDT) Message-ID: <690359aa.050a0220.2df088.5f25SMTPIN_ADDED_MISSING@mx.google.com> Received: from [172.21.0.2] (unknown [172.18.0.240]) by postal.iol.unh.edu (Postfix) with ESMTP id BAACD60003E7; Thu, 30 Oct 2025 08:27:21 -0400 (EDT) Subject: |SUCCESS| [GIT MASTER] b287e404643aeab5bb5db084c142789df187844e From: dpdklab@iol.unh.edu To: Test Report Cc: dpdk-test-reports@iol.unh.edu, Xueming Li , Christian Ehrhardt , Kevin Traynor , Luca Boccassi Content-Type: text/plain X-BeenThere: test-report@dpdk.org X-Mailman-Version: 2.1.29 Precedence: list List-Id: automatic DPDK test reports List-Unsubscribe: , List-Archive: List-Post: List-Help: List-Subscribe: , Errors-To: test-report-bounces@dpdk.org _Testing PASS_ Branch: tags/v24.11 b287e404643aeab5bb5db084c142789df187844e --> testing pass Upstream job id: Generic-DPDK-Compile-Meson#439315 Test environment and result as below: +------------------------------+--------------------+ | Environment | dpdk_meson_compile | +==============================+====================+ | Ubuntu 20.04 | PASS | +------------------------------+--------------------+ | Red Hat Enterprise Linux 9.5 | PASS | +------------------------------+--------------------+ | Debian GNU/Linux 12 | PASS | +------------------------------+--------------------+ | Fedora Linux 42 | PASS | +------------------------------+--------------------+ | Ubuntu 24.04 | PASS | +------------------------------+--------------------+ | CentOS Stream 9 | PASS | +------------------------------+--------------------+ | Ubuntu 22.04 | PASS | +------------------------------+--------------------+ | CentOS Stream 10 | PASS | +------------------------------+--------------------+ Ubuntu 20.04 Kernel: 5.15 Compiler: aarch64-linux-gnu-gcc gcc (Ubuntu 9.4.0-1ubuntu1~20.04.2) 9.4.0 Red Hat Enterprise Linux 9.5 Kernel: 5.4 Compiler: gcc gcc (GCC) 11.5.0 20240719 (Red Hat 11.5.0-2) Debian GNU/Linux 12 Kernel: 5.4 Compiler: gcc gcc (Debian 12.2.0-14+deb12u1) 12.2.0 Fedora Linux 42 Kernel: 5.4 Compiler: gcc gcc (GCC) 15.2.1 20250808 (Red Hat 15.2.1-1) Ubuntu 24.04 Kernel: 5.4 Compiler: gcc gcc (Ubuntu 13.3.0-6ubuntu2~24.04) 13.3.0 CentOS Stream 9 Kernel: 5.4 Compiler: gcc gcc (GCC) 11.5.0 20240719 (Red Hat 11.5.0-11) Ubuntu 22.04 Kernel: 5.4 Compiler: gcc gcc (Ubuntu 11.4.0-1ubuntu1~22.04) 11.4.0 CentOS Stream 10 Kernel: 5.4 Compiler: gcc gcc (GCC) 14.2.1 20250110 (Red Hat 14.2.1-8) To view detailed results, visit: https://lab.dpdk.org/results/dashboard/tarballs/35399/ UNH-IOL DPDK Community Lab To manage your email subscriptions, visit: https://lab.dpdk.org/results/dashboard/preferences/subscriptions/