From mboxrd@z Thu Jan 1 00:00:00 1970 Return-Path: Received: from mails.dpdk.org (mails.dpdk.org [217.70.189.124]) by inbox.dpdk.org (Postfix) with ESMTP id 3A31648A0F for ; Thu, 30 Oct 2025 14:37:31 +0100 (CET) Received: from mails.dpdk.org (localhost [127.0.0.1]) by mails.dpdk.org (Postfix) with ESMTP id 1DCB140150; Thu, 30 Oct 2025 14:37:31 +0100 (CET) Received: from mail-qt1-f228.google.com (mail-qt1-f228.google.com [209.85.160.228]) by mails.dpdk.org (Postfix) with ESMTP id 134E340150 for ; Thu, 30 Oct 2025 14:37:29 +0100 (CET) Received: by mail-qt1-f228.google.com with SMTP id d75a77b69052e-4e8850b09eeso9272221cf.0 for ; Thu, 30 Oct 2025 06:37:29 -0700 (PDT) DKIM-Signature: v=1; a=rsa-sha256; c=relaxed/relaxed; d=iol.unh.edu; s=unh-iol; t=1761831449; x=1762436249; darn=dpdk.org; h=references:in-reply-to:cc:to:from:subject:message-id:date:from:to :cc:subject:date:message-id:reply-to; bh=PIQbRAdrNcK6tF6Kr5BZBhTipGFsrnBqv+GkgnydlJg=; b=NwCBLRil8af5UDQ9IUp1QOw38+T7/WZGrFbv6ZZrpHPkUj5yj/fs93GaMQLQbRxaMr lusqPeNkIsZuio7/loMcuS3FbVDtsffnS0XSNsO2EFr09M5aeOX6VXBk/f1NQ2FVwsI6 vel+QNCJLQS9PzQ5Y31R7yTn7QDRSn3DH2I/c= X-Google-DKIM-Signature: v=1; a=rsa-sha256; c=relaxed/relaxed; d=1e100.net; s=20230601; t=1761831449; x=1762436249; h=references:in-reply-to:cc:to:from:subject:message-id:date :x-gm-message-state:from:to:cc:subject:date:message-id:reply-to; bh=PIQbRAdrNcK6tF6Kr5BZBhTipGFsrnBqv+GkgnydlJg=; b=B7H/40BuWjLLSbEJVEcmHEa0BlGmmgeJJDCHhq0NTrZvYNST3+M0YsLbPvSV67mIjn 6vDzV9pzJMK6K23L9ZAVcrFz7RNC36JbKxlZYEt1dF1lOyvAXqMZtL6BkbmSvBPehtZF UUrDvuO0G3LmPXm+fWX0kbA78o2S+2l3x+MPqwVCbWD+Gz5lG0XVdodhq4K2aABOWzd5 LbdKNNW019afwNVGl6qkr2iuY+hrQlH1C3Kd2y7hgofnUSNNtIeTJu1/S79sIgKR3BRB ET4OcCbyk4W0UWyr6P+SKelljMCYvbumu+gao3HyErEQ0B0rIEk0G2E4l3+KAilOoKmp hZ0A== X-Gm-Message-State: AOJu0YyahI+2r4ZO/ANAx5ngLq6c6GDQlDKG6wSGLCz8kHMSxZyU8ywC W5Goc6TV0d5xTfJtyWiqWSdUvcnDGKuUZhNcvxH4oNGIwm/BU82wgomDlQn8cSQT6hLvg/79PBq dNnxAJxJg0RNG1i6aqJ0vQSGTXWNDc8iH08wfzaA2NfSZ X-Gm-Gg: ASbGncthcaY/r7jaILO+ihp1afQnDMwkgRxL7uXv8pns82+A8QNbpG9ip4flnLcnAL9 Is6O1dGOMwL3bmRz0Ufe+niFEqAU/VGkXwGKx7M4hsqb0YHxramllDWeC6JsVf0HUJhsIUDcVjD xIXjKxTrMKOctol21weJadtMRY3+GlfJFFq85kA2b7ant3iasjwjwbrFE1Dqys4hV9qZiLftpDu qhUl/OfOsuovGVsEyraRpuzE6XrN/IaBr8BtIlUTpzbSNnV61YZhzE/4gCXzNSrL/cKjcHcWJ8P zO1fgKJAijNy9voHP6giVHCW5fKjcx6QCVtoZ+dsujtmuLAmf/0mSBH1fHOmbxooGyBcGh7gHP9 c+PUF7NWncqtlGAT36Y5ll8gScsn6CRM= X-Google-Smtp-Source: AGHT+IG/bYlfRXEggo1RCA2KQeeIgk0ifvhhSEIp5ArpfGdTbHCgehdqFi1rzrSHmg9OcDqlx7uObJPuqG23 X-Received: by 2002:a05:622a:388:b0:4ec:f63b:70c6 with SMTP id d75a77b69052e-4ed22226d23mr39145491cf.46.1761831448945; Thu, 30 Oct 2025 06:37:28 -0700 (PDT) Received: from postal.iol.unh.edu (postal.iol.unh.edu. [132.177.123.84]) by smtp-relay.gmail.com with ESMTPS id af79cd13be357-89f23c3e870sm162006585a.3.2025.10.30.06.37.28 (version=TLS1_2 cipher=ECDHE-ECDSA-AES128-GCM-SHA256 bits=128/128); Thu, 30 Oct 2025 06:37:28 -0700 (PDT) X-Relaying-Domain: iol.unh.edu Date: Thu, 30 Oct 2025 06:37:28 -0700 (PDT) Message-ID: <69036a18.050a0220.3064db.bf64SMTPIN_ADDED_MISSING@mx.google.com> Received: from [172.21.0.2] (unknown [172.18.0.240]) by postal.iol.unh.edu (Postfix) with ESMTP id 9A3DB60003E7; Thu, 30 Oct 2025 09:37:28 -0400 (EDT) Subject: |SUCCESS| pw158220 [PATCH] [v2] bitmap: change return value of rte_b From: dpdklab@iol.unh.edu To: Test Report Cc: dpdk-test-reports@iol.unh.edu In-Reply-To: <20251029145055.990899-1-stephen@networkplumber.org> References: <20251029145055.990899-1-stephen@networkplumber.org> Content-Type: text/plain X-BeenThere: test-report@dpdk.org X-Mailman-Version: 2.1.29 Precedence: list List-Id: automatic DPDK test reports List-Unsubscribe: , List-Archive: List-Post: List-Help: List-Subscribe: , Errors-To: test-report-bounces@dpdk.org Test-Label: iol-unit-arm64-testing Test-Status: SUCCESS http://dpdk.org/patch/158220 _Testing PASS_ Submitter: Stephen Hemminger Date: Wednesday, October 29 2025 14:50:55 DPDK git baseline: Repo:dpdk Branch: master CommitID:39b54f2dcf44ad1f91eabc7080cd5dea763607fd 158220 --> testing pass Upstream job id: Generic-Unit-Test-DPDK#386701 Test environment and result as below: +------------------------------+---------------------------+------------------------------+--------------+----------------+ | Environment | cryptodev_sw_zuc_autotest | cryptodev_sw_snow3g_autotest | lpm_autotest | dpdk_unit_test | +==============================+===========================+==============================+==============+================+ | Debian 12 (arm) | PASS | PASS | SKIPPED | SKIPPED | +------------------------------+---------------------------+------------------------------+--------------+----------------+ | Ubuntu 20.04 | SKIPPED | SKIPPED | PASS | PASS | +------------------------------+---------------------------+------------------------------+--------------+----------------+ | CentOS Stream 9 | SKIPPED | SKIPPED | SKIPPED | PASS | +------------------------------+---------------------------+------------------------------+--------------+----------------+ | CentOS Stream 10 | SKIPPED | SKIPPED | SKIPPED | PASS | +------------------------------+---------------------------+------------------------------+--------------+----------------+ | Debian GNU/Linux 12 | SKIPPED | SKIPPED | SKIPPED | PASS | +------------------------------+---------------------------+------------------------------+--------------+----------------+ | Fedora Linux 40 | SKIPPED | SKIPPED | SKIPPED | PASS | +------------------------------+---------------------------+------------------------------+--------------+----------------+ | Fedora Linux 41 | SKIPPED | SKIPPED | SKIPPED | PASS | +------------------------------+---------------------------+------------------------------+--------------+----------------+ | Fedora Linux 42 | SKIPPED | SKIPPED | SKIPPED | PASS | +------------------------------+---------------------------+------------------------------+--------------+----------------+ | Ubuntu 22.04 | SKIPPED | SKIPPED | SKIPPED | PASS | +------------------------------+---------------------------+------------------------------+--------------+----------------+ | Red Hat Enterprise Linux 9.5 | SKIPPED | SKIPPED | SKIPPED | PASS | +------------------------------+---------------------------+------------------------------+--------------+----------------+ | Ubuntu 24.04 | SKIPPED | SKIPPED | SKIPPED | PASS | +------------------------------+---------------------------+------------------------------+--------------+----------------+ Debian 12 (arm) Kernel: Depends on container host Compiler: gcc (Debian 12.2.0-14) 12.2.0 Ubuntu 20.04 Kernel: 5.4 Compiler: gcc gcc (Ubuntu 9.4.0-1ubuntu1~20.04.2) 9.4.0 CentOS Stream 9 Kernel: 5.4 Compiler: gcc gcc (GCC) 11.5.0 20240719 (Red Hat 11.5.0-11) CentOS Stream 10 Kernel: 5.4 Compiler: gcc gcc (GCC) 14.2.1 20250110 (Red Hat 14.2.1-8) Debian GNU/Linux 12 Kernel: 5.4 Compiler: gcc gcc (Debian 12.2.0-14+deb12u1) 12.2.0 Fedora Linux 40 Kernel: 5.4 Compiler: gcc gcc (GCC) 14.2.1 20240912 (Red Hat 14.2.1-3) Fedora Linux 41 Kernel: 5.4 Compiler: gcc gcc (GCC) 14.3.1 20250523 (Red Hat 14.3.1-1) Fedora Linux 42 Kernel: 5.4 Compiler: gcc gcc (GCC) 15.2.1 20250808 (Red Hat 15.2.1-1) Ubuntu 22.04 Kernel: 5.4 Compiler: gcc gcc (Ubuntu 11.4.0-1ubuntu1~22.04) 11.4.0 Red Hat Enterprise Linux 9.5 Kernel: 5.4 Compiler: gcc gcc (GCC) 11.5.0 20240719 (Red Hat 11.5.0-2) Ubuntu 24.04 Kernel: 5.4 Compiler: gcc gcc (Ubuntu 13.3.0-6ubuntu2~24.04) 13.3.0 To view detailed results, visit: https://lab.dpdk.org/results/dashboard/patchsets/34416/ UNH-IOL DPDK Community Lab To manage your email subscriptions, visit: https://lab.dpdk.org/results/dashboard/preferences/subscriptions/