From mboxrd@z Thu Jan 1 00:00:00 1970 Return-Path: Received: from mails.dpdk.org (mails.dpdk.org [217.70.189.124]) by inbox.dpdk.org (Postfix) with ESMTP id 8FF3B48A0F for ; Thu, 30 Oct 2025 15:46:39 +0100 (CET) Received: from mails.dpdk.org (localhost [127.0.0.1]) by mails.dpdk.org (Postfix) with ESMTP id 894BC4026F; Thu, 30 Oct 2025 15:46:39 +0100 (CET) Received: from mail-vk1-f225.google.com (mail-vk1-f225.google.com [209.85.221.225]) by mails.dpdk.org (Postfix) with ESMTP id B75494026F for ; Thu, 30 Oct 2025 15:46:38 +0100 (CET) Received: by mail-vk1-f225.google.com with SMTP id 71dfb90a1353d-557bf688086so75981e0c.1 for ; Thu, 30 Oct 2025 07:46:38 -0700 (PDT) DKIM-Signature: v=1; a=rsa-sha256; c=relaxed/relaxed; d=iol.unh.edu; s=unh-iol; t=1761835598; x=1762440398; darn=dpdk.org; h=cc:to:from:subject:message-id:date:from:to:cc:subject:date :message-id:reply-to; bh=YiGst77t3nmIaZZO00BUoEmu4thM//L12KaIVVGLxY0=; b=GaMy1S1WiUQBL3h6xHhNESNvBo4RTQSYiWRjZaVcA3wJ8FSxSXFc5wsiUmq5Kg1f+b XdqYrfmlp6CpE5ITbT75uAwou2EBDNI1asID5D3ZNcuPTYMyj+MNHdqNiYra2FZFMQYE bcRcOmOMZEOFrg28YC+J3fG+wi3wjAfhDVV6k= X-Google-DKIM-Signature: v=1; a=rsa-sha256; c=relaxed/relaxed; d=1e100.net; s=20230601; t=1761835598; x=1762440398; h=cc:to:from:subject:message-id:date:x-gm-message-state:from:to:cc :subject:date:message-id:reply-to; bh=YiGst77t3nmIaZZO00BUoEmu4thM//L12KaIVVGLxY0=; b=RfPc8/ipiEGj+P2veerW32a1HLt+HzewluvqbnuQo0u8cGhPIAWR/SLk2iLnMc7yNM 0Cd4QcRkq3tdE2Uc0m4BRmnBdQDT3xSNVwMs6emePnNrqk4uZLcu+G4N8w2ZwYhnpcIU De+RR249gRBjaklCeuoOHLSu7Syxc0NQ4U7WFxEjCYh/jcW17YJOonkUSTCfOpoOS+nk CioeakHaVd9UtzlSLA0g2DOPujMN4eOmj+dFa9oo+PFwy6S/oFu1WSBV4x77t+hQ/7d1 BfftNCEEly2D5E6fcA7ukwm082uQX2NLpC/O7eo28nXT5FBCV97xixr6X8lB8uDizMd5 0ang== X-Gm-Message-State: AOJu0YxCx3dXDiBT08g0Gxijdm615PTedwg7KM1y0t9uPEA7cz5xHxM+ C3X2snld7xWqAiSR6fxn64p16id3SKD3qQ1j7j4JXxocJdOTFlkzc+SqXx4Q29s/JpD0wcnoLQv 1NIZpSoxF9WD/39acZ5oNuHHAbYFM6YmkIy45gtlXA3IOGf2A/1fW X-Gm-Gg: ASbGncv518SJ3JXAzg6EV9boBh0QJV2FcIqBKSy+c6NUtc5xLmNsgze8VFGEbQL5r+1 zXtI7S8pTK7TV4lKAbgAjB92BNgKkMn6IsgTg6h1lsP2/BhRXVJ/f+UnIFp1Q8ij8Z2K6r1LEmR ZQuq+mhV8nXmtsuLwmjRvsWka1PeZcH7xRNr9Q5vVBAI8vG8LthrQNTXmG3JlHTxWAuq/1Vm4+9 r9p1VkfmIhwIB10lrF21ZMR7YUSnXHg0xo4woyUDzOQAQd5WJMV9gvTd4M42EEo69OAkvRAcOcH 3cc0JSTRAXuLVLVBQ/ZZbSOLsVYf+Bz9Iqs9Nt35pLRwxWT2YfEKM31jbZ19iY8pk/Est3HcA1M 6yhqZyv2A X-Google-Smtp-Source: AGHT+IHpldKcWSJfYNTYDzvNRyttDz7aGBKIheKawsXPN9CGM5daEmIqm+ta/ndcD3FwQSWP1qBUfWUH0ReT X-Received: by 2002:a05:6122:3d05:b0:559:3b8a:70ce with SMTP id 71dfb90a1353d-5593e2fbc4cmr54263e0c.7.1761835597883; Thu, 30 Oct 2025 07:46:37 -0700 (PDT) Received: from postal.iol.unh.edu (postal.iol.unh.edu. [2606:4100:3880:1234::84]) by smtp-relay.gmail.com with ESMTPS id 71dfb90a1353d-557ddb4f6dbsm1878168e0c.6.2025.10.30.07.46.37 (version=TLS1_2 cipher=ECDHE-ECDSA-AES128-GCM-SHA256 bits=128/128); Thu, 30 Oct 2025 07:46:37 -0700 (PDT) X-Relaying-Domain: iol.unh.edu Date: Thu, 30 Oct 2025 07:46:37 -0700 (PDT) Message-ID: <69037a4d.050a0220.2d0917.801bSMTPIN_ADDED_MISSING@mx.google.com> Received: from [172.21.0.2] (unknown [172.18.0.240]) by postal.iol.unh.edu (Postfix) with ESMTP id 7FD866051830; Thu, 30 Oct 2025 10:46:37 -0400 (EDT) Subject: |SUCCESS| [GIT MASTER] 5d40aaf77852b5884e137f1588726c92feb59002 From: dpdklab@iol.unh.edu To: Test Report Cc: dpdk-test-reports@iol.unh.edu, Ajit Khaparde Content-Type: text/plain X-BeenThere: test-report@dpdk.org X-Mailman-Version: 2.1.29 Precedence: list List-Id: automatic DPDK test reports List-Unsubscribe: , List-Archive: List-Post: List-Help: List-Subscribe: , Errors-To: test-report-bounces@dpdk.org _Testing PASS_ Branch: next-net-brcm-for-next-net 5d40aaf77852b5884e137f1588726c92feb59002 --> testing pass Upstream job id: Generic-Unit-Test-DPDK#386714 Test environment and result as below: +------------------------------+----------------+--------------+------------------------------+---------------------------+ | Environment | dpdk_unit_test | lpm_autotest | cryptodev_sw_snow3g_autotest | cryptodev_sw_zuc_autotest | +==============================+================+==============+==============================+===========================+ | CentOS Stream 10 | PASS | SKIPPED | SKIPPED | SKIPPED | +------------------------------+----------------+--------------+------------------------------+---------------------------+ | CentOS Stream 9 | PASS | SKIPPED | SKIPPED | SKIPPED | +------------------------------+----------------+--------------+------------------------------+---------------------------+ | Fedora Linux 41 | PASS | SKIPPED | SKIPPED | SKIPPED | +------------------------------+----------------+--------------+------------------------------+---------------------------+ | Fedora Linux 40 | PASS | SKIPPED | SKIPPED | SKIPPED | +------------------------------+----------------+--------------+------------------------------+---------------------------+ | Debian GNU/Linux 12 | PASS | SKIPPED | SKIPPED | SKIPPED | +------------------------------+----------------+--------------+------------------------------+---------------------------+ | Fedora Linux 42 | PASS | SKIPPED | SKIPPED | SKIPPED | +------------------------------+----------------+--------------+------------------------------+---------------------------+ | Red Hat Enterprise Linux 9.5 | PASS | SKIPPED | SKIPPED | SKIPPED | +------------------------------+----------------+--------------+------------------------------+---------------------------+ | Ubuntu 22.04 | PASS | SKIPPED | SKIPPED | SKIPPED | +------------------------------+----------------+--------------+------------------------------+---------------------------+ | Ubuntu 20.04 | PASS | PASS | SKIPPED | SKIPPED | +------------------------------+----------------+--------------+------------------------------+---------------------------+ | Ubuntu 24.04 | PASS | SKIPPED | SKIPPED | SKIPPED | +------------------------------+----------------+--------------+------------------------------+---------------------------+ | Debian 12 (arm) | SKIPPED | SKIPPED | PASS | PASS | +------------------------------+----------------+--------------+------------------------------+---------------------------+ CentOS Stream 10 Kernel: 5.4 Compiler: gcc gcc (GCC) 14.2.1 20250110 (Red Hat 14.2.1-8) CentOS Stream 9 Kernel: 5.4 Compiler: gcc gcc (GCC) 11.5.0 20240719 (Red Hat 11.5.0-11) Fedora Linux 41 Kernel: 5.4 Compiler: clang gcc (GCC) 14.3.1 20250523 (Red Hat 14.3.1-1) Fedora Linux 40 Kernel: 5.4 Compiler: clang gcc (GCC) 14.2.1 20240912 (Red Hat 14.2.1-3) Debian GNU/Linux 12 Kernel: 5.4 Compiler: gcc gcc (Debian 12.2.0-14+deb12u1) 12.2.0 Fedora Linux 42 Kernel: 5.4 Compiler: gcc gcc (GCC) 15.2.1 20250808 (Red Hat 15.2.1-1) Red Hat Enterprise Linux 9.5 Kernel: 5.4 Compiler: gcc gcc (GCC) 11.5.0 20240719 (Red Hat 11.5.0-2) Ubuntu 22.04 Kernel: 5.15 Compiler: gcc gcc (Ubuntu 11.4.0-1ubuntu1~22.04.2) 11.4.0 Ubuntu 20.04 Kernel: 5.4 Compiler: gcc gcc (Ubuntu 9.4.0-1ubuntu1~20.04.2) 9.4.0 Ubuntu 24.04 Kernel: 5.4 Compiler: gcc gcc (Ubuntu 13.3.0-6ubuntu2~24.04) 13.3.0 Debian 12 (arm) Kernel: Depends on container host Compiler: gcc (Debian 12.2.0-14) 12.2.0 To view detailed results, visit: https://lab.dpdk.org/results/dashboard/tarballs/35390/ UNH-IOL DPDK Community Lab To manage your email subscriptions, visit: https://lab.dpdk.org/results/dashboard/preferences/subscriptions/