From mboxrd@z Thu Jan 1 00:00:00 1970 Return-Path: Received: from mails.dpdk.org (mails.dpdk.org [217.70.189.124]) by inbox.dpdk.org (Postfix) with ESMTP id 8F4D848A13 for ; Thu, 30 Oct 2025 17:17:07 +0100 (CET) Received: from mails.dpdk.org (localhost [127.0.0.1]) by mails.dpdk.org (Postfix) with ESMTP id 85BCD40150; Thu, 30 Oct 2025 17:17:07 +0100 (CET) Received: from mail-qv1-f100.google.com (mail-qv1-f100.google.com [209.85.219.100]) by mails.dpdk.org (Postfix) with ESMTP id 32F2140150 for ; Thu, 30 Oct 2025 17:17:06 +0100 (CET) Received: by mail-qv1-f100.google.com with SMTP id 6a1803df08f44-87a092251eeso30085266d6.0 for ; Thu, 30 Oct 2025 09:17:06 -0700 (PDT) DKIM-Signature: v=1; a=rsa-sha256; c=relaxed/relaxed; d=iol.unh.edu; s=unh-iol; t=1761841025; x=1762445825; darn=dpdk.org; h=references:in-reply-to:cc:to:from:subject:message-id:date:from:to :cc:subject:date:message-id:reply-to; bh=mzplaDNI4Vta/By4I3Rpihf9ENYfSz77hR4mX65JPss=; b=ZuSACYgWIUkQD9l5rqP9vDGuTAlSFONNOG0XP14wPMHWlfbg1+5AyweeXr8vEr4sYi JlE5kcPZdDsHCaxAglCUFB3C6d+23bYq03snspyWOfDX3I06sQouc83ya9IRpwVa9+Yp SZXHn04IvGBG31VdY7tBXbZeHJ27MWts7Jb8M= X-Google-DKIM-Signature: v=1; a=rsa-sha256; c=relaxed/relaxed; d=1e100.net; s=20230601; t=1761841025; x=1762445825; h=references:in-reply-to:cc:to:from:subject:message-id:date :x-gm-message-state:from:to:cc:subject:date:message-id:reply-to; bh=mzplaDNI4Vta/By4I3Rpihf9ENYfSz77hR4mX65JPss=; b=GbZHBpUCPkOX/+U66ksJHuaiVPX2bmaTS+2QK8uFz8yBvj6EAIiHj1478I0r0OyVYv Ar/N6941qCTuwwB54X9eGXKousD4LKfohgo3qchiw7c4XaT3RKqtGWneQ4U6H0mzR6lI UXcmAbJREGxFYDqj4WW3OxH1gKXFF4OsXVHqXsleHxWXQTtGoI/Q0y9fBBI0UkoAPIFf /dyErGjOdMntl0xy39n90aWP0gsK31Vs6X8wM63C8SQwz5SN7O0SAQQ9h5jEwS51nHsQ zADUPrruWxl4KLThI8KsB3JH9St9Z8VxJl1xXV0CM89p2tLZH6K8hgT83j2Y/pqdBbLO PZKA== X-Gm-Message-State: AOJu0Yy91u+O1IJhJr3FdSZMtwi/za27f7+QxIjC0iK8NypJJSEW13MO 2tWyUEFB05IctmIoevinc6ZkWlvpLUMK40tqTs9UJjDnfOaS90CUUdW9mmIVdG0IOGXgBuvAYI3 J8UyM/zRWL2NxHO5BJVrVr4cpp5YZpW0Wl5nYD2K0wnKQAGf7RUukY0kOLB28 X-Gm-Gg: ASbGncuoye6NacZhatfvt3+r6FVj/Qc+mIsMQEbykpgH0jtGTSXQvIiKkhO1Lm/Agxq 6lfg88TYF+JBKitzjGKN3RkgPpxkpaflzMI5jWX/R3ZOpr+dMV75RWfK5b4E6oQlHGQlc6U0FFE bfd/7b4jPcrGne3aVCFENY5qHjhKkBkHJ+uhTEDtlIzib7gvA6jl98gUpYGiqCfZKsm2AsurD1f 093bs0+lmNnBELaUtpREIQONDT4kTSFqZsQ3b1hkmnnXe2vDTlPZc8QR1iYLaWFgBb8Rwlt0aMT PtGckjgU116NawlcdxHPpcemeVN1DLMBNPqh0K+7rzUXpxB704Taco4jztxyMkm8xJDwEf9O1UK 1Q9HFlt2K X-Google-Smtp-Source: AGHT+IEK1KKdQ+p+neRFGk1umQSz1ueiXj2lJlmpIyjqtP9bKyZcxlpaS6iI9RZkoAMnMx23A0uUyIKHzI+p X-Received: by 2002:a05:6214:11ac:b0:880:2f47:f73d with SMTP id 6a1803df08f44-8802f480f3fmr1014696d6.20.1761841025378; Thu, 30 Oct 2025 09:17:05 -0700 (PDT) Received: from postal.iol.unh.edu (postal.iol.unh.edu. [2606:4100:3880:1234::84]) by smtp-relay.gmail.com with ESMTPS id 6a1803df08f44-87fc48dbd0bsm17162006d6.5.2025.10.30.09.17.05 (version=TLS1_2 cipher=ECDHE-ECDSA-AES128-GCM-SHA256 bits=128/128); Thu, 30 Oct 2025 09:17:05 -0700 (PDT) X-Relaying-Domain: iol.unh.edu Date: Thu, 30 Oct 2025 09:17:05 -0700 (PDT) Message-ID: <69038f81.050a0220.311f28.35beSMTPIN_ADDED_MISSING@mx.google.com> Received: from [172.21.0.2] (unknown [172.18.0.240]) by postal.iol.unh.edu (Postfix) with ESMTP id 1EFF860003E7; Thu, 30 Oct 2025 12:17:05 -0400 (EDT) Subject: |SUCCESS| pw158287-158289 [PATCH] [v2,3/3] doc: update TxPP document From: dpdklab@iol.unh.edu To: Test Report Cc: dpdk-test-reports@iol.unh.edu, Bruce Richardson In-Reply-To: <20251030173304.260209-4-soumyadeep.hore@intel.com> References: <20251030173304.260209-4-soumyadeep.hore@intel.com> Content-Type: text/plain X-BeenThere: test-report@dpdk.org X-Mailman-Version: 2.1.29 Precedence: list List-Id: automatic DPDK test reports List-Unsubscribe: , List-Archive: List-Post: List-Help: List-Subscribe: , Errors-To: test-report-bounces@dpdk.org Test-Label: iol-compile-arm64-testing Test-Status: SUCCESS http://dpdk.org/patch/158289 _Testing PASS_ Submitter: Soumyadeep Hore Date: Thursday, October 30 2025 17:33:04 DPDK git baseline: Repo:dpdk-next-net-intel Branch: master CommitID:6b997d6b9ffdbb4f8ecd14d1f217da69cdc783af 158287-158289 --> testing pass Upstream job id: Generic-DPDK-Compile-Meson#439355 Test environment and result as below: +------------------------------+--------------------+ | Environment | dpdk_meson_compile | +==============================+====================+ | Red Hat Enterprise Linux 9.5 | PASS | +------------------------------+--------------------+ | Ubuntu 20.04 | PASS | +------------------------------+--------------------+ | Debian GNU/Linux 12 | PASS | +------------------------------+--------------------+ | Fedora Linux 42 | PASS | +------------------------------+--------------------+ | Ubuntu 22.04 | PASS | +------------------------------+--------------------+ | Ubuntu 24.04 | PASS | +------------------------------+--------------------+ | CentOS Stream 9 | PASS | +------------------------------+--------------------+ | CentOS Stream 10 | PASS | +------------------------------+--------------------+ Red Hat Enterprise Linux 9.5 Kernel: 5.4 Compiler: gcc gcc (GCC) 11.5.0 20240719 (Red Hat 11.5.0-2) Ubuntu 20.04 Kernel: 5.15 Compiler: aarch64-linux-gnu-gcc gcc (Ubuntu 9.4.0-1ubuntu1~20.04.2) 9.4.0 Debian GNU/Linux 12 Kernel: 5.4 Compiler: gcc gcc (Debian 12.2.0-14+deb12u1) 12.2.0 Fedora Linux 42 Kernel: 5.4 Compiler: gcc gcc (GCC) 15.2.1 20250808 (Red Hat 15.2.1-1) Ubuntu 22.04 Kernel: 5.4 Compiler: gcc gcc (Ubuntu 11.4.0-1ubuntu1~22.04) 11.4.0 Ubuntu 24.04 Kernel: 5.4 Compiler: gcc gcc (Ubuntu 13.3.0-6ubuntu2~24.04) 13.3.0 CentOS Stream 9 Kernel: 5.4 Compiler: gcc gcc (GCC) 11.5.0 20240719 (Red Hat 11.5.0-11) CentOS Stream 10 Kernel: 5.4 Compiler: gcc gcc (GCC) 14.2.1 20250110 (Red Hat 14.2.1-8) To view detailed results, visit: https://lab.dpdk.org/results/dashboard/patchsets/34424/ UNH-IOL DPDK Community Lab To manage your email subscriptions, visit: https://lab.dpdk.org/results/dashboard/preferences/subscriptions/