From: dpdklab@iol.unh.edu
To: Test Report <test-report@dpdk.org>
Cc: dpdk-test-reports@iol.unh.edu
Subject: |SUCCESS| pw158305-158306 [PATCH] [2/2] test/hash: reduce time of fu
Date: Thu, 30 Oct 2025 11:50:22 -0700 (PDT)	[thread overview]
Message-ID: <6903b36e.170a0220.2d8884.050cSMTPIN_ADDED_MISSING@mx.google.com> (raw)
In-Reply-To: <20251030175329.4041960-3-thomas@monjalon.net>
Test-Label: iol-sample-apps-testing
Test-Status: SUCCESS
http://dpdk.org/patch/158306
_Testing PASS_
Submitter: Thomas Monjalon <thomas@monjalon.net>
Date: Thursday, October 30 2025 17:50:12 
DPDK git baseline: Repo:dpdk
  Branch: master
  CommitID:39b54f2dcf44ad1f91eabc7080cd5dea763607fd
158305-158306 --> testing pass
Upstream job id: Template-DTS-Pipeline#252176
Test environment and result as below:
+--------------+----------------------+
| Environment  | compressdev_zlib_pmd |
+==============+======================+
| Ubuntu 22.04 | PASS                 |
+--------------+----------------------+
Ubuntu 22.04
	Kernel: 5.15
	Compiler: gcc gcc (Ubuntu 11.4.0-1ubuntu1~22.04.2) 11.4.0
To view detailed results, visit:
https://lab.dpdk.org/results/dashboard/patchsets/34426/
UNH-IOL DPDK Community Lab
To manage your email subscriptions, visit: 
https://lab.dpdk.org/results/dashboard/preferences/subscriptions/
next prev parent reply	other threads:[~2025-10-30 18:50 UTC|newest]
Thread overview: 25+ messages / expand[flat|nested]  mbox.gz  Atom feed  top
     [not found] <20251030175329.4041960-3-thomas@monjalon.net>
2025-10-30 17:33 ` |SUCCESS| pw158305-158306 [PATCH 2/2] test/hash: reduce time of functional R/W test qemudev
2025-10-30 17:39 ` qemudev
2025-10-30 17:53 ` |SUCCESS| pw158306 " checkpatch
2025-10-30 18:38 ` |PENDING| pw158305-158306 [PATCH] [2/2] test/hash: reduce time of fu dpdklab
2025-10-30 18:40 ` |SUCCESS| " dpdklab
2025-10-30 18:45 ` dpdklab
2025-10-30 18:50 ` dpdklab [this message]
2025-10-30 18:57 ` |WARNING| " dpdklab
2025-10-30 18:57 ` dpdklab
2025-10-30 18:57 ` dpdklab
2025-10-30 19:04 ` |SUCCESS| " dpdklab
2025-10-30 19:07 ` |SUCCESS| pw158306 [PATCH 2/2] test/hash: reduce time of functional R/W test 0-day Robot
2025-10-30 19:07 ` 0-day Robot
2025-10-30 19:10 ` |PENDING| pw158305-158306 [PATCH] [2/2] test/hash: reduce time of fu dpdklab
2025-10-30 19:10 ` |SUCCESS| " dpdklab
2025-10-30 19:11 ` |WARNING| " dpdklab
2025-10-30 19:14 ` |SUCCESS| " dpdklab
2025-10-30 19:36 ` dpdklab
2025-10-30 19:50 ` |WARNING| " dpdklab
2025-10-30 19:58 ` |SUCCESS| " dpdklab
2025-10-30 20:09 ` |WARNING| " dpdklab
2025-10-30 20:18 ` |SUCCESS| " dpdklab
2025-10-30 20:22 ` |WARNING| " dpdklab
2025-10-30 20:24 ` |SUCCESS| " dpdklab
2025-10-30 21:59 ` dpdklab
Reply instructions:
You may reply publicly to this message via plain-text email
using any one of the following methods:
* Save the following mbox file, import it into your mail client,
  and reply-to-all from there: mbox
  Avoid top-posting and favor interleaved quoting:
  https://en.wikipedia.org/wiki/Posting_style#Interleaved_style
* Reply using the --to, --cc, and --in-reply-to
  switches of git-send-email(1):
  git send-email \
    --in-reply-to=6903b36e.170a0220.2d8884.050cSMTPIN_ADDED_MISSING@mx.google.com \
    --to=dpdklab@iol.unh.edu \
    --cc=dpdk-test-reports@iol.unh.edu \
    --cc=test-report@dpdk.org \
    /path/to/YOUR_REPLY
  https://kernel.org/pub/software/scm/git/docs/git-send-email.html
* If your mail client supports setting the In-Reply-To header
  via mailto: links, try the mailto: link
  Be sure your reply has a Subject: header at the top and a blank line
  before the message body.
This is a public inbox, see mirroring instructions
for how to clone and mirror all data and code used for this inbox;
as well as URLs for NNTP newsgroup(s).