From mboxrd@z Thu Jan 1 00:00:00 1970 Return-Path: Received: from mails.dpdk.org (mails.dpdk.org [217.70.189.124]) by inbox.dpdk.org (Postfix) with ESMTP id 7DB6048A14 for ; Thu, 30 Oct 2025 19:57:16 +0100 (CET) Received: from mails.dpdk.org (localhost [127.0.0.1]) by mails.dpdk.org (Postfix) with ESMTP id 796FD4026F; Thu, 30 Oct 2025 19:57:16 +0100 (CET) Received: from mail-il1-f227.google.com (mail-il1-f227.google.com [209.85.166.227]) by mails.dpdk.org (Postfix) with ESMTP id ECC744026F for ; Thu, 30 Oct 2025 19:57:14 +0100 (CET) Received: by mail-il1-f227.google.com with SMTP id e9e14a558f8ab-430da72d67bso11776835ab.1 for ; Thu, 30 Oct 2025 11:57:14 -0700 (PDT) DKIM-Signature: v=1; a=rsa-sha256; c=relaxed/relaxed; d=iol.unh.edu; s=unh-iol; t=1761850634; x=1762455434; darn=dpdk.org; h=cc:to:from:subject:message-id:date:from:to:cc:subject:date :message-id:reply-to; bh=hOm7k5OD1Rg8jJwxk/6GXecqBiIQC/DPormHkNW35tc=; b=AiMqd9fyUmSfa03F2zSqjwgg+wBdvi8M/yKSHxlO9hx/MmW6lIbjJqoe0tmQPcFZqS QspUlTLZefC1fs1p8/PNXAdDsIZMDpWLWsf0zim5o39Oe6Hsu8JsJF3tRzOAkHomWbHi ujE9muhj53aWjq9MYa6xDW8iJr+uvAdMDJTts= X-Google-DKIM-Signature: v=1; a=rsa-sha256; c=relaxed/relaxed; d=1e100.net; s=20230601; t=1761850634; x=1762455434; h=cc:to:from:subject:message-id:date:x-gm-message-state:from:to:cc :subject:date:message-id:reply-to; bh=hOm7k5OD1Rg8jJwxk/6GXecqBiIQC/DPormHkNW35tc=; b=JpCQ5dBXB78R5AsxTOY/cP6msg5n47dNlg68MKSaiwD32ozUycSarItKgXVxz8ayFE LCHLy6JIc6HZ0Da6tPnHZso2dLMkrr4X8vt52rsn4jsAAiEIFe6oIYqU11MHlj+L7JI8 ZdB6IMICYtbv4mrKhkIpNxmZXk5/sWM/xWB3Cgpw2Hehs9AnaxIefyLa70zOmXP5Cltd 76J21YlcuVnNHkkSBI2HRx9gt1U6o/ktY3PZ4vNk957lsnHCua+WNHP3YleHLvYeLJLS afDJ0sUvXtUu6FArHUGxtIr4Yj+sb5s2E0Ytx3hlaA4jmocZm9bwjsw1dN3puGTltOcP W54Q== X-Gm-Message-State: AOJu0YyL3xgDeiRL6McgvR8ubJ5tydkz6hJ8orDnhc+03gHA5cVKZ2KL vhiE/z4wHaxkMe2E/V0avnUaXoc9/tAXt2Ch8Ve8GrwkIedncbi+SimWGuMwiwdi2wfqM9jFuT3 sSBOoKi6NPdFeCrA37NWs8ULwD9+mFIPf5klF/41Zr9d1 X-Gm-Gg: ASbGncv8g2j/Xip00RRnK/htzAhVUH//ygdvbW1vIuY+T00o5IWnpAAhGvGXetosstX WWXR2OPFx9fycJhRSiTadBMXsgripnRiPxjhAhfRBAIcZoLwvNoWyN9pItQI+RxyzXy1/hUIToG wYCpgLJqruRd/GAiA2O98JbyxmgI6Sa1jOkDvqyb+p48HMGtZtIAPFe/vHgoDxw+CLmSlMthlJk nTqfhr9/c2fkz0i0azCl3zSMAPBLD/72EuWyp7+gbz1fdyXnX1wyfml4ZJwBAkqpHyZLf7rHwFP OpSZYxd+nrHZkrkO8ZzI95IZ6suw0Jf5gQ6Uuz0tUTlTZy7w1FqXBZqgFCXajjXLheq1qPwLjX7 xEjU3+M/Njhc2pXtoY0cgEPSWDGYGZ1k= X-Google-Smtp-Source: AGHT+IFEV6YdRLGXlpNps8X/C7YZDvTXpSCrZcWudgEYcnZbyzm9ifs2wJXdVE2DJ673y35WFOTgD8STiI4x X-Received: by 2002:a05:6e02:194b:b0:430:ab8e:9db5 with SMTP id e9e14a558f8ab-4330bd7999fmr17454405ab.3.1761850634269; Thu, 30 Oct 2025 11:57:14 -0700 (PDT) Received: from postal.iol.unh.edu (postal.iol.unh.edu. [132.177.123.84]) by smtp-relay.gmail.com with ESMTPS id e9e14a558f8ab-431f67f8eb8sm16958665ab.13.2025.10.30.11.57.14 (version=TLS1_2 cipher=ECDHE-ECDSA-AES128-GCM-SHA256 bits=128/128); Thu, 30 Oct 2025 11:57:14 -0700 (PDT) X-Relaying-Domain: iol.unh.edu Date: Thu, 30 Oct 2025 11:57:14 -0700 (PDT) Message-ID: <6903b50a.050a0220.233a14.0af2SMTPIN_ADDED_MISSING@mx.google.com> Received: from [172.21.0.4] (unknown [172.18.0.240]) by postal.iol.unh.edu (Postfix) with ESMTP id B03446050A61; Thu, 30 Oct 2025 14:57:13 -0400 (EDT) Subject: |SUCCESS| [GIT MASTER] 39b54f2dcf44ad1f91eabc7080cd5dea763607fd From: dpdklab@iol.unh.edu To: Test Report Cc: dpdk-test-reports@iol.unh.edu Content-Type: text/plain X-BeenThere: test-report@dpdk.org X-Mailman-Version: 2.1.29 Precedence: list List-Id: automatic DPDK test reports List-Unsubscribe: , List-Archive: List-Post: List-Help: List-Subscribe: , Errors-To: test-report-bounces@dpdk.org _Testing PASS_ Branch: dpdk 39b54f2dcf44ad1f91eabc7080cd5dea763607fd --> testing pass Upstream job id: Generic-Unit-Test-DPDK#386841 Test environment and result as below: +------------------------------+---------------------------+----------------+--------------+------------------------------+ | Environment | cryptodev_sw_zuc_autotest | dpdk_unit_test | lpm_autotest | cryptodev_sw_snow3g_autotest | +==============================+===========================+================+==============+==============================+ | Debian 12 (arm) | PASS | SKIPPED | SKIPPED | PASS | +------------------------------+---------------------------+----------------+--------------+------------------------------+ | CentOS Stream 9 | SKIPPED | PASS | SKIPPED | SKIPPED | +------------------------------+---------------------------+----------------+--------------+------------------------------+ | CentOS Stream 10 | SKIPPED | PASS | SKIPPED | SKIPPED | +------------------------------+---------------------------+----------------+--------------+------------------------------+ | Debian GNU/Linux 12 | SKIPPED | PASS | SKIPPED | SKIPPED | +------------------------------+---------------------------+----------------+--------------+------------------------------+ | Fedora Linux 40 | SKIPPED | PASS | SKIPPED | SKIPPED | +------------------------------+---------------------------+----------------+--------------+------------------------------+ | Fedora Linux 41 | SKIPPED | PASS | SKIPPED | SKIPPED | +------------------------------+---------------------------+----------------+--------------+------------------------------+ | Red Hat Enterprise Linux 9.5 | SKIPPED | PASS | SKIPPED | SKIPPED | +------------------------------+---------------------------+----------------+--------------+------------------------------+ | Fedora Linux 42 | SKIPPED | PASS | SKIPPED | SKIPPED | +------------------------------+---------------------------+----------------+--------------+------------------------------+ | Ubuntu 22.04 | SKIPPED | PASS | SKIPPED | SKIPPED | +------------------------------+---------------------------+----------------+--------------+------------------------------+ | Ubuntu 20.04 | SKIPPED | PASS | PASS | SKIPPED | +------------------------------+---------------------------+----------------+--------------+------------------------------+ | Ubuntu 24.04 | SKIPPED | PASS | SKIPPED | SKIPPED | +------------------------------+---------------------------+----------------+--------------+------------------------------+ Debian 12 (arm) Kernel: Depends on container host Compiler: gcc (Debian 12.2.0-14) 12.2.0 CentOS Stream 9 Kernel: 5.4 Compiler: gcc gcc (GCC) 11.5.0 20240719 (Red Hat 11.5.0-11) CentOS Stream 10 Kernel: 5.4 Compiler: gcc gcc (GCC) 14.2.1 20250110 (Red Hat 14.2.1-8) Debian GNU/Linux 12 Kernel: 5.4 Compiler: gcc gcc (Debian 12.2.0-14+deb12u1) 12.2.0 Fedora Linux 40 Kernel: 5.4 Compiler: gcc gcc (GCC) 14.2.1 20240912 (Red Hat 14.2.1-3) Fedora Linux 41 Kernel: 5.4 Compiler: gcc gcc (GCC) 14.3.1 20250523 (Red Hat 14.3.1-1) Red Hat Enterprise Linux 9.5 Kernel: 5.4 Compiler: gcc gcc (GCC) 11.5.0 20240719 (Red Hat 11.5.0-2) Fedora Linux 42 Kernel: 5.4 Compiler: clang gcc (GCC) 15.2.1 20250808 (Red Hat 15.2.1-1) Ubuntu 22.04 Kernel: 5.4 Compiler: gcc gcc (Ubuntu 11.4.0-1ubuntu1~22.04) 11.4.0 Ubuntu 20.04 Kernel: 5.4 Compiler: gcc gcc (Ubuntu 9.4.0-1ubuntu1~20.04.2) 9.4.0 Ubuntu 24.04 Kernel: 5.4 Compiler: gcc gcc (Ubuntu 13.3.0-6ubuntu2~24.04) 13.3.0 To view detailed results, visit: https://lab.dpdk.org/results/dashboard/tarballs/35394/ UNH-IOL DPDK Community Lab To manage your email subscriptions, visit: https://lab.dpdk.org/results/dashboard/preferences/subscriptions/