From mboxrd@z Thu Jan 1 00:00:00 1970 Return-Path: Received: from mails.dpdk.org (mails.dpdk.org [217.70.189.124]) by inbox.dpdk.org (Postfix) with ESMTP id 8D91A48A14 for ; Thu, 30 Oct 2025 19:57:23 +0100 (CET) Received: from mails.dpdk.org (localhost [127.0.0.1]) by mails.dpdk.org (Postfix) with ESMTP id 880D34026F; Thu, 30 Oct 2025 19:57:23 +0100 (CET) Received: from mail-qv1-f97.google.com (mail-qv1-f97.google.com [209.85.219.97]) by mails.dpdk.org (Postfix) with ESMTP id 85FF74026F for ; Thu, 30 Oct 2025 19:57:20 +0100 (CET) Received: by mail-qv1-f97.google.com with SMTP id 6a1803df08f44-87fbc6d98a9so11785696d6.2 for ; Thu, 30 Oct 2025 11:57:20 -0700 (PDT) DKIM-Signature: v=1; a=rsa-sha256; c=relaxed/relaxed; d=iol.unh.edu; s=unh-iol; t=1761850640; x=1762455440; darn=dpdk.org; h=references:in-reply-to:cc:to:from:subject:message-id:date:from:to :cc:subject:date:message-id:reply-to; bh=LhxuT8cqdjv1+pkN4yBGVCVpXngZ59wUgqc4LyWwDTU=; b=jX0NgMKIBviaEBsJFnP/5c0TNX6LCrVDm2OItxIO1iKMWGQIvp2V5vK7GDrKRQo25p C33N6LWu14D3Hu1WCeiIfFjyFp+jIx/grlQH3LVYemHfCejO7fadpadkesJxu6dviffI zIiNgPmeI1uD/Oi2BidYI8nTHgWAJ7shsYH+c= X-Google-DKIM-Signature: v=1; a=rsa-sha256; c=relaxed/relaxed; d=1e100.net; s=20230601; t=1761850640; x=1762455440; h=references:in-reply-to:cc:to:from:subject:message-id:date :x-gm-message-state:from:to:cc:subject:date:message-id:reply-to; bh=LhxuT8cqdjv1+pkN4yBGVCVpXngZ59wUgqc4LyWwDTU=; b=ijSS7s4Gf/ueUnd6XfAsf9I++hB3blP1JYtQRpKfCryF0N14CmsTQvA+q4CIOIlTcc sZGcJfqybh1TUgpVXd3SSQGXC73br6zYwRptG42qXMp9+aAmAEO2VoxvxLxSnpwAjxX/ 7Hs4U0yjgOJwzLOuEcx2gyGTgNUJ/YPgAryEqkwDjw0lSCBtKT8/1dtIKLvdyIMr2e8v Lk59ISK/OAUdMHH3YINdZFPLrnfrOBADOwGcOAXXrmynOuyRq73pGTOTkyRF3uDCoEHH ymvFp/vHzx9H8MG9/CfsJzY5hBYvnbdJ2Ze5mnCQlrBkY0FO5G7sVrmTj1Bov+ogJz/b P5Pg== X-Gm-Message-State: AOJu0YxqYVCET62rvOpfZFVVMLK6baLZPHHwAuDTD5I7xNJaa3E5p7Fy tMycXK7xqzzSEAv0xJVyyJTn17l2G4p4IPy9bE8MbN66QNZCWZInjNnVcChpsxAsdH1Ryk5gxjw MOdhZLWzqj2n6z1rQRJQV+Kk2NgblSz1ZkQus/MuK3ssG+FCEAT4CFC+gQLYj X-Gm-Gg: ASbGncuGhsUZrOWRrWTc7u9ckPuaWtfxXtYfN2MLo0BA7qveSRzfB4vINKQQxpUBHqe 4sVTsqCfBIHF6F8VlQ78O+Qc8v/PJ16w5EfjsFaKSlwmsX19NL9k332jN2bOozLxZ+sD/u7Wa1C +sneLRNKDJg5ofnhdJsqVaW6Drtma5QNqDv7tSh8gTpjZuDRTe5Z+Bx6u12NPWxaMFq3a3XVvj3 Ca2co+SKUo3W5KjKyXar+OCnPV1JVeDcXRuf2nZkB19+13gvel1oUcmr8lhUjtnYDQesdP32k9F OQ+eQUPns+UVX1a4agj84KBGib/21PkoxIRIzDzl1cjcmE0Qb3rpaC0V81fJdPjyprPOp4UqQh3 EOZHDtT7s X-Google-Smtp-Source: AGHT+IGonkkBSSfz+tykdBXqAHwN3NCyvVz6dE1gwPT9OimWeEPFeUxOLG/AFVwPTq+x9STnzSmCuCgz8gyF X-Received: by 2002:a05:620a:1794:b0:8a2:ac60:dc3a with SMTP id af79cd13be357-8ab9bd5b8e5mr71761585a.81.1761850639842; Thu, 30 Oct 2025 11:57:19 -0700 (PDT) Received: from postal.iol.unh.edu (postal.iol.unh.edu. [2606:4100:3880:1234::84]) by smtp-relay.gmail.com with ESMTPS id af79cd13be357-89f2346532bsm159611485a.0.2025.10.30.11.57.19 (version=TLS1_2 cipher=ECDHE-ECDSA-AES128-GCM-SHA256 bits=128/128); Thu, 30 Oct 2025 11:57:19 -0700 (PDT) X-Relaying-Domain: iol.unh.edu Date: Thu, 30 Oct 2025 11:57:19 -0700 (PDT) Message-ID: <6903b50f.050a0220.26926e.a95fSMTPIN_ADDED_MISSING@mx.google.com> Received: from [172.21.0.3] (unknown [172.18.0.240]) by postal.iol.unh.edu (Postfix) with ESMTP id 88C436050A61; Thu, 30 Oct 2025 14:57:19 -0400 (EDT) Subject: |WARNING| pw158305-158306 [PATCH] [2/2] test/hash: reduce time of fu From: dpdklab@iol.unh.edu To: Test Report Cc: dpdk-test-reports@iol.unh.edu In-Reply-To: <20251030175329.4041960-3-thomas@monjalon.net> References: <20251030175329.4041960-3-thomas@monjalon.net> Content-Type: text/plain X-BeenThere: test-report@dpdk.org X-Mailman-Version: 2.1.29 Precedence: list List-Id: automatic DPDK test reports List-Unsubscribe: , List-Archive: List-Post: List-Help: List-Subscribe: , Errors-To: test-report-bounces@dpdk.org Test-Label: iol-compile-amd64-testing Test-Status: WARNING http://dpdk.org/patch/158306 _Testing issues_ Submitter: Thomas Monjalon Date: Thursday, October 30 2025 17:50:12 DPDK git baseline: Repo:dpdk Branch: master CommitID:39b54f2dcf44ad1f91eabc7080cd5dea763607fd 158305-158306 --> testing issues Upstream job id: Generic-DPDK-Compile-Meson#439399 Test environment and result as below: +-------------------------------+--------------------+-------------------+------------------+ | Environment | dpdk_meson_compile | dpdk_compile_spdk | dpdk_compile_ovs | +===============================+====================+===================+==================+ | CentOS Stream 10 | PASS | SKIPPED | SKIPPED | +-------------------------------+--------------------+-------------------+------------------+ | CentOS Stream 9 | PEND | PEND | SKIPPED | +-------------------------------+--------------------+-------------------+------------------+ | Ubuntu 20.04 | PASS | SKIPPED | SKIPPED | +-------------------------------+--------------------+-------------------+------------------+ | FreeBSD 14.2 | PASS | SKIPPED | SKIPPED | +-------------------------------+--------------------+-------------------+------------------+ | Debian GNU/Linux 12 | PASS | WARN | SKIPPED | +-------------------------------+--------------------+-------------------+------------------+ | Fedora Linux 42 | PEND | PEND | PEND | +-------------------------------+--------------------+-------------------+------------------+ | Red Hat Enterprise Linux 8.10 | PASS | SKIPPED | SKIPPED | +-------------------------------+--------------------+-------------------+------------------+ | openSUSE Leap 15.6 | PASS | SKIPPED | SKIPPED | +-------------------------------+--------------------+-------------------+------------------+ | Red Hat Enterprise Linux 9.5 | PASS | SKIPPED | SKIPPED | +-------------------------------+--------------------+-------------------+------------------+ | Ubuntu 22.04 | PEND | PEND | SKIPPED | +-------------------------------+--------------------+-------------------+------------------+ | Ubuntu 24.04 | PEND | PEND | PEND | +-------------------------------+--------------------+-------------------+------------------+ | Alpine Linux 3.22.0 | PEND | SKIPPED | SKIPPED | +-------------------------------+--------------------+-------------------+------------------+ ==== 20 line log output for Debian GNU/Linux 12 (dpdk_compile_spdk): ==== --- Failed to get log output --- ==== End log output ==== CentOS Stream 10 Kernel: 5.15 Compiler: gcc gcc (GCC) 14.2.1 20250110 (Red Hat 14.2.1-8) CentOS Stream 9 Kernel: 5.15 Compiler: gcc gcc (GCC) 11.5.0 20240719 (Red Hat 11.5.0-11) Ubuntu 20.04 Kernel: 4.19 Compiler: gcc gcc (Ubuntu 9.4.0-1ubuntu1~20.04.2) 9.4.0 FreeBSD 14.2 Kernel: 14.2-RELEASE Compiler: clang 18.1.6 Debian GNU/Linux 12 Kernel: 5.15 Compiler: gcc gcc (Debian 12.2.0-14+deb12u1) 12.2.0 Fedora Linux 42 Kernel: 5.15 Compiler: clang gcc (GCC) 15.2.1 20250808 (Red Hat 15.2.1-1) Red Hat Enterprise Linux 8.10 Kernel: 5.15 Compiler: gcc gcc (GCC) 8.5.0 20210514 (Red Hat 8.5.0-22) openSUSE Leap 15.6 Kernel: 5.15 Compiler: gcc gcc (SUSE Linux) 7.5.0 Red Hat Enterprise Linux 9.5 Kernel: 5.15 Compiler: gcc gcc (GCC) 11.5.0 20240719 (Red Hat 11.5.0-2) Ubuntu 22.04 Kernel: 5.15 Compiler: gcc gcc (Ubuntu 11.4.0-1ubuntu1~22.04) 11.4.0 Ubuntu 24.04 Kernel: 5.15 Compiler: gcc gcc (Ubuntu 13.3.0-6ubuntu2~24.04) 13.3.0 Alpine Linux 3.22.0 Kernel: 5.15 Compiler: gcc gcc (Alpine 14.2.0) 14.2.0 To view detailed results, visit: https://lab.dpdk.org/results/dashboard/patchsets/34426/ UNH-IOL DPDK Community Lab To manage your email subscriptions, visit: https://lab.dpdk.org/results/dashboard/preferences/subscriptions/