From mboxrd@z Thu Jan 1 00:00:00 1970 Return-Path: Received: from mails.dpdk.org (mails.dpdk.org [217.70.189.124]) by inbox.dpdk.org (Postfix) with ESMTP id 9826248A14 for ; Thu, 30 Oct 2025 19:57:33 +0100 (CET) Received: from mails.dpdk.org (localhost [127.0.0.1]) by mails.dpdk.org (Postfix) with ESMTP id 944114026F; Thu, 30 Oct 2025 19:57:33 +0100 (CET) Received: from mail-yw1-f225.google.com (mail-yw1-f225.google.com [209.85.128.225]) by mails.dpdk.org (Postfix) with ESMTP id C6DF04026F for ; Thu, 30 Oct 2025 19:57:32 +0100 (CET) Received: by mail-yw1-f225.google.com with SMTP id 00721157ae682-7849c889ac8so47676717b3.0 for ; Thu, 30 Oct 2025 11:57:32 -0700 (PDT) DKIM-Signature: v=1; a=rsa-sha256; c=relaxed/relaxed; d=iol.unh.edu; s=unh-iol; t=1761850652; x=1762455452; darn=dpdk.org; h=references:in-reply-to:cc:to:from:subject:message-id:date:from:to :cc:subject:date:message-id:reply-to; bh=s3u43l101MMuZGoQVsv7CDizN0Zl1hL+GFlI4xtoLX8=; b=B8Kwg0i7c41SNwV0d0+o6leTTnJvma8hi0jOasjvyZLd6HFB+wATt6ZQz5K8qzUi0+ 593i9k+Qph/OoirU/fYql7VMRfTvMN9+wNn9SvBNiA9wOCevGMdUl/35v2FU9OEp6SQB L5uL5LaVEgKcrVeDeI/OuSHz+ICsppojt6Kfo= X-Google-DKIM-Signature: v=1; a=rsa-sha256; c=relaxed/relaxed; d=1e100.net; s=20230601; t=1761850652; x=1762455452; h=references:in-reply-to:cc:to:from:subject:message-id:date :x-gm-message-state:from:to:cc:subject:date:message-id:reply-to; bh=s3u43l101MMuZGoQVsv7CDizN0Zl1hL+GFlI4xtoLX8=; b=Lv3Xxd0P0L/SY6M1wtPw4iXTWzdJuu13F8sXqF7lMI6pT8kRgSi/LYQ/94K138ZJJL UmmNR851JYDgWcR2L8WkCkiAUruDzRioxMWWlFUG5PzrBR07+AcsJDdTdaIDbkdzqn7l gQMtxf4MJKCHmrfN31fDEJJ8INVAuNwVGyE3jdq8L1r4vDL6OvDFoejjWwhRTT2FwfDS 27t/6CUtus7NWma5xZzSxvcIhSM3hItWkXrqsgonEckae70g9PwenXOE8h0G0iWGseas 4PHlE1u7YHDjV4O1EeAM2dTCAvUp6lfve9kIwyZp2te+UpapM+PbZiurRauZbOhKCZtQ Sl3w== X-Gm-Message-State: AOJu0Yxys4dEqrBpT1bgFjiQA4IwEbbaa+l1i21fjloyx++sYwYwqfUR 9N48Jt5vYG1lF6N3oDwTHQ6Xb7yrTfQxXmDqmz/l2oqjFVnr+V4h7FP6CNYd0p/YWDcrbH2MNWE KIGVVg4UcNC9ZZLVSFWWil1P5Nh8roh63cgA72TMjAk2exJQkDwLBIGSwHXUR X-Gm-Gg: ASbGncvz7DcT9wjiEI2bPjr0NM4lRu1ScdIxg4JEFCccSx0fi7srGQmed+Xzn4p1CFf 2WQ3tkVRPDRWyoHEW/U7q7hXpjzoDNSA+TW/pvGBQefrjmN+5rhjvs0WG3RmYQvbxogUeGSp7Z1 TzoDaB2Ljbqe4RoLkV3zonzd44IMl8ycUWlcE+idGP/IsmtJKX2MHMCetlsYrosWiXNOgTNmF7O CmuExmQchyH+cZnUNd6sPDI9XAtm8oxxhTYW4hkgZhTWJfRfRHahk4FndusOhWQ6aHHSKK/Tm2a rSsQcTCbvOgqKzFBcPPOyW69h3N6hb1TWWfMi8lvT3Z5JiXeajHLZF+Qc7EYdBP/fzx1Bcm0Ouo 5C+fiFk1C X-Google-Smtp-Source: AGHT+IH6eJWsCtbSoBp7Dk6QN7P4UURdp3mJkGiZ8aOYreke3hnoB0hGM8YvBfuI207ePY6FGuvjLpF9ODWG X-Received: by 2002:a05:690c:4c13:b0:781:64f:2b71 with SMTP id 00721157ae682-7864722d8e5mr8323787b3.34.1761850652148; Thu, 30 Oct 2025 11:57:32 -0700 (PDT) Received: from postal.iol.unh.edu (postal.iol.unh.edu. [2606:4100:3880:1234::84]) by smtp-relay.gmail.com with ESMTPS id 00721157ae682-786314f86bcsm3416797b3.4.2025.10.30.11.57.32 (version=TLS1_2 cipher=ECDHE-ECDSA-AES128-GCM-SHA256 bits=128/128); Thu, 30 Oct 2025 11:57:32 -0700 (PDT) X-Relaying-Domain: iol.unh.edu Date: Thu, 30 Oct 2025 11:57:32 -0700 (PDT) Message-ID: <6903b51c.050a0220.1f8fe5.0340SMTPIN_ADDED_MISSING@mx.google.com> Received: from [172.21.0.2] (unknown [172.18.0.240]) by postal.iol.unh.edu (Postfix) with ESMTP id CE21D6050A61; Thu, 30 Oct 2025 14:57:31 -0400 (EDT) Subject: |WARNING| pw158305-158306 [PATCH] [2/2] test/hash: reduce time of fu From: dpdklab@iol.unh.edu To: Test Report Cc: dpdk-test-reports@iol.unh.edu In-Reply-To: <20251030175329.4041960-3-thomas@monjalon.net> References: <20251030175329.4041960-3-thomas@monjalon.net> Content-Type: text/plain X-BeenThere: test-report@dpdk.org X-Mailman-Version: 2.1.29 Precedence: list List-Id: automatic DPDK test reports List-Unsubscribe: , List-Archive: List-Post: List-Help: List-Subscribe: , Errors-To: test-report-bounces@dpdk.org Test-Label: iol-compile-amd64-testing Test-Status: WARNING http://dpdk.org/patch/158306 _Testing issues_ Submitter: Thomas Monjalon Date: Thursday, October 30 2025 17:50:12 DPDK git baseline: Repo:dpdk Branch: master CommitID:39b54f2dcf44ad1f91eabc7080cd5dea763607fd 158305-158306 --> testing issues Upstream job id: Generic-DPDK-Compile-Meson#439401 Test environment and result as below: +-------------------------------+--------------------+-------------------+------------------+ | Environment | dpdk_meson_compile | dpdk_compile_spdk | dpdk_compile_ovs | +===============================+====================+===================+==================+ | CentOS Stream 10 | PASS | SKIPPED | SKIPPED | +-------------------------------+--------------------+-------------------+------------------+ | CentOS Stream 9 | PEND | PEND | SKIPPED | +-------------------------------+--------------------+-------------------+------------------+ | Ubuntu 20.04 | PASS | SKIPPED | SKIPPED | +-------------------------------+--------------------+-------------------+------------------+ | FreeBSD 14.2 | PASS | SKIPPED | SKIPPED | +-------------------------------+--------------------+-------------------+------------------+ | Debian GNU/Linux 12 | PASS | WARN | SKIPPED | +-------------------------------+--------------------+-------------------+------------------+ | Fedora Linux 42 | PEND | PEND | PEND | +-------------------------------+--------------------+-------------------+------------------+ | Red Hat Enterprise Linux 8.10 | PASS | SKIPPED | SKIPPED | +-------------------------------+--------------------+-------------------+------------------+ | openSUSE Leap 15.6 | PASS | SKIPPED | SKIPPED | +-------------------------------+--------------------+-------------------+------------------+ | Red Hat Enterprise Linux 9.5 | PASS | SKIPPED | SKIPPED | +-------------------------------+--------------------+-------------------+------------------+ | Ubuntu 22.04 | PEND | PEND | SKIPPED | +-------------------------------+--------------------+-------------------+------------------+ | Ubuntu 24.04 | PEND | PEND | PEND | +-------------------------------+--------------------+-------------------+------------------+ | Alpine Linux 3.22.0 | PEND | SKIPPED | SKIPPED | +-------------------------------+--------------------+-------------------+------------------+ ==== 20 line log output for Debian GNU/Linux 12 (dpdk_compile_spdk): ==== --- Failed to get log output --- ==== End log output ==== CentOS Stream 10 Kernel: 5.15 Compiler: gcc gcc (GCC) 14.2.1 20250110 (Red Hat 14.2.1-8) CentOS Stream 9 Kernel: 5.15 Compiler: gcc gcc (GCC) 11.5.0 20240719 (Red Hat 11.5.0-11) Ubuntu 20.04 Kernel: 4.19 Compiler: gcc gcc (Ubuntu 9.4.0-1ubuntu1~20.04.2) 9.4.0 FreeBSD 14.2 Kernel: 14.2-RELEASE Compiler: clang 18.1.6 Debian GNU/Linux 12 Kernel: 5.15 Compiler: gcc gcc (Debian 12.2.0-14+deb12u1) 12.2.0 Fedora Linux 42 Kernel: 5.15 Compiler: clang gcc (GCC) 15.2.1 20250808 (Red Hat 15.2.1-1) Red Hat Enterprise Linux 8.10 Kernel: 5.15 Compiler: gcc gcc (GCC) 8.5.0 20210514 (Red Hat 8.5.0-22) openSUSE Leap 15.6 Kernel: 5.15 Compiler: gcc gcc (SUSE Linux) 7.5.0 Red Hat Enterprise Linux 9.5 Kernel: 5.15 Compiler: gcc gcc (GCC) 11.5.0 20240719 (Red Hat 11.5.0-2) Ubuntu 22.04 Kernel: 5.15 Compiler: gcc gcc (Ubuntu 11.4.0-1ubuntu1~22.04) 11.4.0 Ubuntu 24.04 Kernel: 5.15 Compiler: gcc gcc (Ubuntu 13.3.0-6ubuntu2~24.04) 13.3.0 Alpine Linux 3.22.0 Kernel: 5.15 Compiler: gcc gcc (Alpine 14.2.0) 14.2.0 To view detailed results, visit: https://lab.dpdk.org/results/dashboard/patchsets/34426/ UNH-IOL DPDK Community Lab To manage your email subscriptions, visit: https://lab.dpdk.org/results/dashboard/preferences/subscriptions/