From mboxrd@z Thu Jan 1 00:00:00 1970 Return-Path: Received: from mails.dpdk.org (mails.dpdk.org [217.70.189.124]) by inbox.dpdk.org (Postfix) with ESMTP id A9B2448A14 for ; Thu, 30 Oct 2025 19:57:56 +0100 (CET) Received: from mails.dpdk.org (localhost [127.0.0.1]) by mails.dpdk.org (Postfix) with ESMTP id A51804026F; Thu, 30 Oct 2025 19:57:56 +0100 (CET) Received: from mail-io1-f99.google.com (mail-io1-f99.google.com [209.85.166.99]) by mails.dpdk.org (Postfix) with ESMTP id DD1434026F for ; Thu, 30 Oct 2025 19:57:55 +0100 (CET) Received: by mail-io1-f99.google.com with SMTP id ca18e2360f4ac-943b8b69734so131233739f.3 for ; Thu, 30 Oct 2025 11:57:55 -0700 (PDT) DKIM-Signature: v=1; a=rsa-sha256; c=relaxed/relaxed; d=iol.unh.edu; s=unh-iol; t=1761850675; x=1762455475; darn=dpdk.org; h=references:in-reply-to:cc:to:from:subject:message-id:date:from:to :cc:subject:date:message-id:reply-to; bh=ypnR2eKozafPGm1nTMok2fEEGPes/lwnfFtxMO8sSwY=; b=IHGXHqG65pmZA+nmN3JbPVRen6B9I5hdUOYjFlHlK55XQvShxorCmeGU8BSTjS7yq8 vk8eUtbIpqvRS6cq+TrsgBYYLCR+ND5jZVthxw1qdnGbifDF3J91YbXy49BK6+PU6g+4 kNQYdugwZysqevRaXzL8JSc2XvO4zZNjOqEzw= X-Google-DKIM-Signature: v=1; a=rsa-sha256; c=relaxed/relaxed; d=1e100.net; s=20230601; t=1761850675; x=1762455475; h=references:in-reply-to:cc:to:from:subject:message-id:date :x-gm-message-state:from:to:cc:subject:date:message-id:reply-to; bh=ypnR2eKozafPGm1nTMok2fEEGPes/lwnfFtxMO8sSwY=; b=iuxs43oOWwI0osYlWUcvfTDeznwtVHXSVLcWEM3ywiTwQL7KgsqF8ZqfyLEVIne38S C6o8c9xU2v4BdkdzkNSNpRNkTrFarqrNt+ot1bJnFDkIapHIHQV2yF28HNky4fVjzLaW uZ3p73+sJUdGOtEHdmx9W6RJfR1gxW3lh3odN94l9Eq9b65tdpxwHj73Mh8I6L9X3xjG ADRQOVSqoCUi4q1ZsfIlMuSDuhLZHLt5UiemNiCIbY86z3dIB3iFfGDuIjL54/vi/g8J 2qYTjzFWqx2OweZnPqdo7Fyf7rDUZF8X9MSn+r++Lb5pKtGkzLCM+zCZXwzBD2yAHfGc UfqQ== X-Gm-Message-State: AOJu0Yy0z452chyLrZqW8hzE010GAPxcECw/rpoESg/H/kJAvDMrnr5I ZqnyvJBN5UKpA0epltLKs9rXZ+ZfQnnnzBDPWAIWJS0d6TqehrQ9KMVc9QHtuFpEp8KCzsiNBN2 p/hqTw5HSDGFJEGZEXMJfMWFkjZfc27U6xsyS2PVE/kVUuBgrCeZZwiFWPX0o X-Gm-Gg: ASbGnctnX33ICHXQ5VvHYCz6NNNYiMmW7DBzPP2eRUI5t6QdQbFzcm1IFKGS2+apXj3 BQ03kUbVsY9IALWClPyCEWtukcf7XVSDVVST2st4WyMYe07btW4Lb3AGL2Frkf9zS7hYTd9brIG uxQi9kzjqZCSt8RjrJumle7ngkwKJcehpd4F2kjmh4edTaE3mbkD4WiCKgIE6PCPKIdBVqk52X/ jCbDB9LvJDXpzqbrKx826u1fMSSRNPAp59TPaGoR5M0/wv5f1Yed1Bae+tFuTGcqAq2zPIf/+px C88t+xD/ZaqqvHjMbik+WPHRiZ1g1RDijZt8nMJavzi37QC1+T5VugHnxRVixbBKoYFEQVXD39U sfOE3JRVZ X-Google-Smtp-Source: AGHT+IHOLiL2xVKxSie4uC305e3im1arFX7Dv/oVcxWdJMPO5dNrA00C/dS74iO/ezfXnhLb2Ieeup528nph X-Received: by 2002:a05:6e02:2485:b0:42e:7a5d:d7d6 with SMTP id e9e14a558f8ab-4330d122f9amr12579945ab.2.1761850675165; Thu, 30 Oct 2025 11:57:55 -0700 (PDT) Received: from postal.iol.unh.edu (postal.iol.unh.edu. [2606:4100:3880:1234::84]) by smtp-relay.gmail.com with ESMTPS id e9e14a558f8ab-431f67ea723sm17526375ab.7.2025.10.30.11.57.55 (version=TLS1_2 cipher=ECDHE-ECDSA-AES128-GCM-SHA256 bits=128/128); Thu, 30 Oct 2025 11:57:55 -0700 (PDT) X-Relaying-Domain: iol.unh.edu Date: Thu, 30 Oct 2025 11:57:55 -0700 (PDT) Message-ID: <6903b533.050a0220.181dda.239eSMTPIN_ADDED_MISSING@mx.google.com> Received: from [172.21.0.2] (unknown [172.18.0.240]) by postal.iol.unh.edu (Postfix) with ESMTP id 932006050A61; Thu, 30 Oct 2025 14:57:54 -0400 (EDT) Subject: |WARNING| pw158305-158306 [PATCH] [2/2] test/hash: reduce time of fu From: dpdklab@iol.unh.edu To: Test Report Cc: dpdk-test-reports@iol.unh.edu In-Reply-To: <20251030175329.4041960-3-thomas@monjalon.net> References: <20251030175329.4041960-3-thomas@monjalon.net> Content-Type: text/plain X-BeenThere: test-report@dpdk.org X-Mailman-Version: 2.1.29 Precedence: list List-Id: automatic DPDK test reports List-Unsubscribe: , List-Archive: List-Post: List-Help: List-Subscribe: , Errors-To: test-report-bounces@dpdk.org Test-Label: iol-compile-amd64-testing Test-Status: WARNING http://dpdk.org/patch/158306 _Testing issues_ Submitter: Thomas Monjalon Date: Thursday, October 30 2025 17:50:12 DPDK git baseline: Repo:dpdk Branch: master CommitID:39b54f2dcf44ad1f91eabc7080cd5dea763607fd 158305-158306 --> testing issues Upstream job id: Generic-DPDK-Compile-Meson#439411 Test environment and result as below: +-------------------------------+--------------------+-------------------+------------------+ | Environment | dpdk_meson_compile | dpdk_compile_spdk | dpdk_compile_ovs | +===============================+====================+===================+==================+ | CentOS Stream 10 | PASS | SKIPPED | SKIPPED | +-------------------------------+--------------------+-------------------+------------------+ | CentOS Stream 9 | PEND | PEND | SKIPPED | +-------------------------------+--------------------+-------------------+------------------+ | Ubuntu 20.04 | PASS | SKIPPED | SKIPPED | +-------------------------------+--------------------+-------------------+------------------+ | FreeBSD 14.2 | PASS | SKIPPED | SKIPPED | +-------------------------------+--------------------+-------------------+------------------+ | Debian GNU/Linux 12 | PASS | WARN | SKIPPED | +-------------------------------+--------------------+-------------------+------------------+ | Fedora Linux 42 | PEND | PEND | PEND | +-------------------------------+--------------------+-------------------+------------------+ | Red Hat Enterprise Linux 8.10 | PASS | SKIPPED | SKIPPED | +-------------------------------+--------------------+-------------------+------------------+ | openSUSE Leap 15.6 | PASS | SKIPPED | SKIPPED | +-------------------------------+--------------------+-------------------+------------------+ | Red Hat Enterprise Linux 9.5 | PASS | SKIPPED | SKIPPED | +-------------------------------+--------------------+-------------------+------------------+ | Ubuntu 22.04 | PEND | PEND | SKIPPED | +-------------------------------+--------------------+-------------------+------------------+ | Ubuntu 24.04 | PEND | PEND | PEND | +-------------------------------+--------------------+-------------------+------------------+ | Alpine Linux 3.22.0 | PEND | SKIPPED | SKIPPED | +-------------------------------+--------------------+-------------------+------------------+ ==== 20 line log output for Debian GNU/Linux 12 (dpdk_compile_spdk): ==== --- Failed to get log output --- ==== End log output ==== CentOS Stream 10 Kernel: 5.15 Compiler: gcc gcc (GCC) 14.2.1 20250110 (Red Hat 14.2.1-8) CentOS Stream 9 Kernel: 5.15 Compiler: gcc gcc (GCC) 11.5.0 20240719 (Red Hat 11.5.0-11) Ubuntu 20.04 Kernel: 4.19 Compiler: gcc gcc (Ubuntu 9.4.0-1ubuntu1~20.04.2) 9.4.0 FreeBSD 14.2 Kernel: 14.2-RELEASE Compiler: clang 18.1.6 Debian GNU/Linux 12 Kernel: 5.15 Compiler: gcc gcc (Debian 12.2.0-14+deb12u1) 12.2.0 Fedora Linux 42 Kernel: 5.15 Compiler: clang gcc (GCC) 15.2.1 20250808 (Red Hat 15.2.1-1) Red Hat Enterprise Linux 8.10 Kernel: 5.15 Compiler: gcc gcc (GCC) 8.5.0 20210514 (Red Hat 8.5.0-22) openSUSE Leap 15.6 Kernel: 5.15 Compiler: gcc gcc (SUSE Linux) 7.5.0 Red Hat Enterprise Linux 9.5 Kernel: 5.15 Compiler: gcc gcc (GCC) 11.5.0 20240719 (Red Hat 11.5.0-2) Ubuntu 22.04 Kernel: 5.15 Compiler: gcc gcc (Ubuntu 11.4.0-1ubuntu1~22.04) 11.4.0 Ubuntu 24.04 Kernel: 5.15 Compiler: gcc gcc (Ubuntu 13.3.0-6ubuntu2~24.04) 13.3.0 Alpine Linux 3.22.0 Kernel: 5.15 Compiler: gcc gcc (Alpine 14.2.0) 14.2.0 To view detailed results, visit: https://lab.dpdk.org/results/dashboard/patchsets/34426/ UNH-IOL DPDK Community Lab To manage your email subscriptions, visit: https://lab.dpdk.org/results/dashboard/preferences/subscriptions/