From mboxrd@z Thu Jan 1 00:00:00 1970 Return-Path: Received: from mails.dpdk.org (mails.dpdk.org [217.70.189.124]) by inbox.dpdk.org (Postfix) with ESMTP id B473148A17 for ; Thu, 30 Oct 2025 20:16:26 +0100 (CET) Received: from mails.dpdk.org (localhost [127.0.0.1]) by mails.dpdk.org (Postfix) with ESMTP id AE8434026F; Thu, 30 Oct 2025 20:16:26 +0100 (CET) Received: from mail-io1-f98.google.com (mail-io1-f98.google.com [209.85.166.98]) by mails.dpdk.org (Postfix) with ESMTP id 9C42D4026F for ; Thu, 30 Oct 2025 20:16:25 +0100 (CET) Received: by mail-io1-f98.google.com with SMTP id ca18e2360f4ac-943b8b69734so132617939f.3 for ; Thu, 30 Oct 2025 12:16:25 -0700 (PDT) DKIM-Signature: v=1; a=rsa-sha256; c=relaxed/relaxed; d=iol.unh.edu; s=unh-iol; t=1761851785; x=1762456585; darn=dpdk.org; h=references:in-reply-to:cc:to:from:subject:message-id:date:from:to :cc:subject:date:message-id:reply-to; bh=8x5kaUJMbdfCGQzJAVpxhwqor8xYtrrZ6fy2002GXcA=; b=ILYcY29PWE5S6W7mIwYGvlnjAGICYI2Z7/kWG6vMRyleK7Nch3GYhpNvyfd78HdFGH b4F8eo6QoKmCyt4XRhLk19b8xW6EVLqMTa1IrjT4WAf6hxBsqUGH9ej9iIlAE7T7VDaP fspxtFeWP4S8k8n2rlP5TseyZyFXXrzlh2lRk= X-Google-DKIM-Signature: v=1; a=rsa-sha256; c=relaxed/relaxed; d=1e100.net; s=20230601; t=1761851785; x=1762456585; h=references:in-reply-to:cc:to:from:subject:message-id:date :x-gm-message-state:from:to:cc:subject:date:message-id:reply-to; bh=8x5kaUJMbdfCGQzJAVpxhwqor8xYtrrZ6fy2002GXcA=; b=mU6ysVmzO0MlM/tfHSEY2CUpIPwI0U9nwKPSnz8MtE5R+wnNJbdkIRjthpzFrG88Cx m8mIzRWb7lfM/Y4kbBv7JTyUmD847A3gDUxDWrcaZHQhAo9px6er7n2+6VFYLGCNIqFq cxKtPUWi2v9knmElSh1dj/N/2pocZQeMhWr/wRxys24I9cuheSaxtRSWt9sZtrF3PxhJ xVn7GFHlh3bOQpPrq7GauVviECqfAvn3y7WJh+k7buvSwWmsZHMxHYNCdJHGju+8F81E wgHkO0MOcMzx5Iq9BI6VAvnMTS1DcjziczRt7bURfX3Df/33ZXvF4x+g2Oe2t7auhlPt QNFQ== X-Gm-Message-State: AOJu0YyAOLdBSF2zHyTHyc+xlCakqhEIwZU6/G8VvYCxOOSKjHEML0nk zKZRmUMgSzgd6L0lyKYfPwlonfNgtNBiTp481ZkbuSX/cFrRZKKnknWDdrnE72m/ZYhv72NK4/y VBQYtNkkmJNp7MaLd6UmIs17oO0RPB4iIipa9rn6Q6jCd2YSCQKpPwJW0n15T X-Gm-Gg: ASbGnctx+6NpNJyEnLq/Px4jfPDX/uyk9YOFkos0QFmKupKTLoT4rrhop+3Z3O9+/6F IOXOuGnTNjhXoHgkRrI84RnLr7OEuBUqvVn1rkVYEn2IoFdhruluEm38PaJoeGaJdgPHSG8XIcI JGXcalM0a0q5A6N7kG6lP7objjPDmvkv+Z/hxuLNg+2PTuax54SqNdmOe9DLan5aOeAhkYJVBvZ SzNKQHx+lqJUiitzKx+/kWXBZReFc4V9BjWePO7O9C4PYIgAft9r101CwJ85h/BecjnDraahtPa 265LfvF6c5N2w2RSWrn/g/7i+lQceGUwTBZL6QVe9KtjYgodKdFzoK17seNGB3G4pFRmDnKyVpE kRaWunDnd X-Google-Smtp-Source: AGHT+IH/9PTHNeLzwxUf2oTt4kosJCQTTr1cJ9+cEdtcm25vfBFZip1P+P5htyi8Z38M/C5fuFhrTp5JJE+z X-Received: by 2002:a05:6e02:1a85:b0:430:c1ba:3558 with SMTP id e9e14a558f8ab-4330d1b5f74mr14796465ab.18.1761851784867; Thu, 30 Oct 2025 12:16:24 -0700 (PDT) Received: from postal.iol.unh.edu (postal.iol.unh.edu. [2606:4100:3880:1234::84]) by smtp-relay.gmail.com with ESMTPS id e9e14a558f8ab-433074107ffsm1590005ab.29.2025.10.30.12.16.24 (version=TLS1_2 cipher=ECDHE-ECDSA-AES128-GCM-SHA256 bits=128/128); Thu, 30 Oct 2025 12:16:24 -0700 (PDT) X-Relaying-Domain: iol.unh.edu Date: Thu, 30 Oct 2025 12:16:24 -0700 (PDT) Message-ID: <6903b988.920a0220.a2d94.8322SMTPIN_ADDED_MISSING@mx.google.com> Received: from [172.21.0.2] (unknown [172.18.0.240]) by postal.iol.unh.edu (Postfix) with ESMTP id 72A5460003E7; Thu, 30 Oct 2025 15:16:24 -0400 (EDT) Subject: |SUCCESS| pw158307-158309 [PATCH] [v4,4/4] net/tap: configure link c From: dpdklab@iol.unh.edu To: Test Report Cc: dpdk-test-reports@iol.unh.edu, Stephen Hemminger In-Reply-To: <20251030175537.219641-11-rjarry@redhat.com> References: <20251030175537.219641-11-rjarry@redhat.com> Content-Type: text/plain X-BeenThere: test-report@dpdk.org X-Mailman-Version: 2.1.29 Precedence: list List-Id: automatic DPDK test reports List-Unsubscribe: , List-Archive: List-Post: List-Help: List-Subscribe: , Errors-To: test-report-bounces@dpdk.org Test-Label: iol-unit-amd64-testing Test-Status: SUCCESS http://dpdk.org/patch/158309 _Testing PASS_ Submitter: Robin Jarry Date: Thursday, October 30 2025 17:55:43 DPDK git baseline: Repo:dpdk-next-net Branch: master CommitID:bd9b8a264598adb8e50c1e9e5fe97e75b6009db9 158307-158309 --> testing pass Upstream job id: Generic-VM-Unit-Test-DPDK#32185 Test environment and result as below: +-------------------------------+----------------+ | Environment | dpdk_unit_test | +===============================+================+ | CentOS Stream 9 | PASS | +-------------------------------+----------------+ | CentOS Stream 10 | PASS | +-------------------------------+----------------+ | Debian GNU/Linux 12 | PASS | +-------------------------------+----------------+ | Fedora Linux 40 | PASS | +-------------------------------+----------------+ | Fedora Linux 41 | PASS | +-------------------------------+----------------+ | Fedora Linux 42 | PASS | +-------------------------------+----------------+ | Ubuntu 20.04 | PASS | +-------------------------------+----------------+ | Red Hat Enterprise Linux 8.10 | PASS | +-------------------------------+----------------+ | Red Hat Enterprise Linux 9.5 | PASS | +-------------------------------+----------------+ | Ubuntu 22.04 | PASS | +-------------------------------+----------------+ | Ubuntu 24.04 | PASS | +-------------------------------+----------------+ | Windows Server 2022 | PASS | +-------------------------------+----------------+ CentOS Stream 9 Kernel: 5.15 Compiler: gcc gcc (GCC) 11.5.0 20240719 (Red Hat 11.5.0-11) CentOS Stream 10 Kernel: 5.15 Compiler: gcc gcc (GCC) 14.2.1 20250110 (Red Hat 14.2.1-8) Debian GNU/Linux 12 Kernel: 5.15 Compiler: gcc gcc (Debian 12.2.0-14+deb12u1) 12.2.0 Fedora Linux 40 Kernel: 5.15 Compiler: clang gcc (GCC) 14.2.1 20240912 (Red Hat 14.2.1-3) Fedora Linux 41 Kernel: 5.15 Compiler: gcc gcc (GCC) 14.3.1 20250523 (Red Hat 14.3.1-1) Fedora Linux 42 Kernel: 5.15 Compiler: clang gcc (GCC) 15.2.1 20250808 (Red Hat 15.2.1-1) Ubuntu 20.04 Kernel: 5.15 Compiler: gcc gcc (Ubuntu 9.4.0-1ubuntu1~20.04.2) 9.4.0 Red Hat Enterprise Linux 8.10 Kernel: 5.15 Compiler: gcc gcc (GCC) 8.5.0 20210514 (Red Hat 8.5.0-22) Red Hat Enterprise Linux 9.5 Kernel: 5.15 Compiler: gcc gcc (GCC) 11.5.0 20240719 (Red Hat 11.5.0-2) Ubuntu 22.04 Kernel: 5.15 Compiler: gcc gcc (Ubuntu 11.4.0-1ubuntu1~22.04) 11.4.0 Ubuntu 24.04 Kernel: 5.15 Compiler: gcc gcc (Ubuntu 13.3.0-6ubuntu2~24.04) 13.3.0 Windows Server 2022 Kernel: 10.0.20348.2031 Compiler: clang 15.0.7, gcc 14.1.0 (MinGW), and MSVC VS 19.39.33521 To view detailed results, visit: https://lab.dpdk.org/results/dashboard/patchsets/34425/ UNH-IOL DPDK Community Lab To manage your email subscriptions, visit: https://lab.dpdk.org/results/dashboard/preferences/subscriptions/