From mboxrd@z Thu Jan 1 00:00:00 1970 Return-Path: Received: from mails.dpdk.org (mails.dpdk.org [217.70.189.124]) by inbox.dpdk.org (Postfix) with ESMTP id 951A348A17 for ; Thu, 30 Oct 2025 20:24:46 +0100 (CET) Received: from mails.dpdk.org (localhost [127.0.0.1]) by mails.dpdk.org (Postfix) with ESMTP id 6D2ED4026F; Thu, 30 Oct 2025 20:24:46 +0100 (CET) Received: from mail-qt1-f225.google.com (mail-qt1-f225.google.com [209.85.160.225]) by mails.dpdk.org (Postfix) with ESMTP id E6D964026F for ; Thu, 30 Oct 2025 20:24:44 +0100 (CET) Received: by mail-qt1-f225.google.com with SMTP id d75a77b69052e-4ecae310df8so21461931cf.2 for ; Thu, 30 Oct 2025 12:24:44 -0700 (PDT) DKIM-Signature: v=1; a=rsa-sha256; c=relaxed/relaxed; d=iol.unh.edu; s=unh-iol; t=1761852284; x=1762457084; darn=dpdk.org; h=references:in-reply-to:cc:to:from:subject:message-id:date:from:to :cc:subject:date:message-id:reply-to; bh=1lzTjObjt+/onzy3uk530GEbkDCGDGOAK/RD/FV6rRg=; b=LYnflD3CaCKt4TPgId57p6QnVlCyGWTAiZmk0y++aEXVuT36HIAU7ItbQw7URCscDk m69thx91edXn7aka/AsiP/43FbGhCsSDxtk2r7Kj1rLe6MuwQnB+9EuUSDbASLJpMeuN kfnHTpjN69WS8rt8NNxr5nXYDKfO67LP9tQhY= X-Google-DKIM-Signature: v=1; a=rsa-sha256; c=relaxed/relaxed; d=1e100.net; s=20230601; t=1761852284; x=1762457084; h=references:in-reply-to:cc:to:from:subject:message-id:date :x-gm-message-state:from:to:cc:subject:date:message-id:reply-to; bh=1lzTjObjt+/onzy3uk530GEbkDCGDGOAK/RD/FV6rRg=; b=DQKigHwgOMZ4A0p4znUO225riVU3ElFs8xt2I6evniLxHJcBcbTP34E4zgHJuX5BPY aOSHPpo8evQC3oOtZAVql2827sBoKLPihWyWOl67Whx5ltnkmkn1FLPGoFF/CUxH+VaH S4B9I8y7jGioCTPTsh3LbX7pBz4+gju2SqTmH6gmLg5zo8sImsVbDQnyyeTz8/5DTFcz 08byKi2hiKQCPwSwIqDmlFh61PQ+gBGicMLwQIvLogm/6CcnHCkA08EKiF8aAARHGUIK x9w9DAaLplIYLawFfVjaEtbgcCujhAzf/Cci8uwdBl02eXDdHZzGukMYO1KOm+KGgI0K 2nIw== X-Gm-Message-State: AOJu0YwlBXU41II4q79nW2s0v4FS6svovX9NIkeAUUCNXUA1rtmNL8nS hYri0SLt78yXWy4Rl4YYaD9Q9yiYqOfDTfP+f6SSPjW3KeM1TD9nm0Z5M0Gt6Qf7ari+eHq1RMf wWDe4GqDeyEtIhdzVET0aLDHdgs7Gfx3vx7xzl/F82LdePU+4FCRUbJAPVc7I X-Gm-Gg: ASbGnctqOcyxhS/Eo93+pLblR6j8xPeWDlDRJn7Ov3oT52kv0HtB0Rn9PHdROTASa4/ 6B/JPXpLj9LUaluHV0dBXqwpK8F/nDireL2i2Gd+2suxgybFmp4MdgUcUPBRusm7UUbgHtdGKlw +16CoXNyuy+1XUhOLbal3Vihhz6/Ri5ynt8Fdq9wjYTUzSNQengg6ueSFWdJNmXcZz99AVYt4MI jurI4e06a3OlCvlU73Ye0fbjPhCPGmE8OWEopnU3a6W2hFfWeoLOX2Ljhe0+UdDghf4w2Y/FgdW TyOZtNA/RInhRjVb7R37Yp4tPeS3x5yYvBkr0US+gtBy3W/xwTfjvMcxuKwF6fRfws9GBV58ecc omn+cC4mg X-Google-Smtp-Source: AGHT+IHOiL6ExgEsiOJhIqB9V2ULuoSaibX1yF3RC/R6pCNQ0YPBajpgfbZtx1WGNB02UvPmAeTu6fegCP8h X-Received: by 2002:a05:622a:580a:b0:4dd:7572:216f with SMTP id d75a77b69052e-4ed30e171e3mr10946761cf.32.1761852284106; Thu, 30 Oct 2025 12:24:44 -0700 (PDT) Received: from postal.iol.unh.edu (postal.iol.unh.edu. [2606:4100:3880:1234::84]) by smtp-relay.gmail.com with ESMTPS id d75a77b69052e-4eba387ee8csm3283251cf.9.2025.10.30.12.24.44 (version=TLS1_2 cipher=ECDHE-ECDSA-AES128-GCM-SHA256 bits=128/128); Thu, 30 Oct 2025 12:24:44 -0700 (PDT) X-Relaying-Domain: iol.unh.edu Date: Thu, 30 Oct 2025 12:24:44 -0700 (PDT) Message-ID: <6903bb7c.050a0220.f7f52.fbddSMTPIN_ADDED_MISSING@mx.google.com> Received: from [172.21.0.2] (unknown [172.18.0.240]) by postal.iol.unh.edu (Postfix) with ESMTP id C49A06051830; Thu, 30 Oct 2025 15:24:43 -0400 (EDT) Subject: |SUCCESS| pw158307-158309 [PATCH] [v4,4/4] net/tap: configure link c From: dpdklab@iol.unh.edu To: Test Report Cc: dpdk-test-reports@iol.unh.edu, Stephen Hemminger In-Reply-To: <20251030175537.219641-11-rjarry@redhat.com> References: <20251030175537.219641-11-rjarry@redhat.com> Content-Type: text/plain X-BeenThere: test-report@dpdk.org X-Mailman-Version: 2.1.29 Precedence: list List-Id: automatic DPDK test reports List-Unsubscribe: , List-Archive: List-Post: List-Help: List-Subscribe: , Errors-To: test-report-bounces@dpdk.org Test-Label: iol-unit-amd64-testing Test-Status: SUCCESS http://dpdk.org/patch/158309 _Testing PASS_ Submitter: Robin Jarry Date: Thursday, October 30 2025 17:55:43 DPDK git baseline: Repo:dpdk-next-net Branch: master CommitID:bd9b8a264598adb8e50c1e9e5fe97e75b6009db9 158307-158309 --> testing pass Upstream job id: Generic-VM-Unit-Test-DPDK#32186 Test environment and result as below: +-------------------------------+----------------+ | Environment | dpdk_unit_test | +===============================+================+ | CentOS Stream 9 | PASS | +-------------------------------+----------------+ | CentOS Stream 10 | PASS | +-------------------------------+----------------+ | Debian GNU/Linux 12 | PASS | +-------------------------------+----------------+ | Fedora Linux 40 | PASS | +-------------------------------+----------------+ | Fedora Linux 41 | PASS | +-------------------------------+----------------+ | Fedora Linux 42 | PASS | +-------------------------------+----------------+ | Ubuntu 20.04 | PASS | +-------------------------------+----------------+ | Red Hat Enterprise Linux 8.10 | PASS | +-------------------------------+----------------+ | Red Hat Enterprise Linux 9.5 | PASS | +-------------------------------+----------------+ | Ubuntu 22.04 | PASS | +-------------------------------+----------------+ | Ubuntu 24.04 | PASS | +-------------------------------+----------------+ | Windows Server 2022 | PASS | +-------------------------------+----------------+ CentOS Stream 9 Kernel: 5.15 Compiler: gcc gcc (GCC) 11.5.0 20240719 (Red Hat 11.5.0-11) CentOS Stream 10 Kernel: 5.15 Compiler: gcc gcc (GCC) 14.2.1 20250110 (Red Hat 14.2.1-8) Debian GNU/Linux 12 Kernel: 5.15 Compiler: gcc gcc (Debian 12.2.0-14+deb12u1) 12.2.0 Fedora Linux 40 Kernel: 5.15 Compiler: clang gcc (GCC) 14.2.1 20240912 (Red Hat 14.2.1-3) Fedora Linux 41 Kernel: 5.15 Compiler: gcc gcc (GCC) 14.3.1 20250523 (Red Hat 14.3.1-1) Fedora Linux 42 Kernel: 5.15 Compiler: clang gcc (GCC) 15.2.1 20250808 (Red Hat 15.2.1-1) Ubuntu 20.04 Kernel: 5.15 Compiler: gcc gcc (Ubuntu 9.4.0-1ubuntu1~20.04.2) 9.4.0 Red Hat Enterprise Linux 8.10 Kernel: 5.15 Compiler: gcc gcc (GCC) 8.5.0 20210514 (Red Hat 8.5.0-22) Red Hat Enterprise Linux 9.5 Kernel: 5.15 Compiler: gcc gcc (GCC) 11.5.0 20240719 (Red Hat 11.5.0-2) Ubuntu 22.04 Kernel: 5.15 Compiler: gcc gcc (Ubuntu 11.4.0-1ubuntu1~22.04) 11.4.0 Ubuntu 24.04 Kernel: 5.15 Compiler: gcc gcc (Ubuntu 13.3.0-6ubuntu2~24.04) 13.3.0 Windows Server 2022 Kernel: 10.0.20348.2031 Compiler: clang 15.0.7, gcc 14.1.0 (MinGW), and MSVC VS 19.39.33521 To view detailed results, visit: https://lab.dpdk.org/results/dashboard/patchsets/34425/ UNH-IOL DPDK Community Lab To manage your email subscriptions, visit: https://lab.dpdk.org/results/dashboard/preferences/subscriptions/