From mboxrd@z Thu Jan 1 00:00:00 1970 Return-Path: Received: from mails.dpdk.org (mails.dpdk.org [217.70.189.124]) by inbox.dpdk.org (Postfix) with ESMTP id 7681A48A17 for ; Thu, 30 Oct 2025 21:09:22 +0100 (CET) Received: from mails.dpdk.org (localhost [127.0.0.1]) by mails.dpdk.org (Postfix) with ESMTP id 4AEEE4026F; Thu, 30 Oct 2025 21:09:22 +0100 (CET) Received: from mail-oa1-f100.google.com (mail-oa1-f100.google.com [209.85.160.100]) by mails.dpdk.org (Postfix) with ESMTP id 5EA044026F for ; Thu, 30 Oct 2025 21:09:20 +0100 (CET) Received: by mail-oa1-f100.google.com with SMTP id 586e51a60fabf-3c9859913d0so1046473fac.0 for ; Thu, 30 Oct 2025 13:09:20 -0700 (PDT) DKIM-Signature: v=1; a=rsa-sha256; c=relaxed/relaxed; d=iol.unh.edu; s=unh-iol; t=1761854959; x=1762459759; darn=dpdk.org; h=references:in-reply-to:cc:to:from:subject:message-id:date:from:to :cc:subject:date:message-id:reply-to; bh=kISUwKEXMjL+G//AtV3hcc+LtZZAOW0tePryZYtGteI=; b=JoQvS5EkbsIv2zvtfbSF03De6bwJ1ahz/KAYASHTxEissER8hDcFAwG5ryPhpdaPw7 3XPjfQWas8qKh9Ofmoh76sCUMt4Dtkwa0vnCV1QFiz4Wln8T5iwmDOv76gNv1yp9y6V6 QVXTvJU4fvdVTIR6eQmdmiOuCVivoVuBJi0wY= X-Google-DKIM-Signature: v=1; a=rsa-sha256; c=relaxed/relaxed; d=1e100.net; s=20230601; t=1761854959; x=1762459759; h=references:in-reply-to:cc:to:from:subject:message-id:date :x-gm-message-state:from:to:cc:subject:date:message-id:reply-to; bh=kISUwKEXMjL+G//AtV3hcc+LtZZAOW0tePryZYtGteI=; b=kPRJu3//+QTamJv1ZFe94iOm6dNlhhDjUIlaYms5oU3ZMErQ7GZA7sXDsm+p8nY9QO wJS2irE8jIUOuA61Ybbag1307N18lzDLP84XK8eQPvy1v9DrbYveDbaaE4R4wQgjPdc5 jRuKKq5cD5/VazsuGdTN1jOOdx/Arszg6bdSGYz5de7bsURPcZstD9JsugZyRGK3M7iv zXG04exn/OksLYH9nGAC1HGiz2ESnGQIPZYn9cwDVrJwjvy7hyqIf2A+S02RFnzaSG9S lA8f5S/6k/DUivyeLJjbGlA1mYCTgfqp1DDUizmGwPT+vkS48Td4K5Nhq8X85cYffkPJ fH7g== X-Gm-Message-State: AOJu0YwbCCCFY5ysSg8rj8budt7lCZ6LyvAfrgHuSDay8pow7gibf00H Z3PBZaabEE96is/W4KuAAgpuSrKAaDftTHnUnLPteqEfbV4Os0yVXPC9eYurQjDYGH0op1H0iAB amqfoaQNk1YuHdixvp6ZTe/lE6eCV0hPfiPhyW1/SoE5GRR+xBpAzUkz2Hm0r X-Gm-Gg: ASbGnctFS8Mojj/De8clTlZYGNOqYM3moDl62S26U9XBYHUx+nccZFGuMv+T4qWD0eF zsmmQqusvMjXgekHfq9UDuuddl+gnRDL6wYZUjv+oWR0gwEFybkel/2ZA3OBbb4FtEldZhm/Zht eqLD46LISWI3nbbFGd4LucuXr/90cjVg5aERq2XfZm5PYL0oL5wJpOp/Tf+CiyVb5QMNTwaYKfy Sw9Trumz2DW4Xj/3Abgmlm16+cRVWi615PpPbB1HL5+feWJJ1LkUQl6pUnrHcujC4WV8dM3Hozd 0uUrgXToG9l/yn8qN1/BJ8lwW7MErTylAogqvo64z90aaa+sydjXYsh7WpdEnJSI80+WfF7CFmw 3sI4Vbviw X-Google-Smtp-Source: AGHT+IGSTTgmSDHrHJPiQx4HDXQhKl3bNqDVb1Aq6Od9GAYJhwpl7YT+2fPxEpc2VJfSp97p92thWDEXpTQa X-Received: by 2002:a05:6871:2b06:b0:3d4:5e0e:c8c6 with SMTP id 586e51a60fabf-3dacb78204cmr567282fac.10.1761854959523; Thu, 30 Oct 2025 13:09:19 -0700 (PDT) Received: from postal.iol.unh.edu (postal.iol.unh.edu. [2606:4100:3880:1234::84]) by smtp-relay.gmail.com with ESMTPS id 586e51a60fabf-3d1e3553124sm1657445fac.15.2025.10.30.13.09.19 (version=TLS1_2 cipher=ECDHE-ECDSA-AES128-GCM-SHA256 bits=128/128); Thu, 30 Oct 2025 13:09:19 -0700 (PDT) X-Relaying-Domain: iol.unh.edu Date: Thu, 30 Oct 2025 13:09:19 -0700 (PDT) Message-ID: <6903c5ef.050a0220.2698d0.ebf9SMTPIN_ADDED_MISSING@mx.google.com> Received: from [172.21.0.2] (unknown [172.18.0.240]) by postal.iol.unh.edu (Postfix) with ESMTP id 0403C60003E7; Thu, 30 Oct 2025 16:09:19 -0400 (EDT) Subject: |WARNING| pw158305-158306 [PATCH] [2/2] test/hash: reduce time of fu From: dpdklab@iol.unh.edu To: Test Report Cc: dpdk-test-reports@iol.unh.edu In-Reply-To: <20251030175329.4041960-3-thomas@monjalon.net> References: <20251030175329.4041960-3-thomas@monjalon.net> Content-Type: text/plain X-BeenThere: test-report@dpdk.org X-Mailman-Version: 2.1.29 Precedence: list List-Id: automatic DPDK test reports List-Unsubscribe: , List-Archive: List-Post: List-Help: List-Subscribe: , Errors-To: test-report-bounces@dpdk.org Test-Label: iol-compile-amd64-testing Test-Status: WARNING http://dpdk.org/patch/158306 _Testing issues_ Submitter: Thomas Monjalon Date: Thursday, October 30 2025 17:50:12 DPDK git baseline: Repo:dpdk Branch: master CommitID:39b54f2dcf44ad1f91eabc7080cd5dea763607fd 158305-158306 --> testing issues Upstream job id: Windows-Compile-DPDK-Native#32013 Test environment and result as below: +-------------------------------+--------------------+-------------------+------------------+-------------------+-------------------------+ | Environment | dpdk_meson_compile | dpdk_compile_spdk | dpdk_compile_ovs | dpdk_msvc_compile | dpdk_llvm_clang_compile | +===============================+====================+===================+==================+===================+=========================+ | CentOS Stream 10 | PASS | SKIPPED | SKIPPED | SKIPPED | SKIPPED | +-------------------------------+--------------------+-------------------+------------------+-------------------+-------------------------+ | CentOS Stream 9 | PASS | WARN | SKIPPED | SKIPPED | SKIPPED | +-------------------------------+--------------------+-------------------+------------------+-------------------+-------------------------+ | Ubuntu 20.04 | PASS | SKIPPED | SKIPPED | SKIPPED | SKIPPED | +-------------------------------+--------------------+-------------------+------------------+-------------------+-------------------------+ | FreeBSD 14.2 | PASS | SKIPPED | SKIPPED | SKIPPED | SKIPPED | +-------------------------------+--------------------+-------------------+------------------+-------------------+-------------------------+ | Debian GNU/Linux 12 | PASS | WARN | SKIPPED | SKIPPED | SKIPPED | +-------------------------------+--------------------+-------------------+------------------+-------------------+-------------------------+ | Fedora Linux 42 | PASS | WARN | PASS | SKIPPED | SKIPPED | +-------------------------------+--------------------+-------------------+------------------+-------------------+-------------------------+ | Red Hat Enterprise Linux 8.10 | PASS | SKIPPED | SKIPPED | SKIPPED | SKIPPED | +-------------------------------+--------------------+-------------------+------------------+-------------------+-------------------------+ | openSUSE Leap 15.6 | PASS | SKIPPED | SKIPPED | SKIPPED | SKIPPED | +-------------------------------+--------------------+-------------------+------------------+-------------------+-------------------------+ | Red Hat Enterprise Linux 9.5 | PASS | SKIPPED | SKIPPED | SKIPPED | SKIPPED | +-------------------------------+--------------------+-------------------+------------------+-------------------+-------------------------+ | Ubuntu 22.04 | PASS | WARN | SKIPPED | SKIPPED | SKIPPED | +-------------------------------+--------------------+-------------------+------------------+-------------------+-------------------------+ | Ubuntu 24.04 | PASS | WARN | PASS | SKIPPED | SKIPPED | +-------------------------------+--------------------+-------------------+------------------+-------------------+-------------------------+ | Alpine Linux 3.22.0 | PASS | SKIPPED | SKIPPED | SKIPPED | SKIPPED | +-------------------------------+--------------------+-------------------+------------------+-------------------+-------------------------+ | Windows Server 2022 | SKIPPED | SKIPPED | SKIPPED | PASS | PASS | +-------------------------------+--------------------+-------------------+------------------+-------------------+-------------------------+ ==== 20 line log output for Ubuntu 24.04 (dpdk_compile_spdk): ==== --- Failed to get log output --- ==== End log output ==== CentOS Stream 10 Kernel: 5.15 Compiler: gcc gcc (GCC) 14.2.1 20250110 (Red Hat 14.2.1-8) CentOS Stream 9 Kernel: 5.15 Compiler: gcc gcc (GCC) 11.5.0 20240719 (Red Hat 11.5.0-11) Ubuntu 20.04 Kernel: 4.19 Compiler: gcc gcc (Ubuntu 9.4.0-1ubuntu1~20.04.2) 9.4.0 FreeBSD 14.2 Kernel: 14.2-RELEASE Compiler: clang 18.1.6 Debian GNU/Linux 12 Kernel: 5.15 Compiler: gcc gcc (Debian 12.2.0-14+deb12u1) 12.2.0 Fedora Linux 42 Kernel: 5.15 Compiler: clang gcc (GCC) 15.2.1 20250808 (Red Hat 15.2.1-1) Red Hat Enterprise Linux 8.10 Kernel: 5.15 Compiler: gcc gcc (GCC) 8.5.0 20210514 (Red Hat 8.5.0-22) openSUSE Leap 15.6 Kernel: 5.15 Compiler: gcc gcc (SUSE Linux) 7.5.0 Red Hat Enterprise Linux 9.5 Kernel: 5.15 Compiler: gcc gcc (GCC) 11.5.0 20240719 (Red Hat 11.5.0-2) Ubuntu 22.04 Kernel: 5.15 Compiler: gcc gcc (Ubuntu 11.4.0-1ubuntu1~22.04) 11.4.0 Ubuntu 24.04 Kernel: 5.15 Compiler: gcc gcc (Ubuntu 13.3.0-6ubuntu2~24.04) 13.3.0 Alpine Linux 3.22.0 Kernel: 5.15 Compiler: gcc gcc (Alpine 14.2.0) 14.2.0 Windows Server 2022 Kernel: 10.0.20348.2031 Compiler: clang 15.0.7, gcc 14.1.0 (MinGW), and MSVC VS 19.39.33521 To view detailed results, visit: https://lab.dpdk.org/results/dashboard/patchsets/34426/ UNH-IOL DPDK Community Lab To manage your email subscriptions, visit: https://lab.dpdk.org/results/dashboard/preferences/subscriptions/