From mboxrd@z Thu Jan 1 00:00:00 1970 Return-Path: Received: from mails.dpdk.org (mails.dpdk.org [217.70.189.124]) by inbox.dpdk.org (Postfix) with ESMTP id BCE8E48A17 for ; Thu, 30 Oct 2025 21:18:49 +0100 (CET) Received: from mails.dpdk.org (localhost [127.0.0.1]) by mails.dpdk.org (Postfix) with ESMTP id B766F4026F; Thu, 30 Oct 2025 21:18:49 +0100 (CET) Received: from mail-yx1-f99.google.com (mail-yx1-f99.google.com [74.125.224.99]) by mails.dpdk.org (Postfix) with ESMTP id C49D44026F for ; Thu, 30 Oct 2025 21:18:48 +0100 (CET) Received: by mail-yx1-f99.google.com with SMTP id 956f58d0204a3-63e1b52b452so1645989d50.1 for ; Thu, 30 Oct 2025 13:18:48 -0700 (PDT) DKIM-Signature: v=1; a=rsa-sha256; c=relaxed/relaxed; d=iol.unh.edu; s=unh-iol; t=1761855528; x=1762460328; darn=dpdk.org; h=references:in-reply-to:cc:to:from:subject:message-id:date:from:to :cc:subject:date:message-id:reply-to; bh=JSIheRCh7tzaR2HVtwZu8e4+21zi3YbYJCxhBUJK2SU=; b=Zrf2Ieh5hN2bfJjsuBhkMJE8dfElyTN51TvdJvISeuZguQ8CN1iNdTTZDV48kJArnV TZNAsvItKvzOB5bC4xzGQd7KTxmhfGHoGoNESQtWaB8ryR2wu5iF2naSPaPYdGJk31n/ moirCVA4MQsrbEDQ1lv/HnGsrGIY/v0qyRsPo= X-Google-DKIM-Signature: v=1; a=rsa-sha256; c=relaxed/relaxed; d=1e100.net; s=20230601; t=1761855528; x=1762460328; h=references:in-reply-to:cc:to:from:subject:message-id:date :x-gm-message-state:from:to:cc:subject:date:message-id:reply-to; bh=JSIheRCh7tzaR2HVtwZu8e4+21zi3YbYJCxhBUJK2SU=; b=WzcaNDLBcFX/mnOFrhECoVx3E+u0ylbSINrUY3UYOsSZgpGLiJFmhtv8sygJvDs65t vtEUp12Smj43MeS94U1MLeHPJLwf5QnVNXzliSKo7/bCiT7w17biPj2PqoOquPjH3/zH fnqI0BBkhWigy2TUlNlrLQMLUXcvD+7Z/RtL+2YKiTriLWqjrC+t7ZIKXAQ+D6s35SH/ kcX4MLVdsyVUZokngtjuIPWyXI9SeZJmtlr74z1KOHzcjOPdyXWKAYgNNZu1qTClib9Q +z5m/2NXWhUBNPNuNe+SG1eCMYO+gu6seuW0dUHhGyPFNvjQ5+fMmIK17ksK8LRHiVSh JxGg== X-Gm-Message-State: AOJu0YxNdYDuMpuCzTXzD3FYeb1+AZKNLgg5b/Dqq17iNJ2uMw7k5nen lf7jxeCCzCUE3kJ7acyN6BuSUQ4T/qXA6SxBoYRhGksdCfYdhZeg4hy6i2rbsUH23wLrOsbWI+Q cs/i1ce1XUCeqJG3vY9Y5SkMXAAwqHTBCRuZ7nCQqn1Wm9whUIbSGoqG7dWhX X-Gm-Gg: ASbGncvxn7NaZlMIvSXcm+0lpgp7Y5SlehEDZUCfGegykAsVwqinypRfDdHbR9DlKBE mAShxVhlLYM1ydPjlAcx9bzfCUfwCFfov6P7QJbtl/5ypR4rfCSXvscCtV2fn7He1nirD1uEAhB +tKIGs6Ld8CWs8TSSMLwsbN/Wm4tbJsaw8u6GQfEy/Ej5R0sKC1xrvQvfGHge8eVAExMVqztPSv SajsSZphltkMNoC7xc2SUJcTTf0Yk39LZmg06sdbKDU0KWj8r+cc2Jt9PVRAEZhBGM2vs0+Mgcd ehQZ5+595hnZcp/i7njgQTQy+Pe0BK+sDJBZztSC1gl9uNZTveBp+d1CfZ/8X3WYGegLF8MNGZx GxQ6stM8p X-Google-Smtp-Source: AGHT+IEch060p2A6b/WEMyvCNrYDWpYfxxI6K9GQSZDMGvsd9sw7V4sik15ZH3otNdm2AzoYoaDhDsk0/Z76 X-Received: by 2002:a05:690c:6e08:b0:785:cc3e:12f3 with SMTP id 00721157ae682-786483ab5d9mr9360927b3.11.1761855528017; Thu, 30 Oct 2025 13:18:48 -0700 (PDT) Received: from postal.iol.unh.edu (postal.iol.unh.edu. [2606:4100:3880:1234::84]) by smtp-relay.gmail.com with ESMTPS id 00721157ae682-785ed146afcsm14067027b3.1.2025.10.30.13.18.47 (version=TLS1_2 cipher=ECDHE-ECDSA-AES128-GCM-SHA256 bits=128/128); Thu, 30 Oct 2025 13:18:48 -0700 (PDT) X-Relaying-Domain: iol.unh.edu Date: Thu, 30 Oct 2025 13:18:48 -0700 (PDT) Message-ID: <6903c828.050a0220.2a41a2.3552SMTPIN_ADDED_MISSING@mx.google.com> Received: from [172.21.0.2] (unknown [172.18.0.240]) by postal.iol.unh.edu (Postfix) with ESMTP id A9CC9604D420; Thu, 30 Oct 2025 16:18:47 -0400 (EDT) Subject: |SUCCESS| pw158305-158306 [PATCH] [2/2] test/hash: reduce time of fu From: dpdklab@iol.unh.edu To: Test Report Cc: dpdk-test-reports@iol.unh.edu In-Reply-To: <20251030175329.4041960-3-thomas@monjalon.net> References: <20251030175329.4041960-3-thomas@monjalon.net> Content-Type: text/plain X-BeenThere: test-report@dpdk.org X-Mailman-Version: 2.1.29 Precedence: list List-Id: automatic DPDK test reports List-Unsubscribe: , List-Archive: List-Post: List-Help: List-Subscribe: , Errors-To: test-report-bounces@dpdk.org Test-Label: iol-unit-amd64-testing Test-Status: SUCCESS http://dpdk.org/patch/158306 _Testing PASS_ Submitter: Thomas Monjalon Date: Thursday, October 30 2025 17:50:12 DPDK git baseline: Repo:dpdk Branch: master CommitID:39b54f2dcf44ad1f91eabc7080cd5dea763607fd 158305-158306 --> testing pass Upstream job id: Generic-VM-Unit-Test-DPDK#32187 Test environment and result as below: +-------------------------------+----------------+ | Environment | dpdk_unit_test | +===============================+================+ | Debian GNU/Linux 12 | PASS | +-------------------------------+----------------+ | CentOS Stream 9 | PASS | +-------------------------------+----------------+ | CentOS Stream 10 | PASS | +-------------------------------+----------------+ | Fedora Linux 40 | PASS | +-------------------------------+----------------+ | Fedora Linux 41 | PASS | +-------------------------------+----------------+ | Fedora Linux 42 | PASS | +-------------------------------+----------------+ | Red Hat Enterprise Linux 8.10 | PASS | +-------------------------------+----------------+ | Ubuntu 22.04 | PASS | +-------------------------------+----------------+ | Ubuntu 20.04 | PASS | +-------------------------------+----------------+ | Red Hat Enterprise Linux 9.5 | PASS | +-------------------------------+----------------+ | Ubuntu 24.04 | PASS | +-------------------------------+----------------+ | Windows Server 2022 | PASS | +-------------------------------+----------------+ Debian GNU/Linux 12 Kernel: 5.15 Compiler: gcc gcc (Debian 12.2.0-14+deb12u1) 12.2.0 CentOS Stream 9 Kernel: 5.15 Compiler: gcc gcc (GCC) 11.5.0 20240719 (Red Hat 11.5.0-11) CentOS Stream 10 Kernel: 5.15 Compiler: gcc gcc (GCC) 14.2.1 20250110 (Red Hat 14.2.1-8) Fedora Linux 40 Kernel: 5.15 Compiler: gcc gcc (GCC) 14.2.1 20240912 (Red Hat 14.2.1-3) Fedora Linux 41 Kernel: 5.15 Compiler: gcc gcc (GCC) 14.3.1 20250523 (Red Hat 14.3.1-1) Fedora Linux 42 Kernel: 5.15 Compiler: gcc gcc (GCC) 15.2.1 20250808 (Red Hat 15.2.1-1) Red Hat Enterprise Linux 8.10 Kernel: 5.15 Compiler: gcc gcc (GCC) 8.5.0 20210514 (Red Hat 8.5.0-22) Ubuntu 22.04 Kernel: 5.15 Compiler: gcc gcc (Ubuntu 11.4.0-1ubuntu1~22.04) 11.4.0 Ubuntu 20.04 Kernel: 5.15 Compiler: gcc gcc (Ubuntu 9.4.0-1ubuntu1~20.04.2) 9.4.0 Red Hat Enterprise Linux 9.5 Kernel: 5.15 Compiler: gcc gcc (GCC) 11.5.0 20240719 (Red Hat 11.5.0-2) Ubuntu 24.04 Kernel: 5.15 Compiler: gcc gcc (Ubuntu 13.3.0-6ubuntu2~24.04) 13.3.0 Windows Server 2022 Kernel: 10.0.20348.2031 Compiler: clang 15.0.7, gcc 14.1.0 (MinGW), and MSVC VS 19.39.33521 To view detailed results, visit: https://lab.dpdk.org/results/dashboard/patchsets/34426/ UNH-IOL DPDK Community Lab To manage your email subscriptions, visit: https://lab.dpdk.org/results/dashboard/preferences/subscriptions/