From mboxrd@z Thu Jan 1 00:00:00 1970 Return-Path: Received: from mails.dpdk.org (mails.dpdk.org [217.70.189.124]) by inbox.dpdk.org (Postfix) with ESMTP id 2C9E748A17 for ; Thu, 30 Oct 2025 21:22:20 +0100 (CET) Received: from mails.dpdk.org (localhost [127.0.0.1]) by mails.dpdk.org (Postfix) with ESMTP id 0F64C4026F; Thu, 30 Oct 2025 21:22:20 +0100 (CET) Received: from mail-io1-f97.google.com (mail-io1-f97.google.com [209.85.166.97]) by mails.dpdk.org (Postfix) with ESMTP id 350E54026F for ; Thu, 30 Oct 2025 21:22:19 +0100 (CET) Received: by mail-io1-f97.google.com with SMTP id ca18e2360f4ac-93e2d42d9b4so66665039f.2 for ; Thu, 30 Oct 2025 13:22:19 -0700 (PDT) DKIM-Signature: v=1; a=rsa-sha256; c=relaxed/relaxed; d=iol.unh.edu; s=unh-iol; t=1761855738; x=1762460538; darn=dpdk.org; h=references:in-reply-to:cc:to:from:subject:message-id:date:from:to :cc:subject:date:message-id:reply-to; bh=TnpxPqEvZmXk1Thnz2bQKCUfzgnDqAA95lZW/OJw4TQ=; b=OU3eshqkcsx9G43TXGe+FE2yo38+Tz1PcZ5eW2R9TtNaBdcTr26AscUgMRJ2p35+ji lbOuHNhQ9V8Wtkst0BkSU0QM3r1EGJ8nTtX7ZMtra9Qlmwp+gjpkebo8me20N/kghmtN 9QoKrjPuugwYQe3XUf7fphXIzsWWwV41VAGgA= X-Google-DKIM-Signature: v=1; a=rsa-sha256; c=relaxed/relaxed; d=1e100.net; s=20230601; t=1761855738; x=1762460538; h=references:in-reply-to:cc:to:from:subject:message-id:date :x-gm-message-state:from:to:cc:subject:date:message-id:reply-to; bh=TnpxPqEvZmXk1Thnz2bQKCUfzgnDqAA95lZW/OJw4TQ=; b=V+DyjzgiISZlqgeqeFeBn/Ew21a9vS75CDFKgINXsXeBl6HcbkLS0ho08dUkLhr3LP 8qijWzJ1sfkloZGDNxMFX/BKRl04zLXyy1LnXsFaNseYNE49rqZ0ndt6uEhiCOnSm9ci ogJqywr9ItJLus9s0ATUk0JDRD7OrEPOcKNOE97BbGw9UnO2Cy3wXJABoON/gbnW5MsO dYPH+tfkXHwiaN7QJNVVa4G90vjlk2/Gvbjqu8akzAdWFiLLTZZ69NHZUGl8q/0Nxesh Eh/IkNZJJYKIh2xGNYnlCaVn0xO8zzRRc9dHpLl5cXr0iMM51ocZ5OnJjsCpcsA19Anr X9sg== X-Gm-Message-State: AOJu0YxKHQYmJS7CZMo2lSJeTeLI93N4zWoO7JMop+b0kpFZfQ0FbWfG dFlaLv59dtcdTgKUoZyoIl49v3KEH+79NThHx78fwpd4T7YGO30TiO/CUkiidzBluXzRI/JaAVr 2cK+fw9DPEgpHObMrK7cr9deqIqp4ELuCX0n14UfzIUz91e4R6MnPs447H33T X-Gm-Gg: ASbGncvg+L7MPa7gXGq5HvWtcgO6l8f/m3aFd6eOhFQtXvVBPLTPTUcKfNN8DCIRYJe c+Z1izD+ilGzzumHcoiF/RCmSIEcjIqDYO/xUfDBSHsmBYr0gW1iFIgnvUrblVkcu5z1HbNeKho T1mAkshXofcA0ZXPMAL+S68bJZ5sNHz/ivd55DFzhtxpOXIbTuQYg8SG72qMEw6Z1H8Muha+GAy /b5B3aoRnPFqwtyHKe7R5i/RoEalshriXhOWsZ/5sFWN+sVSyNziE6xEp+hXyIV068ddz4xUMa6 D0VWnkAuZHJliaDr9ZwSkdNyod3BSKhOAS4Z++If19ZQ0IlZ8T3nU5Yhvsnt4lTxXH6DKZc/jGs OEEvG0QW+ X-Google-Smtp-Source: AGHT+IHRGlYTIl2wdBgs64WDeoXSYK0m8c4hzjCuWKTm4PE1yGXaWVoyfU1KyKx5kaHC6IVLsRvCmNaqNYjg X-Received: by 2002:a05:6e02:1aad:b0:432:fbe2:3605 with SMTP id e9e14a558f8ab-4330d12a2f0mr17408945ab.11.1761855738351; Thu, 30 Oct 2025 13:22:18 -0700 (PDT) Received: from postal.iol.unh.edu (postal.iol.unh.edu. [2606:4100:3880:1234::84]) by smtp-relay.gmail.com with ESMTPS id 8926c6da1cb9f-5aeaa31db03sm1521950173.38.2025.10.30.13.22.18 (version=TLS1_2 cipher=ECDHE-ECDSA-AES128-GCM-SHA256 bits=128/128); Thu, 30 Oct 2025 13:22:18 -0700 (PDT) X-Relaying-Domain: iol.unh.edu Date: Thu, 30 Oct 2025 13:22:18 -0700 (PDT) Message-ID: <6903c8fa.050a0220.244f1b.9147SMTPIN_ADDED_MISSING@mx.google.com> Received: from [172.21.0.2] (unknown [172.18.0.240]) by postal.iol.unh.edu (Postfix) with ESMTP id F257B604D420; Thu, 30 Oct 2025 16:22:17 -0400 (EDT) Subject: |WARNING| pw158305-158306 [PATCH] [2/2] test/hash: reduce time of fu From: dpdklab@iol.unh.edu To: Test Report Cc: dpdk-test-reports@iol.unh.edu In-Reply-To: <20251030175329.4041960-3-thomas@monjalon.net> References: <20251030175329.4041960-3-thomas@monjalon.net> Content-Type: text/plain X-BeenThere: test-report@dpdk.org X-Mailman-Version: 2.1.29 Precedence: list List-Id: automatic DPDK test reports List-Unsubscribe: , List-Archive: List-Post: List-Help: List-Subscribe: , Errors-To: test-report-bounces@dpdk.org Test-Label: iol-compile-amd64-testing Test-Status: WARNING http://dpdk.org/patch/158306 _Testing issues_ Submitter: Thomas Monjalon Date: Thursday, October 30 2025 17:50:12 DPDK git baseline: Repo:dpdk Branch: master CommitID:39b54f2dcf44ad1f91eabc7080cd5dea763607fd 158305-158306 --> testing issues Upstream job id: Windows-Compile-DPDK-Native#32014 Test environment and result as below: +-------------------------------+--------------------+-------------------+------------------+-------------------+-------------------------+----------------------+ | Environment | dpdk_meson_compile | dpdk_compile_spdk | dpdk_compile_ovs | dpdk_msvc_compile | dpdk_llvm_clang_compile | dpdk_mingw64_compile | +===============================+====================+===================+==================+===================+=========================+======================+ | CentOS Stream 10 | PASS | SKIPPED | SKIPPED | SKIPPED | SKIPPED | SKIPPED | +-------------------------------+--------------------+-------------------+------------------+-------------------+-------------------------+----------------------+ | CentOS Stream 9 | PASS | WARN | SKIPPED | SKIPPED | SKIPPED | SKIPPED | +-------------------------------+--------------------+-------------------+------------------+-------------------+-------------------------+----------------------+ | Ubuntu 20.04 | PASS | SKIPPED | SKIPPED | SKIPPED | SKIPPED | SKIPPED | +-------------------------------+--------------------+-------------------+------------------+-------------------+-------------------------+----------------------+ | FreeBSD 14.2 | PASS | SKIPPED | SKIPPED | SKIPPED | SKIPPED | SKIPPED | +-------------------------------+--------------------+-------------------+------------------+-------------------+-------------------------+----------------------+ | Debian GNU/Linux 12 | PASS | WARN | SKIPPED | SKIPPED | SKIPPED | SKIPPED | +-------------------------------+--------------------+-------------------+------------------+-------------------+-------------------------+----------------------+ | Fedora Linux 42 | PASS | WARN | PASS | SKIPPED | SKIPPED | SKIPPED | +-------------------------------+--------------------+-------------------+------------------+-------------------+-------------------------+----------------------+ | Red Hat Enterprise Linux 8.10 | PASS | SKIPPED | SKIPPED | SKIPPED | SKIPPED | SKIPPED | +-------------------------------+--------------------+-------------------+------------------+-------------------+-------------------------+----------------------+ | openSUSE Leap 15.6 | PASS | SKIPPED | SKIPPED | SKIPPED | SKIPPED | SKIPPED | +-------------------------------+--------------------+-------------------+------------------+-------------------+-------------------------+----------------------+ | Red Hat Enterprise Linux 9.5 | PASS | SKIPPED | SKIPPED | SKIPPED | SKIPPED | SKIPPED | +-------------------------------+--------------------+-------------------+------------------+-------------------+-------------------------+----------------------+ | Ubuntu 22.04 | PASS | WARN | SKIPPED | SKIPPED | SKIPPED | SKIPPED | +-------------------------------+--------------------+-------------------+------------------+-------------------+-------------------------+----------------------+ | Ubuntu 24.04 | PASS | WARN | PASS | SKIPPED | SKIPPED | SKIPPED | +-------------------------------+--------------------+-------------------+------------------+-------------------+-------------------------+----------------------+ | Alpine Linux 3.22.0 | PASS | SKIPPED | SKIPPED | SKIPPED | SKIPPED | SKIPPED | +-------------------------------+--------------------+-------------------+------------------+-------------------+-------------------------+----------------------+ | Windows Server 2022 | SKIPPED | SKIPPED | SKIPPED | PASS | PASS | PASS | +-------------------------------+--------------------+-------------------+------------------+-------------------+-------------------------+----------------------+ ==== 20 line log output for Ubuntu 24.04 (dpdk_compile_spdk): ==== --- Failed to get log output --- ==== End log output ==== CentOS Stream 10 Kernel: 5.15 Compiler: gcc gcc (GCC) 14.2.1 20250110 (Red Hat 14.2.1-8) CentOS Stream 9 Kernel: 5.15 Compiler: gcc gcc (GCC) 11.5.0 20240719 (Red Hat 11.5.0-11) Ubuntu 20.04 Kernel: 4.19 Compiler: gcc gcc (Ubuntu 9.4.0-1ubuntu1~20.04.2) 9.4.0 FreeBSD 14.2 Kernel: 14.2-RELEASE Compiler: clang 18.1.6 Debian GNU/Linux 12 Kernel: 5.15 Compiler: gcc gcc (Debian 12.2.0-14+deb12u1) 12.2.0 Fedora Linux 42 Kernel: 5.15 Compiler: clang gcc (GCC) 15.2.1 20250808 (Red Hat 15.2.1-1) Red Hat Enterprise Linux 8.10 Kernel: 5.15 Compiler: gcc gcc (GCC) 8.5.0 20210514 (Red Hat 8.5.0-22) openSUSE Leap 15.6 Kernel: 5.15 Compiler: gcc gcc (SUSE Linux) 7.5.0 Red Hat Enterprise Linux 9.5 Kernel: 5.15 Compiler: gcc gcc (GCC) 11.5.0 20240719 (Red Hat 11.5.0-2) Ubuntu 22.04 Kernel: 5.15 Compiler: gcc gcc (Ubuntu 11.4.0-1ubuntu1~22.04) 11.4.0 Ubuntu 24.04 Kernel: 5.15 Compiler: gcc gcc (Ubuntu 13.3.0-6ubuntu2~24.04) 13.3.0 Alpine Linux 3.22.0 Kernel: 5.15 Compiler: gcc gcc (Alpine 14.2.0) 14.2.0 Windows Server 2022 Kernel: 10.0.20348.2031 Compiler: clang 15.0.7, gcc 14.1.0 (MinGW), and MSVC VS 19.39.33521 To view detailed results, visit: https://lab.dpdk.org/results/dashboard/patchsets/34426/ UNH-IOL DPDK Community Lab To manage your email subscriptions, visit: https://lab.dpdk.org/results/dashboard/preferences/subscriptions/