From mboxrd@z Thu Jan 1 00:00:00 1970 Return-Path: Received: from mails.dpdk.org (mails.dpdk.org [217.70.189.124]) by inbox.dpdk.org (Postfix) with ESMTP id 7267A48A17 for ; Thu, 30 Oct 2025 21:24:22 +0100 (CET) Received: from mails.dpdk.org (localhost [127.0.0.1]) by mails.dpdk.org (Postfix) with ESMTP id 40F894026F; Thu, 30 Oct 2025 21:24:22 +0100 (CET) Received: from mail-vs1-f98.google.com (mail-vs1-f98.google.com [209.85.217.98]) by mails.dpdk.org (Postfix) with ESMTP id 2DE034026F for ; Thu, 30 Oct 2025 21:24:21 +0100 (CET) Received: by mail-vs1-f98.google.com with SMTP id ada2fe7eead31-5dbae7f85a3so268188137.3 for ; Thu, 30 Oct 2025 13:24:21 -0700 (PDT) DKIM-Signature: v=1; a=rsa-sha256; c=relaxed/relaxed; d=iol.unh.edu; s=unh-iol; t=1761855860; x=1762460660; darn=dpdk.org; h=references:in-reply-to:cc:to:from:subject:message-id:date:from:to :cc:subject:date:message-id:reply-to; bh=WK/GIn9FTpwydR9ji6VxLyV3/cwO8AiWqOMb/hNv0FY=; b=Mw3h8O5tQnYn9foBc9mskMUM/1Io+QVU/zY6D1s2WgWQQnOlfNOms0L9fQJrsggscJ ejR/59SRBhwE0fruUeecDxe71ZlSm01cwbnUIx8gMnjwFiUCiyxOPUGlN7aJGaeK954Q SjoSN01zle9KkEFlco9I/lUzy4SYSEeDiTcbM= X-Google-DKIM-Signature: v=1; a=rsa-sha256; c=relaxed/relaxed; d=1e100.net; s=20230601; t=1761855860; x=1762460660; h=references:in-reply-to:cc:to:from:subject:message-id:date :x-gm-message-state:from:to:cc:subject:date:message-id:reply-to; bh=WK/GIn9FTpwydR9ji6VxLyV3/cwO8AiWqOMb/hNv0FY=; b=RgNg8qcSkuncddBgkEW8MpCREJOR2RZH9VLZs4HhuRx8sboHC1ZjJT8ccjQNsmparm o9aC8sO2m2fjWgp858/o0jWwstu7uZ3jyxkURJuLH3UNMAfdeL2DSqHRzao+2G4TkcjD /83wIDmgP7OgffqFJAG7SLWE7+WrQ4xVS5Z/XkuzGfe1ledJ5NmpMpdra8Q/4Z7Jlsjd trUibMuFwm3NLeq3mHBf/mCu6wTSH20mNgutOz/VOltDQkMo5tNk/SbsIWRFsw0qMfKh vqgnqaaet5AxywziJpBnARwqYt9wmoRHxs2o4omn8s1ONIDIxatEnyVtKyOhveh7Qfx6 62GQ== X-Gm-Message-State: AOJu0YxLKgZNN4lBYtO//Yv8yLHLxvc0V+PawLvBE5Ru5R6ToVWGTnRu Ibe5fT+pzcNPgAkhseU1EuRVutfKWkOilbsnM3nl6NK8vClorZRyjMuF7HTOjoiIYLsYTsqvGQi V4YEfXbNyaK7GKNbQQDKERfsPN2kewJRqdf9SAIm2W5N8fACBgF7F3Jx2+mr2 X-Gm-Gg: ASbGncu9Ki/Sv532IpgPFFi7mcXUc4RJwwrD+2U2xdwu++F9tmB8ia5cCh86YTV5D6W few3AKZQoS1BfYKQr+bwq8+dV72aiTAkXjGWA9ubuIBsh0v5FRLkhA2bD7Qy1w10obmwfj1zPu2 pfyPN7/JHdsLvAJ2h0te9viUy9CFA9JPrrHNr/Lnxf4Cnl8nT823or4IAzJzHUbrAxR9fbU1KiZ KLPFiDXQhaS3r/9X+Ek3uV7QEqib6E2ipluwoAufbxOiQhLuPO4YkYL7lSrRKdpJUNXNAqlokel kavR22yGIVgnLsBJ4RUFN0dcFuFYcDufQMpFUJACYNjmjANeiIYxrlUcPddJm9P0CUGFgdH835+ Vmyp9E0hG X-Google-Smtp-Source: AGHT+IHTSpL0XvIDClbXZUl8NZja1yGhmvvRNCruO6LLSho0UCeFFUtu5/D19JfsJ+8WDUhkUVXNAQ2zLyh+ X-Received: by 2002:a05:6102:cca:b0:528:d2ad:1f54 with SMTP id ada2fe7eead31-5dbb11d9d96mr312356137.8.1761855860338; Thu, 30 Oct 2025 13:24:20 -0700 (PDT) Received: from postal.iol.unh.edu (postal.iol.unh.edu. [2606:4100:3880:1234::84]) by smtp-relay.gmail.com with ESMTPS id ada2fe7eead31-5db4e58a52dsm1820733137.1.2025.10.30.13.24.20 (version=TLS1_2 cipher=ECDHE-ECDSA-AES128-GCM-SHA256 bits=128/128); Thu, 30 Oct 2025 13:24:20 -0700 (PDT) X-Relaying-Domain: iol.unh.edu Date: Thu, 30 Oct 2025 13:24:20 -0700 (PDT) Message-ID: <6903c974.050a0220.218a97.5cf3SMTPIN_ADDED_MISSING@mx.google.com> Received: from [172.21.0.2] (unknown [172.18.0.240]) by postal.iol.unh.edu (Postfix) with ESMTP id DB3E8604D420; Thu, 30 Oct 2025 16:24:19 -0400 (EDT) Subject: |SUCCESS| pw158305-158306 [PATCH] [2/2] test/hash: reduce time of fu From: dpdklab@iol.unh.edu To: Test Report Cc: dpdk-test-reports@iol.unh.edu In-Reply-To: <20251030175329.4041960-3-thomas@monjalon.net> References: <20251030175329.4041960-3-thomas@monjalon.net> Content-Type: text/plain X-BeenThere: test-report@dpdk.org X-Mailman-Version: 2.1.29 Precedence: list List-Id: automatic DPDK test reports List-Unsubscribe: , List-Archive: List-Post: List-Help: List-Subscribe: , Errors-To: test-report-bounces@dpdk.org Test-Label: iol-unit-amd64-testing Test-Status: SUCCESS http://dpdk.org/patch/158306 _Testing PASS_ Submitter: Thomas Monjalon Date: Thursday, October 30 2025 17:50:12 DPDK git baseline: Repo:dpdk Branch: master CommitID:39b54f2dcf44ad1f91eabc7080cd5dea763607fd 158305-158306 --> testing pass Upstream job id: Generic-VM-Unit-Test-DPDK#32188 Test environment and result as below: +-------------------------------+----------------+ | Environment | dpdk_unit_test | +===============================+================+ | Debian GNU/Linux 12 | PASS | +-------------------------------+----------------+ | CentOS Stream 9 | PASS | +-------------------------------+----------------+ | CentOS Stream 10 | PASS | +-------------------------------+----------------+ | Fedora Linux 40 | PASS | +-------------------------------+----------------+ | Fedora Linux 41 | PASS | +-------------------------------+----------------+ | Fedora Linux 42 | PASS | +-------------------------------+----------------+ | Red Hat Enterprise Linux 8.10 | PASS | +-------------------------------+----------------+ | Ubuntu 22.04 | PASS | +-------------------------------+----------------+ | Ubuntu 20.04 | PASS | +-------------------------------+----------------+ | Red Hat Enterprise Linux 9.5 | PASS | +-------------------------------+----------------+ | Ubuntu 24.04 | PASS | +-------------------------------+----------------+ | Windows Server 2022 | PASS | +-------------------------------+----------------+ Debian GNU/Linux 12 Kernel: 5.15 Compiler: gcc gcc (Debian 12.2.0-14+deb12u1) 12.2.0 CentOS Stream 9 Kernel: 5.15 Compiler: gcc gcc (GCC) 11.5.0 20240719 (Red Hat 11.5.0-11) CentOS Stream 10 Kernel: 5.15 Compiler: gcc gcc (GCC) 14.2.1 20250110 (Red Hat 14.2.1-8) Fedora Linux 40 Kernel: 5.15 Compiler: gcc gcc (GCC) 14.2.1 20240912 (Red Hat 14.2.1-3) Fedora Linux 41 Kernel: 5.15 Compiler: gcc gcc (GCC) 14.3.1 20250523 (Red Hat 14.3.1-1) Fedora Linux 42 Kernel: 5.15 Compiler: gcc gcc (GCC) 15.2.1 20250808 (Red Hat 15.2.1-1) Red Hat Enterprise Linux 8.10 Kernel: 5.15 Compiler: gcc gcc (GCC) 8.5.0 20210514 (Red Hat 8.5.0-22) Ubuntu 22.04 Kernel: 5.15 Compiler: gcc gcc (Ubuntu 11.4.0-1ubuntu1~22.04) 11.4.0 Ubuntu 20.04 Kernel: 5.15 Compiler: gcc gcc (Ubuntu 9.4.0-1ubuntu1~20.04.2) 9.4.0 Red Hat Enterprise Linux 9.5 Kernel: 5.15 Compiler: gcc gcc (GCC) 11.5.0 20240719 (Red Hat 11.5.0-2) Ubuntu 24.04 Kernel: 5.15 Compiler: gcc gcc (Ubuntu 13.3.0-6ubuntu2~24.04) 13.3.0 Windows Server 2022 Kernel: 10.0.20348.2031 Compiler: clang 15.0.7, gcc 14.1.0 (MinGW), and MSVC VS 19.39.33521 To view detailed results, visit: https://lab.dpdk.org/results/dashboard/patchsets/34426/ UNH-IOL DPDK Community Lab To manage your email subscriptions, visit: https://lab.dpdk.org/results/dashboard/preferences/subscriptions/