From mboxrd@z Thu Jan 1 00:00:00 1970 Return-Path: Received: from mails.dpdk.org (mails.dpdk.org [217.70.189.124]) by inbox.dpdk.org (Postfix) with ESMTP id 48E6F48A18 for ; Thu, 30 Oct 2025 22:59:36 +0100 (CET) Received: from mails.dpdk.org (localhost [127.0.0.1]) by mails.dpdk.org (Postfix) with ESMTP id 427BC4026F; Thu, 30 Oct 2025 22:59:36 +0100 (CET) Received: from mail-pf1-f228.google.com (mail-pf1-f228.google.com [209.85.210.228]) by mails.dpdk.org (Postfix) with ESMTP id 5D8F94026F for ; Thu, 30 Oct 2025 22:59:34 +0100 (CET) Received: by mail-pf1-f228.google.com with SMTP id d2e1a72fcca58-781206cce18so1905150b3a.0 for ; Thu, 30 Oct 2025 14:59:34 -0700 (PDT) DKIM-Signature: v=1; a=rsa-sha256; c=relaxed/relaxed; d=iol.unh.edu; s=unh-iol; t=1761861573; x=1762466373; darn=dpdk.org; h=references:in-reply-to:cc:to:from:subject:message-id:date:from:to :cc:subject:date:message-id:reply-to; bh=bT/uySQiVvsr3iHeFvcObkGpK2tGR64RA9UtStwn9bo=; b=e1e3Cln1YGxavnD+ZCWoBVzzAc+8Ff5UGVyb/9BPJzPQmcIcpGVMR0mZmfMVvp04bU I8OfNWgtUU5uACXv0YS2AuyDronlQj7U5FzpDMajwlptxcnTW06Kop91eE3s0Lbgl+jL 2IDGDnJpd5at6woecW3KmOfsSwcIKFpR7xWj8= X-Google-DKIM-Signature: v=1; a=rsa-sha256; c=relaxed/relaxed; d=1e100.net; s=20230601; t=1761861573; x=1762466373; h=references:in-reply-to:cc:to:from:subject:message-id:date :x-gm-message-state:from:to:cc:subject:date:message-id:reply-to; bh=bT/uySQiVvsr3iHeFvcObkGpK2tGR64RA9UtStwn9bo=; b=vuHGzRQ1WIZTjLCPgiXy/lfnZpu9PYhbl+7McoXAfxugw6JfweYXSXPPw3kdsbEgfr OoJqi/H0bTreyUdMvRwU9Xis1bpG4Xnjch6ggIFeRzM2rPbJgu8aSP5SaaleHA4+gUXl fv7kmCB+MiYiqxSB7tqGzyihSNwfJ685Er0st6kR3BwVfttFe2JrQP4jECQZ8bgHejjd dq3yDpL7Y8iAU1gszwy7x2jTAaxOkKwZcsarQL9+GzozhUoXpz9qwJdrCXF9I4Xm09XP OSrBOi7q+L6kdyhHOLnqc8qVb/aIiq/Grz46QmLcEMJF+jbj5ezkyp6FiKbDlTfo423t B0bg== X-Gm-Message-State: AOJu0YxlR3LC7ZRJN7M0WAeBoi/q1Sc33PSMFTRj3qulniu72CUikstX 7BzldKfQhwk5QdeT9SvIpvOZfH8PQ52Lau1iRehQeuW6/McGKNSXMdxKj3C0GZirkAdvWbZDmmT bcI+QPeUgyCzU+I7NFTa3WLTcHYYhOrsbYQ1uZvk6SjOX X-Gm-Gg: ASbGncuPQ/IDOt1xBkx52trX8k86jWWmUM7DQLjognyDzJAy853YJ4nnzZZ3863/xR6 XWrGRgH5qQxFMpB6Z2qjiiIWJtJliiKMeGnUkp/xV7AOx59W1UcFp4ADNcppvVtpdYUpkAptvsw /D+p2rf39sc6jIcskBkEai+XtQkf5Z1jMPlYy0Dru07bRVpbM+tn0MZdPqmhaO2Pde0CBg1RD0c yF4PIJy4/ts7xFFh2fNWp9gvaKq1ZexjsEwK0J37xwe4Pm5hUPNKEeb1dPchIdsz/315V7U/5+C v6g1dzbWA4xWw+rP4RMtZaGFRghlrpSbn91eMjPrVbtQgZK41wCG9RUh5TV6qxq4PPm07OzUDcv H7ntvjAoT0GB95/fo4hJurf7u1Po/5yk= X-Google-Smtp-Source: AGHT+IG52w6FjkwuI/SAU5HQ73D/SslRF0nfPx5LdVPMgsScbA1j/pNd7A3NZUDDQVYKrJgTeZxiE81Hhgte X-Received: by 2002:a05:6a21:339f:b0:32d:b741:a201 with SMTP id adf61e73a8af0-3477c9d1fb1mr5442976637.20.1761861573423; Thu, 30 Oct 2025 14:59:33 -0700 (PDT) Received: from postal.iol.unh.edu (postal.iol.unh.edu. [132.177.123.84]) by smtp-relay.gmail.com with ESMTPS id 41be03b00d2f7-b71288855dasm1109026a12.5.2025.10.30.14.59.33 (version=TLS1_2 cipher=ECDHE-ECDSA-AES128-GCM-SHA256 bits=128/128); Thu, 30 Oct 2025 14:59:33 -0700 (PDT) X-Relaying-Domain: iol.unh.edu Date: Thu, 30 Oct 2025 14:59:33 -0700 (PDT) Message-ID: <6903dfc5.630a0220.25e590.4d88SMTPIN_ADDED_MISSING@mx.google.com> Received: from [172.21.0.2] (unknown [172.18.0.240]) by postal.iol.unh.edu (Postfix) with ESMTP id B872F6051830; Thu, 30 Oct 2025 17:59:32 -0400 (EDT) Subject: |SUCCESS| pw158305-158306 [PATCH] [2/2] test/hash: reduce time of fu From: dpdklab@iol.unh.edu To: Test Report Cc: dpdk-test-reports@iol.unh.edu In-Reply-To: <20251030175329.4041960-3-thomas@monjalon.net> References: <20251030175329.4041960-3-thomas@monjalon.net> Content-Type: text/plain X-BeenThere: test-report@dpdk.org X-Mailman-Version: 2.1.29 Precedence: list List-Id: automatic DPDK test reports List-Unsubscribe: , List-Archive: List-Post: List-Help: List-Subscribe: , Errors-To: test-report-bounces@dpdk.org Test-Label: iol-compile-arm64-testing Test-Status: SUCCESS http://dpdk.org/patch/158306 _Testing PASS_ Submitter: Thomas Monjalon Date: Thursday, October 30 2025 17:50:12 DPDK git baseline: Repo:dpdk Branch: master CommitID:39b54f2dcf44ad1f91eabc7080cd5dea763607fd 158305-158306 --> testing pass Upstream job id: Generic-DPDK-Compile-Meson#439412 Test environment and result as below: +------------------------------+--------------------+ | Environment | dpdk_meson_compile | +==============================+====================+ | Red Hat Enterprise Linux 9.5 | PASS | +------------------------------+--------------------+ | Ubuntu 20.04 | PASS | +------------------------------+--------------------+ | Debian GNU/Linux 12 | PASS | +------------------------------+--------------------+ | Fedora Linux 42 | PASS | +------------------------------+--------------------+ | Ubuntu 24.04 | PASS | +------------------------------+--------------------+ | CentOS Stream 9 | PASS | +------------------------------+--------------------+ | CentOS Stream 10 | PASS | +------------------------------+--------------------+ | Ubuntu 22.04 | PASS | +------------------------------+--------------------+ Red Hat Enterprise Linux 9.5 Kernel: 5.4 Compiler: gcc gcc (GCC) 11.5.0 20240719 (Red Hat 11.5.0-2) Ubuntu 20.04 Kernel: 5.15 Compiler: aarch64-linux-gnu-gcc gcc (Ubuntu 9.4.0-1ubuntu1~20.04.2) 9.4.0 Debian GNU/Linux 12 Kernel: 5.4 Compiler: gcc gcc (Debian 12.2.0-14+deb12u1) 12.2.0 Fedora Linux 42 Kernel: 5.4 Compiler: gcc gcc (GCC) 15.2.1 20250808 (Red Hat 15.2.1-1) Ubuntu 24.04 Kernel: 5.4 Compiler: gcc gcc (Ubuntu 13.3.0-6ubuntu2~24.04) 13.3.0 CentOS Stream 9 Kernel: 5.4 Compiler: gcc gcc (GCC) 11.5.0 20240719 (Red Hat 11.5.0-11) CentOS Stream 10 Kernel: 5.4 Compiler: gcc gcc (GCC) 14.2.1 20250110 (Red Hat 14.2.1-8) Ubuntu 22.04 Kernel: 5.4 Compiler: gcc gcc (Ubuntu 11.4.0-1ubuntu1~22.04) 11.4.0 To view detailed results, visit: https://lab.dpdk.org/results/dashboard/patchsets/34426/ UNH-IOL DPDK Community Lab To manage your email subscriptions, visit: https://lab.dpdk.org/results/dashboard/preferences/subscriptions/