From mboxrd@z Thu Jan 1 00:00:00 1970 Return-Path: Received: from mails.dpdk.org (mails.dpdk.org [217.70.189.124]) by inbox.dpdk.org (Postfix) with ESMTP id 4881348A1A for ; Thu, 30 Oct 2025 23:21:32 +0100 (CET) Received: from mails.dpdk.org (localhost [127.0.0.1]) by mails.dpdk.org (Postfix) with ESMTP id 2BBA34026F; Thu, 30 Oct 2025 23:21:32 +0100 (CET) Received: from mail-oa1-f100.google.com (mail-oa1-f100.google.com [209.85.160.100]) by mails.dpdk.org (Postfix) with ESMTP id A615E4026F for ; Thu, 30 Oct 2025 23:21:31 +0100 (CET) Received: by mail-oa1-f100.google.com with SMTP id 586e51a60fabf-3d3116a5a26so1165244fac.3 for ; Thu, 30 Oct 2025 15:21:31 -0700 (PDT) DKIM-Signature: v=1; a=rsa-sha256; c=relaxed/relaxed; d=iol.unh.edu; s=unh-iol; t=1761862891; x=1762467691; darn=dpdk.org; h=references:in-reply-to:cc:to:from:subject:message-id:date:from:to :cc:subject:date:message-id:reply-to; bh=eSwYePf5KFc7Vvf1KVRpkbVMXNcLdgKwbBW2k03kkjI=; b=V1IOJmsskeSjHK9LELHP5vmcDP4Tqdk13t+X0vSM8dHdK3uPsfKgsm0k2XO3Q+HIZI 0NkxPIfzBER+f5eENWIyDpWfNkwI0gId5E9JGxPsW4M52LhDKwCWTRXAxoiVAQ0UVZ5a ewFsRBym+EsQTlJzdlKSzLo7rn4GwmDwv7Ouo= X-Google-DKIM-Signature: v=1; a=rsa-sha256; c=relaxed/relaxed; d=1e100.net; s=20230601; t=1761862891; x=1762467691; h=references:in-reply-to:cc:to:from:subject:message-id:date :x-gm-message-state:from:to:cc:subject:date:message-id:reply-to; bh=eSwYePf5KFc7Vvf1KVRpkbVMXNcLdgKwbBW2k03kkjI=; b=kwuH4DU4cb4NucRLU02eABQ/G2YWypmP2vfFurNPBgl3sB8rwUJ+84yFuOUBN2nlj7 gYrwSQpj2t5vhxtPrdoPtbnjnqkMcPZujc0qSM1zz79Cbb5x/lGsTjyRRoLmouGy6RnS l5GdTg9bVlFo7I/BKJjkXCEm/hVe/cEIVJOZwk1e/MEytOPxThAApWAZ5f++t/21q3P6 yuF17xqdfgvQ1VQ2ldda2dBTKmRvCz6AfCv3aA1jR6nF/ohuKVBrBgs6j5W5UryGGd3C 0qPFGZQ3kOUEQG0k9WvUyJyEXE1mOjGYnxuO1yyCq5APMGaopgDUKhW2IOW/iBEEFoSV vHkA== X-Gm-Message-State: AOJu0YwWZWoOqKOCtCsCoOYKVi3bEOmJSlHSGacOcgHZEobiU0k68BFa /tu5K/t0fOOiQ7HEHM0iJJp49/KU7fz/qboGIZGHRl0z6wHVK1uH7W43lywfaxtVY117cXRHpD6 Z0SFW2ajZsuAjNxFkeEAw0KUgw4jzSeobeytzawhhbDJk X-Gm-Gg: ASbGncuitxkDfD0/VZNKUCEU1WGd9BNEtnZJOU41y99qiAvE+BWVmFwZlZYaarZ6BLH ps2FFszhHYOW24pKRUMjhjkZKPxU46R9DVnm7hJEA0+x6VSq6/Uku6CeDnk0zQia19d7sG2ZQ1Y +oRYHn3IuL4JHpYRWSX8veaEV1a4Jz3f78a1E5vEWPG3abJpLUNBeMN7Qp5M2/jWw0OTB7HN1KG MX2QkXiaY++xQnW4Z7F24qKz1zbtWs7BmDHEmiM+r/GMVbeCKJFcbL2QvUzLPGYuv89Ppr/4lBj IiSqJS2ek73/OGeNakZenIlWY4ddvnCgdiMWVtd+K/ifNWZcHrjsVVUCcVZFquD20UvAO2CSQXo 1+p9o/TdAiOn3gBbYCBXm8OrpNQj0COU= X-Google-Smtp-Source: AGHT+IGDRcsp0mc0fg5UCQfA5N5lqkC5txHF5zUAHVzcPoftNqZTFc8zVYjmP619rfiwb1Iu3HdNFP5n7VP3 X-Received: by 2002:a05:6870:3207:b0:347:4622:7416 with SMTP id 586e51a60fabf-3dacccf5964mr731755fac.44.1761862890781; Thu, 30 Oct 2025 15:21:30 -0700 (PDT) Received: from postal.iol.unh.edu (postal.iol.unh.edu. [132.177.123.84]) by smtp-relay.gmail.com with ESMTPS id 586e51a60fabf-3d1e2e2a07asm1591906fac.9.2025.10.30.15.21.30 (version=TLS1_2 cipher=ECDHE-ECDSA-AES128-GCM-SHA256 bits=128/128); Thu, 30 Oct 2025 15:21:30 -0700 (PDT) X-Relaying-Domain: iol.unh.edu Date: Thu, 30 Oct 2025 15:21:30 -0700 (PDT) Message-ID: <6903e4ea.050a0220.14e355.bda2SMTPIN_ADDED_MISSING@mx.google.com> Received: from [172.21.0.2] (unknown [172.18.0.240]) by postal.iol.unh.edu (Postfix) with ESMTP id E78EA60003E7; Thu, 30 Oct 2025 18:21:29 -0400 (EDT) Subject: |SUCCESS| pw158284 [PATCH] [RFC] ethdev: fix UAF in rte_eth_tx_burst From: dpdklab@iol.unh.edu To: Test Report Cc: dpdk-test-reports@iol.unh.edu, Stephen Hemminger In-Reply-To: <20251029235400.1486861-1-stephen@networkplumber.org> References: <20251029235400.1486861-1-stephen@networkplumber.org> Content-Type: text/plain X-BeenThere: test-report@dpdk.org X-Mailman-Version: 2.1.29 Precedence: list List-Id: automatic DPDK test reports List-Unsubscribe: , List-Archive: List-Post: List-Help: List-Subscribe: , Errors-To: test-report-bounces@dpdk.org Test-Label: iol-unit-arm64-testing Test-Status: SUCCESS http://dpdk.org/patch/158284 _Testing PASS_ Submitter: Stephen Hemminger Date: Wednesday, October 29 2025 23:54:00 DPDK git baseline: Repo:dpdk-next-net Branch: master CommitID:33145656260ac9a87590daab3d6f57aa9e579247 158284 --> testing pass Upstream job id: Generic-Unit-Test-DPDK#386884 Test environment and result as below: +------------------------------+--------------+---------------------------+------------------------------+----------------+ | Environment | lpm_autotest | cryptodev_sw_zuc_autotest | cryptodev_sw_snow3g_autotest | dpdk_unit_test | +==============================+==============+===========================+==============================+================+ | Ubuntu 20.04 | PASS | SKIPPED | SKIPPED | PASS | +------------------------------+--------------+---------------------------+------------------------------+----------------+ | Debian 12 (arm) | SKIPPED | PASS | PASS | SKIPPED | +------------------------------+--------------+---------------------------+------------------------------+----------------+ | Debian GNU/Linux 12 | SKIPPED | SKIPPED | SKIPPED | PASS | +------------------------------+--------------+---------------------------+------------------------------+----------------+ | CentOS Stream 9 | SKIPPED | SKIPPED | SKIPPED | PASS | +------------------------------+--------------+---------------------------+------------------------------+----------------+ | Fedora Linux 40 | SKIPPED | SKIPPED | SKIPPED | PASS | +------------------------------+--------------+---------------------------+------------------------------+----------------+ | CentOS Stream 10 | SKIPPED | SKIPPED | SKIPPED | PASS | +------------------------------+--------------+---------------------------+------------------------------+----------------+ | Fedora Linux 41 | SKIPPED | SKIPPED | SKIPPED | PASS | +------------------------------+--------------+---------------------------+------------------------------+----------------+ | Fedora Linux 42 | SKIPPED | SKIPPED | SKIPPED | PASS | +------------------------------+--------------+---------------------------+------------------------------+----------------+ | Red Hat Enterprise Linux 9.5 | SKIPPED | SKIPPED | SKIPPED | PASS | +------------------------------+--------------+---------------------------+------------------------------+----------------+ | Ubuntu 22.04 | SKIPPED | SKIPPED | SKIPPED | PASS | +------------------------------+--------------+---------------------------+------------------------------+----------------+ | Ubuntu 24.04 | SKIPPED | SKIPPED | SKIPPED | PASS | +------------------------------+--------------+---------------------------+------------------------------+----------------+ Ubuntu 20.04 Kernel: 5.4 Compiler: gcc gcc (Ubuntu 9.4.0-1ubuntu1~20.04.2) 9.4.0 Debian 12 (arm) Kernel: Depends on container host Compiler: gcc (Debian 12.2.0-14) 12.2.0 Debian GNU/Linux 12 Kernel: 5.4 Compiler: gcc gcc (Debian 12.2.0-14+deb12u1) 12.2.0 CentOS Stream 9 Kernel: 5.4 Compiler: gcc gcc (GCC) 11.5.0 20240719 (Red Hat 11.5.0-11) Fedora Linux 40 Kernel: 5.4 Compiler: clang gcc (GCC) 14.2.1 20240912 (Red Hat 14.2.1-3) CentOS Stream 10 Kernel: 5.4 Compiler: gcc gcc (GCC) 14.2.1 20250110 (Red Hat 14.2.1-8) Fedora Linux 41 Kernel: 5.4 Compiler: gcc gcc (GCC) 14.3.1 20250523 (Red Hat 14.3.1-1) Fedora Linux 42 Kernel: 5.4 Compiler: gcc gcc (GCC) 15.2.1 20250808 (Red Hat 15.2.1-1) Red Hat Enterprise Linux 9.5 Kernel: 5.4 Compiler: gcc gcc (GCC) 11.5.0 20240719 (Red Hat 11.5.0-2) Ubuntu 22.04 Kernel: 5.4 Compiler: gcc gcc (Ubuntu 11.4.0-1ubuntu1~22.04) 11.4.0 Ubuntu 24.04 Kernel: 5.4 Compiler: gcc gcc (Ubuntu 13.3.0-6ubuntu2~24.04) 13.3.0 To view detailed results, visit: https://lab.dpdk.org/results/dashboard/patchsets/34421/ UNH-IOL DPDK Community Lab To manage your email subscriptions, visit: https://lab.dpdk.org/results/dashboard/preferences/subscriptions/