From mboxrd@z Thu Jan 1 00:00:00 1970 Return-Path: Received: from mails.dpdk.org (mails.dpdk.org [217.70.189.124]) by inbox.dpdk.org (Postfix) with ESMTP id 6BEF448A19 for ; Thu, 30 Oct 2025 23:58:57 +0100 (CET) Received: from mails.dpdk.org (localhost [127.0.0.1]) by mails.dpdk.org (Postfix) with ESMTP id 4E0014026F; Thu, 30 Oct 2025 23:58:57 +0100 (CET) Received: from mail-pf1-f227.google.com (mail-pf1-f227.google.com [209.85.210.227]) by mails.dpdk.org (Postfix) with ESMTP id A3C2A4026F for ; Thu, 30 Oct 2025 23:58:56 +0100 (CET) Received: by mail-pf1-f227.google.com with SMTP id d2e1a72fcca58-7a4176547bfso1599967b3a.2 for ; Thu, 30 Oct 2025 15:58:56 -0700 (PDT) DKIM-Signature: v=1; a=rsa-sha256; c=relaxed/relaxed; d=iol.unh.edu; s=unh-iol; t=1761865136; x=1762469936; darn=dpdk.org; h=references:in-reply-to:cc:to:from:subject:message-id:date:from:to :cc:subject:date:message-id:reply-to; bh=PSig2kJX+CVnjatZQaaXrxrLZG/5wEp2WlXOP/dbWD4=; b=XdANfXI1atNznVhvkdKRhoZjEvXSY6rm+Z8hgkcszjQALNUb1v7Kq9en+180oQAq4P YfgqCUf7k8JEgg96hhvyPIBR6qSGrZJrK77tIgDptT8SDRnLaZzf9NH4j7AIkVnn1l6T lKG4SJPB4QxwIFWjfjjdVDAbRbHQN8modRrWg= X-Google-DKIM-Signature: v=1; a=rsa-sha256; c=relaxed/relaxed; d=1e100.net; s=20230601; t=1761865136; x=1762469936; h=references:in-reply-to:cc:to:from:subject:message-id:date :x-gm-message-state:from:to:cc:subject:date:message-id:reply-to; bh=PSig2kJX+CVnjatZQaaXrxrLZG/5wEp2WlXOP/dbWD4=; b=uYWzvHGHWxUOYOYgoQ/csQPKpTs5I6RvGRxA5jgkGw727yXoXKm0DoMOWpO1TsbfQb lSto26yQCXCLIHvfOjaMz8WesvvR5xDHqB5N59hdSluQy7i87VK1oSt9PS2ndIV4IlvS aZQ9neOKuSKnITQ6f9WMMmfSf/wLvXHwvBRunKtVSH3bi+NP/dRHk8EJaWzk8Ffkn6OW DiQZnuF4vYpZS3yPdtNxX3GmoKmgvNU/mXEzrXvvWHaA15TYrXfPoWu40UPyRjUgwb7s iOgTiuRshPCpobVwig+iWlL04Hu+PYPS9cx+p7DZku9VQl6q8s2/lMg/N+HJz35qqI/6 ed3A== X-Gm-Message-State: AOJu0YyuvogKtGkxGU4zREgLMMm3rSCmDq9E5lvgk2xTccskFno8G+dR e3fJ7Jifzvc0AMTjP76ZMMDH1Q0u3pEkDI3IRYAoqGWQSbhDx7Xq1dFvr8OiFyNZQtDaShfQVon qMNpU+vC18b/QKFqK3ltWkHDrbuo5pSoVQlPKdC8wsKAI X-Gm-Gg: ASbGncu1+6GZ4V4q/i46tZb653k7p7+3N1bewNAK5a/KFM7vfC1MpzfeaolBXc8V3Uk 7Mq9rdNf3HK/bjnUigfvZVN58N3zT+IV2hf44byYZJfkdniWUO70Skg29L3I0IAV6JxUpv5v4rE WxP/KPKw/Vnv8D897giJp2LcGvXBLxAFWneBb6VDrl+NJv5ANAk4M0Tfkn0MtcqBxD6WvTk3HEb 4WeVP+kj8w285FFFbtmql47f6Zkzlp8DycCIIn+cON/OSckb2trWZG8ctA/1a6NlmxaHQhgWQzF jjTOWARJH5Mm89LPRY3oj2wlDxfB/PeoJxjw9+Hc0D1wgyl99rZZ++4Mabuop0Z6c2gl6B1ReqT rFDHAO2SQYCjCIB2RlXZvpye/GrlgyZI= X-Google-Smtp-Source: AGHT+IGjKdvgpI8l1GGEK4d+xFKSsKfHSR+zM4qj5WN2h34lBF18Q2hspEngGTvSsNHz4KdNc7ZpwisFnrVL X-Received: by 2002:a05:6a20:1595:b0:340:6a50:7e9d with SMTP id adf61e73a8af0-348cdb00e0emr2113170637.54.1761865135663; Thu, 30 Oct 2025 15:58:55 -0700 (PDT) Received: from postal.iol.unh.edu (postal.iol.unh.edu. [132.177.123.84]) by smtp-relay.gmail.com with ESMTPS id d2e1a72fcca58-7a414069a49sm1320756b3a.2.2025.10.30.15.58.55 (version=TLS1_2 cipher=ECDHE-ECDSA-AES128-GCM-SHA256 bits=128/128); Thu, 30 Oct 2025 15:58:55 -0700 (PDT) X-Relaying-Domain: iol.unh.edu Date: Thu, 30 Oct 2025 15:58:55 -0700 (PDT) Message-ID: <6903edaf.050a0220.72a5a.f815SMTPIN_ADDED_MISSING@mx.google.com> Received: from [172.21.0.2] (unknown [172.18.0.240]) by postal.iol.unh.edu (Postfix) with ESMTP id CFF686051830; Thu, 30 Oct 2025 18:58:54 -0400 (EDT) Subject: |SUCCESS| pw158307-158309 [PATCH] [v4,4/4] net/tap: configure link c From: dpdklab@iol.unh.edu To: Test Report Cc: dpdk-test-reports@iol.unh.edu, Stephen Hemminger In-Reply-To: <20251030175537.219641-11-rjarry@redhat.com> References: <20251030175537.219641-11-rjarry@redhat.com> Content-Type: text/plain X-BeenThere: test-report@dpdk.org X-Mailman-Version: 2.1.29 Precedence: list List-Id: automatic DPDK test reports List-Unsubscribe: , List-Archive: List-Post: List-Help: List-Subscribe: , Errors-To: test-report-bounces@dpdk.org Test-Label: iol-compile-arm64-testing Test-Status: SUCCESS http://dpdk.org/patch/158309 _Testing PASS_ Submitter: Robin Jarry Date: Thursday, October 30 2025 17:55:43 DPDK git baseline: Repo:dpdk-next-net Branch: master CommitID:bd9b8a264598adb8e50c1e9e5fe97e75b6009db9 158307-158309 --> testing pass Upstream job id: Generic-DPDK-Compile-Meson#439392 Test environment and result as below: +------------------------------+--------------------+ | Environment | dpdk_meson_compile | +==============================+====================+ | Red Hat Enterprise Linux 9.5 | PASS | +------------------------------+--------------------+ | Ubuntu 20.04 | PASS | +------------------------------+--------------------+ | Debian GNU/Linux 12 | PASS | +------------------------------+--------------------+ | Fedora Linux 42 | PASS | +------------------------------+--------------------+ | Ubuntu 22.04 | PASS | +------------------------------+--------------------+ | Ubuntu 24.04 | PASS | +------------------------------+--------------------+ | CentOS Stream 10 | PASS | +------------------------------+--------------------+ | CentOS Stream 9 | PASS | +------------------------------+--------------------+ Red Hat Enterprise Linux 9.5 Kernel: 5.4 Compiler: gcc gcc (GCC) 11.5.0 20240719 (Red Hat 11.5.0-2) Ubuntu 20.04 Kernel: 5.15 Compiler: aarch64-linux-gnu-gcc gcc (Ubuntu 9.4.0-1ubuntu1~20.04.2) 9.4.0 Debian GNU/Linux 12 Kernel: 5.4 Compiler: gcc gcc (Debian 12.2.0-14+deb12u1) 12.2.0 Fedora Linux 42 Kernel: 5.4 Compiler: gcc gcc (GCC) 15.2.1 20250808 (Red Hat 15.2.1-1) Ubuntu 22.04 Kernel: 5.4 Compiler: gcc gcc (Ubuntu 11.4.0-1ubuntu1~22.04) 11.4.0 Ubuntu 24.04 Kernel: 5.4 Compiler: gcc gcc (Ubuntu 13.3.0-6ubuntu2~24.04) 13.3.0 CentOS Stream 10 Kernel: 5.4 Compiler: gcc gcc (GCC) 14.2.1 20250110 (Red Hat 14.2.1-8) CentOS Stream 9 Kernel: 5.4 Compiler: gcc gcc (GCC) 11.5.0 20240719 (Red Hat 11.5.0-11) To view detailed results, visit: https://lab.dpdk.org/results/dashboard/patchsets/34425/ UNH-IOL DPDK Community Lab To manage your email subscriptions, visit: https://lab.dpdk.org/results/dashboard/preferences/subscriptions/