From: dpdklab@iol.unh.edu
To: Test Report <test-report@dpdk.org>
Cc: dpdk-test-reports@iol.unh.edu,
	Stephen Hemminger <stephen@networkplumber.org>
Subject: |SUCCESS| pw158285 [PATCH] [v1,1/1] net/nbl: fix issues reported by
Date: Thu, 30 Oct 2025 16:23:15 -0700 (PDT)	[thread overview]
Message-ID: <6903f363.c80a0220.94ff1.0aafSMTPIN_ADDED_MISSING@mx.google.com> (raw)
In-Reply-To: <20251030033619.3386064-2-dimon.zhao@nebula-matrix.com>
Test-Label: iol-unit-arm64-testing
Test-Status: SUCCESS
http://dpdk.org/patch/158285
_Testing PASS_
Submitter: Dimon Zhao <dimon.zhao@nebula-matrix.com>
Date: Thursday, October 30 2025 03:36:19 
DPDK git baseline: Repo:dpdk-next-net
  Branch: master
  CommitID:33145656260ac9a87590daab3d6f57aa9e579247
158285 --> testing pass
Upstream job id: Generic-Unit-Test-DPDK#386907
Test environment and result as below:
+------------------------------+----------------+--------------+---------------------------+------------------------------+
|         Environment          | dpdk_unit_test | lpm_autotest | cryptodev_sw_zuc_autotest | cryptodev_sw_snow3g_autotest |
+==============================+================+==============+===========================+==============================+
| CentOS Stream 10             | PASS           | SKIPPED      | SKIPPED                   | SKIPPED                      |
+------------------------------+----------------+--------------+---------------------------+------------------------------+
| CentOS Stream 9              | PASS           | SKIPPED      | SKIPPED                   | SKIPPED                      |
+------------------------------+----------------+--------------+---------------------------+------------------------------+
| Fedora Linux 40              | PASS           | SKIPPED      | SKIPPED                   | SKIPPED                      |
+------------------------------+----------------+--------------+---------------------------+------------------------------+
| Debian GNU/Linux 12          | PASS           | SKIPPED      | SKIPPED                   | SKIPPED                      |
+------------------------------+----------------+--------------+---------------------------+------------------------------+
| Fedora Linux 41              | PASS           | SKIPPED      | SKIPPED                   | SKIPPED                      |
+------------------------------+----------------+--------------+---------------------------+------------------------------+
| Fedora Linux 42              | PASS           | SKIPPED      | SKIPPED                   | SKIPPED                      |
+------------------------------+----------------+--------------+---------------------------+------------------------------+
| Ubuntu 22.04                 | PASS           | SKIPPED      | SKIPPED                   | SKIPPED                      |
+------------------------------+----------------+--------------+---------------------------+------------------------------+
| Ubuntu 20.04                 | PASS           | PASS         | SKIPPED                   | SKIPPED                      |
+------------------------------+----------------+--------------+---------------------------+------------------------------+
| Ubuntu 24.04                 | PASS           | SKIPPED      | SKIPPED                   | SKIPPED                      |
+------------------------------+----------------+--------------+---------------------------+------------------------------+
| Red Hat Enterprise Linux 9.5 | PASS           | SKIPPED      | SKIPPED                   | SKIPPED                      |
+------------------------------+----------------+--------------+---------------------------+------------------------------+
| Debian 12 (arm)              | SKIPPED        | SKIPPED      | PASS                      | PASS                         |
+------------------------------+----------------+--------------+---------------------------+------------------------------+
CentOS Stream 10
	Kernel: 5.4
	Compiler: gcc gcc (GCC) 14.2.1 20250110 (Red Hat 14.2.1-8)
CentOS Stream 9
	Kernel: 5.4
	Compiler: gcc gcc (GCC) 11.5.0 20240719 (Red Hat 11.5.0-11)
Fedora Linux 40
	Kernel: 5.4
	Compiler: gcc gcc (GCC) 14.2.1 20240912 (Red Hat 14.2.1-3)
Debian GNU/Linux 12
	Kernel: 5.4
	Compiler: gcc gcc (Debian 12.2.0-14+deb12u1) 12.2.0
Fedora Linux 41
	Kernel: 5.4
	Compiler: clang gcc (GCC) 14.3.1 20250523 (Red Hat 14.3.1-1)
Fedora Linux 42
	Kernel: 5.4
	Compiler: gcc gcc (GCC) 15.2.1 20250808 (Red Hat 15.2.1-1)
Ubuntu 22.04
	Kernel: 5.15
	Compiler: gcc gcc (Ubuntu 11.4.0-1ubuntu1~22.04.2) 11.4.0
Ubuntu 20.04
	Kernel: 5.4
	Compiler: gcc gcc (Ubuntu 9.4.0-1ubuntu1~20.04.2) 9.4.0
Ubuntu 24.04
	Kernel: 5.4
	Compiler: gcc gcc (Ubuntu 13.3.0-6ubuntu2~24.04) 13.3.0
Red Hat Enterprise Linux 9.5
	Kernel: 5.4
	Compiler: gcc gcc (GCC) 11.5.0 20240719 (Red Hat 11.5.0-2)
Debian 12 (arm)
	Kernel: Depends on container host
	Compiler: gcc (Debian 12.2.0-14) 12.2.0
To view detailed results, visit:
https://lab.dpdk.org/results/dashboard/patchsets/34422/
UNH-IOL DPDK Community Lab
To manage your email subscriptions, visit: 
https://lab.dpdk.org/results/dashboard/preferences/subscriptions/
next prev parent reply	other threads:[~2025-10-30 23:23 UTC|newest]
Thread overview: 24+ messages / expand[flat|nested]  mbox.gz  Atom feed  top
     [not found] <20251030033619.3386064-2-dimon.zhao@nebula-matrix.com>
2025-10-30  3:01 ` |SUCCESS| pw158285 [PATCH v1 1/1] net/nbl: fix issues reported by Coverity qemudev
2025-10-30  3:06 ` qemudev
2025-10-30  3:36 ` checkpatch
2025-10-30  4:01 ` |PENDING| pw158285 [PATCH] [v1,1/1] net/nbl: fix issues reported by dpdklab
2025-10-30  4:04 ` |SUCCESS| " dpdklab
2025-10-30  4:13 ` dpdklab
2025-10-30  4:14 ` |PENDING| " dpdklab
2025-10-30  4:14 ` dpdklab
2025-10-30  4:20 ` dpdklab
2025-10-30  4:21 ` |SUCCESS| " dpdklab
2025-10-30  4:24 ` dpdklab
2025-10-30  4:26 ` dpdklab
2025-10-30  4:53 ` dpdklab
2025-10-30  4:58 ` |SUCCESS| pw158285 [PATCH v1 1/1] net/nbl: fix issues reported by Coverity 0-day Robot
2025-10-30  4:58 ` 0-day Robot
2025-10-30  5:00 ` |SUCCESS| pw158285 [PATCH] [v1,1/1] net/nbl: fix issues reported by dpdklab
2025-10-30  5:05 ` dpdklab
2025-10-30  5:42 ` |WARNING| " dpdklab
2025-10-30  5:45 ` dpdklab
2025-10-30  6:00 ` |SUCCESS| " dpdklab
2025-10-30  7:52 ` dpdklab
2025-10-30 23:23 ` dpdklab [this message]
2025-10-31  4:54 ` dpdklab
2025-10-31  5:07 ` dpdklab
Reply instructions:
You may reply publicly to this message via plain-text email
using any one of the following methods:
* Save the following mbox file, import it into your mail client,
  and reply-to-all from there: mbox
  Avoid top-posting and favor interleaved quoting:
  https://en.wikipedia.org/wiki/Posting_style#Interleaved_style
* Reply using the --to, --cc, and --in-reply-to
  switches of git-send-email(1):
  git send-email \
    --in-reply-to=6903f363.c80a0220.94ff1.0aafSMTPIN_ADDED_MISSING@mx.google.com \
    --to=dpdklab@iol.unh.edu \
    --cc=dpdk-test-reports@iol.unh.edu \
    --cc=stephen@networkplumber.org \
    --cc=test-report@dpdk.org \
    /path/to/YOUR_REPLY
  https://kernel.org/pub/software/scm/git/docs/git-send-email.html
* If your mail client supports setting the In-Reply-To header
  via mailto: links, try the mailto: link
  Be sure your reply has a Subject: header at the top and a blank line
  before the message body.
This is a public inbox, see mirroring instructions
for how to clone and mirror all data and code used for this inbox;
as well as URLs for NNTP newsgroup(s).