From mboxrd@z Thu Jan 1 00:00:00 1970 Return-Path: Received: from mails.dpdk.org (mails.dpdk.org [217.70.189.124]) by inbox.dpdk.org (Postfix) with ESMTP id 7462948A1D for ; Fri, 31 Oct 2025 00:23:17 +0100 (CET) Received: from mails.dpdk.org (localhost [127.0.0.1]) by mails.dpdk.org (Postfix) with ESMTP id 6F1814026F; Fri, 31 Oct 2025 00:23:17 +0100 (CET) Received: from mail-qt1-f228.google.com (mail-qt1-f228.google.com [209.85.160.228]) by mails.dpdk.org (Postfix) with ESMTP id 004294026F for ; Fri, 31 Oct 2025 00:23:15 +0100 (CET) Received: by mail-qt1-f228.google.com with SMTP id d75a77b69052e-4ecefc585d0so10749651cf.1 for ; Thu, 30 Oct 2025 16:23:15 -0700 (PDT) DKIM-Signature: v=1; a=rsa-sha256; c=relaxed/relaxed; d=iol.unh.edu; s=unh-iol; t=1761866595; x=1762471395; darn=dpdk.org; h=references:in-reply-to:cc:to:from:subject:message-id:date:from:to :cc:subject:date:message-id:reply-to; bh=2SuMc0MyExZwiXbK0lBFOCBIBCnyF6QOfOI0m5Esx/w=; b=WjvrL5OXe4Ddcg5MQ83pers2KgMbeyLPMghh4fzXWgxzgRWSvn9rO00k8U8/MiQ5X+ Ppc+hmR/leNCm7GsHNezq3bVp3OpYX350Ee/eMzbVrzSEkV9WF3CiiWQDmSnBy0ORnbF NEqrL8CDXdarPqN0l+gMfOBaS/911jVnGk9ow= X-Google-DKIM-Signature: v=1; a=rsa-sha256; c=relaxed/relaxed; d=1e100.net; s=20230601; t=1761866595; x=1762471395; h=references:in-reply-to:cc:to:from:subject:message-id:date :x-gm-message-state:from:to:cc:subject:date:message-id:reply-to; bh=2SuMc0MyExZwiXbK0lBFOCBIBCnyF6QOfOI0m5Esx/w=; b=W6tVQ2ECfuacyzjzZMERDFQneyrst4O3Uq6KAN3JcpYTYI21aVwzkPUnTZ8z5Baiq9 EAKBvpmK4ow3yG3Ry/yy2ITmwy6KU4pA3DJc7nAEAXj7de3mbSDwSgyXs/lGHQuyUgwH eyyer77U6zHjW9j6yz3Qva8Vdl1PYARSKrKG/nJ3ixOJf1+c/yX9k2M0GHhmlhRHyrRG oII2In5+stK7QttwQGkgAaV7CcRTJFs8udyAJAP3N7MzwVnbawaSK/udPEJtQifmpwhH vxIpgq+wBpV4tiHsmz00e12lp5rKkba1YlusaXyi1UtuxJVg5L0r3tX0uORu5mLTYxRY b3AQ== X-Gm-Message-State: AOJu0Yx2bRkKLqndjgeYMs8UlPNAMCj4n0ExMKekS5CuEMiS6XcjVATm 7QUsASV71jZGBh7XPVMD4UZEHnGRBAgD+0aJiUJZD+fqW98oMSahXrkpTwmssvOIB1K5/LHcYTr 5Xd+1XIFKckF5FdOZc/cy2lXWtasD+zURQkOJau/BARg3 X-Gm-Gg: ASbGnct87rxAQb0e0TW7ab6a2/gbbmMi5d2C1zc7wWD4WZTkVqWdpCMZLNS8amQX2+W H6v1SaE8l5PWVmdb6I5bFuJrDKqMxIix7+2OsUmVmX8PXVMRbxj4GVpg5wkNFZZooQbBsTM/aFk rUSZFLlMz6l6+pKQkXWx6tVrOOdWbVdp7vykyRIis2jEOJA9CEaOvODogvp4HZ5gRI6wjIw/oFU CBccACdmsboYDBRDxppf5rdQhrr0CZsq4VZ4nhWN8HYO+m/2HVzVtVzp+xoBSkFO5Pf+WKRy8PJ IAXKdDTsxZ4HsJoWUG2oW9JWZVitHAHbvIi8jk5AxcqPX8DjVYK8X2QlWNuoi9aKl65YdW21kX0 U6eYWLgJF+6a79G6XMe7Qr/saEPhLir0= X-Google-Smtp-Source: AGHT+IFaeqUy7Tgf8XqPy6xzAu0rsdp01p6HaEwmRDmtVk7DGh4LPTgluFZUlB3mjNRHLXFVHfKTK6wFvYTc X-Received: by 2002:a05:622a:a:b0:4ec:fb8e:a44e with SMTP id d75a77b69052e-4ed3001f78emr18883491cf.0.1761866595319; Thu, 30 Oct 2025 16:23:15 -0700 (PDT) Received: from postal.iol.unh.edu (postal.iol.unh.edu. [132.177.123.84]) by smtp-relay.gmail.com with ESMTPS id d75a77b69052e-4ed352a40aasm112141cf.10.2025.10.30.16.23.15 (version=TLS1_2 cipher=ECDHE-ECDSA-AES128-GCM-SHA256 bits=128/128); Thu, 30 Oct 2025 16:23:15 -0700 (PDT) X-Relaying-Domain: iol.unh.edu Date: Thu, 30 Oct 2025 16:23:15 -0700 (PDT) Message-ID: <6903f363.c80a0220.94ff1.0aafSMTPIN_ADDED_MISSING@mx.google.com> Received: from [172.21.0.3] (unknown [172.18.0.240]) by postal.iol.unh.edu (Postfix) with ESMTP id C16CD6051830; Thu, 30 Oct 2025 19:23:14 -0400 (EDT) Subject: |SUCCESS| pw158285 [PATCH] [v1,1/1] net/nbl: fix issues reported by From: dpdklab@iol.unh.edu To: Test Report Cc: dpdk-test-reports@iol.unh.edu, Stephen Hemminger In-Reply-To: <20251030033619.3386064-2-dimon.zhao@nebula-matrix.com> References: <20251030033619.3386064-2-dimon.zhao@nebula-matrix.com> Content-Type: text/plain X-BeenThere: test-report@dpdk.org X-Mailman-Version: 2.1.29 Precedence: list List-Id: automatic DPDK test reports List-Unsubscribe: , List-Archive: List-Post: List-Help: List-Subscribe: , Errors-To: test-report-bounces@dpdk.org Test-Label: iol-unit-arm64-testing Test-Status: SUCCESS http://dpdk.org/patch/158285 _Testing PASS_ Submitter: Dimon Zhao Date: Thursday, October 30 2025 03:36:19 DPDK git baseline: Repo:dpdk-next-net Branch: master CommitID:33145656260ac9a87590daab3d6f57aa9e579247 158285 --> testing pass Upstream job id: Generic-Unit-Test-DPDK#386907 Test environment and result as below: +------------------------------+----------------+--------------+---------------------------+------------------------------+ | Environment | dpdk_unit_test | lpm_autotest | cryptodev_sw_zuc_autotest | cryptodev_sw_snow3g_autotest | +==============================+================+==============+===========================+==============================+ | CentOS Stream 10 | PASS | SKIPPED | SKIPPED | SKIPPED | +------------------------------+----------------+--------------+---------------------------+------------------------------+ | CentOS Stream 9 | PASS | SKIPPED | SKIPPED | SKIPPED | +------------------------------+----------------+--------------+---------------------------+------------------------------+ | Fedora Linux 40 | PASS | SKIPPED | SKIPPED | SKIPPED | +------------------------------+----------------+--------------+---------------------------+------------------------------+ | Debian GNU/Linux 12 | PASS | SKIPPED | SKIPPED | SKIPPED | +------------------------------+----------------+--------------+---------------------------+------------------------------+ | Fedora Linux 41 | PASS | SKIPPED | SKIPPED | SKIPPED | +------------------------------+----------------+--------------+---------------------------+------------------------------+ | Fedora Linux 42 | PASS | SKIPPED | SKIPPED | SKIPPED | +------------------------------+----------------+--------------+---------------------------+------------------------------+ | Ubuntu 22.04 | PASS | SKIPPED | SKIPPED | SKIPPED | +------------------------------+----------------+--------------+---------------------------+------------------------------+ | Ubuntu 20.04 | PASS | PASS | SKIPPED | SKIPPED | +------------------------------+----------------+--------------+---------------------------+------------------------------+ | Ubuntu 24.04 | PASS | SKIPPED | SKIPPED | SKIPPED | +------------------------------+----------------+--------------+---------------------------+------------------------------+ | Red Hat Enterprise Linux 9.5 | PASS | SKIPPED | SKIPPED | SKIPPED | +------------------------------+----------------+--------------+---------------------------+------------------------------+ | Debian 12 (arm) | SKIPPED | SKIPPED | PASS | PASS | +------------------------------+----------------+--------------+---------------------------+------------------------------+ CentOS Stream 10 Kernel: 5.4 Compiler: gcc gcc (GCC) 14.2.1 20250110 (Red Hat 14.2.1-8) CentOS Stream 9 Kernel: 5.4 Compiler: gcc gcc (GCC) 11.5.0 20240719 (Red Hat 11.5.0-11) Fedora Linux 40 Kernel: 5.4 Compiler: gcc gcc (GCC) 14.2.1 20240912 (Red Hat 14.2.1-3) Debian GNU/Linux 12 Kernel: 5.4 Compiler: gcc gcc (Debian 12.2.0-14+deb12u1) 12.2.0 Fedora Linux 41 Kernel: 5.4 Compiler: clang gcc (GCC) 14.3.1 20250523 (Red Hat 14.3.1-1) Fedora Linux 42 Kernel: 5.4 Compiler: gcc gcc (GCC) 15.2.1 20250808 (Red Hat 15.2.1-1) Ubuntu 22.04 Kernel: 5.15 Compiler: gcc gcc (Ubuntu 11.4.0-1ubuntu1~22.04.2) 11.4.0 Ubuntu 20.04 Kernel: 5.4 Compiler: gcc gcc (Ubuntu 9.4.0-1ubuntu1~20.04.2) 9.4.0 Ubuntu 24.04 Kernel: 5.4 Compiler: gcc gcc (Ubuntu 13.3.0-6ubuntu2~24.04) 13.3.0 Red Hat Enterprise Linux 9.5 Kernel: 5.4 Compiler: gcc gcc (GCC) 11.5.0 20240719 (Red Hat 11.5.0-2) Debian 12 (arm) Kernel: Depends on container host Compiler: gcc (Debian 12.2.0-14) 12.2.0 To view detailed results, visit: https://lab.dpdk.org/results/dashboard/patchsets/34422/ UNH-IOL DPDK Community Lab To manage your email subscriptions, visit: https://lab.dpdk.org/results/dashboard/preferences/subscriptions/