From mboxrd@z Thu Jan 1 00:00:00 1970 Return-Path: Received: from mails.dpdk.org (mails.dpdk.org [217.70.189.124]) by inbox.dpdk.org (Postfix) with ESMTP id 6788848A1D for ; Fri, 31 Oct 2025 03:56:22 +0100 (CET) Received: from mails.dpdk.org (localhost [127.0.0.1]) by mails.dpdk.org (Postfix) with ESMTP id 4C2004026F; Fri, 31 Oct 2025 03:56:22 +0100 (CET) Received: from mail-ot1-f98.google.com (mail-ot1-f98.google.com [209.85.210.98]) by mails.dpdk.org (Postfix) with ESMTP id B190E4026F for ; Fri, 31 Oct 2025 03:56:20 +0100 (CET) Received: by mail-ot1-f98.google.com with SMTP id 46e09a7af769-7c68c73b644so636436a34.1 for ; Thu, 30 Oct 2025 19:56:20 -0700 (PDT) DKIM-Signature: v=1; a=rsa-sha256; c=relaxed/relaxed; d=iol.unh.edu; s=unh-iol; t=1761879380; x=1762484180; darn=dpdk.org; h=references:in-reply-to:cc:to:from:subject:message-id:date:from:to :cc:subject:date:message-id:reply-to; bh=/Msz8VCBxKOMkFFJG2QsHQw1wgzacI3dKtSBIqbHWac=; b=UXOnTM/XrtLs+YNPs0zqd2DuuJP5aT+sh45/PLcx7EK6McQtwP9LcEKKOpgAK3FYyI YSltGCdLacDlw2YWf6pyvpTNh3NPd7kKxFEeadbeVDOLPO/Rv4xpXdmDeSf/xb+FMaQt tKaWDeuGwcIZZe30rs7Xc/n10SlseZRImI2RM= X-Google-DKIM-Signature: v=1; a=rsa-sha256; c=relaxed/relaxed; d=1e100.net; s=20230601; t=1761879380; x=1762484180; h=references:in-reply-to:cc:to:from:subject:message-id:date :x-gm-message-state:from:to:cc:subject:date:message-id:reply-to; bh=/Msz8VCBxKOMkFFJG2QsHQw1wgzacI3dKtSBIqbHWac=; b=DyoTRYaQjSYutMkox9+Afq6+Rm+PjgSYHkd14PoS0ckIHS6hwNKFS5L27PWtqDaFcz 3QNwDS4QQ42EZvf3G7pOHfnYnEDsx2nopJosDJXYXC7oSP2Dr6WwdEvEd+Bu2F9dz71R RAF+Acfk7o/8RH2qJ6/6uPbGS39Nhf2EHTm5HIiB0NVLoXfD+ZcjgvYU9aLs9ZJFHy30 dcs1SbuMP2dtAd1d/fh7WBVKcUtRp78YWLcUKv5nbRxjWRjH5se4L3dVmTfzi4OSEHsj 5SYcRHzcjR6taxPNK2EhqXgHjOmXhNo4U/al1wOIWeEmmFh3xx5vxFeWKSpQQOR6Zk13 tIaw== X-Gm-Message-State: AOJu0Yy9CwPQaoqHsk8IfkvMSD1eKWpWD1OoSGoXSty0ftr9YXTbDWKW r5+x3PoeiqQHvwoigQjd1s+gdq6u+xr8ipeV7QOoq7XiRwJdFX/nn0D57GpaE7wQ8T49O8K8GBB NyXQmzJU+TVOjnnJGQv8FS/vUK+T3gkm4dnuZOSGYjZXDaxGHk1cKMcasjzF1 X-Gm-Gg: ASbGncsdOzjZgU4S8yll4n1xU8hpvwTyDJ2Ncy2ozZKMKKzUnT46UXqfoimZtbrCrqX r6RTFu+BC72oymp5wjGqBlJ92d1bntgcrTkJmSFlAT5seb8y60qEzG99CLr1eSG1O8yWgYv/1Jz AuIuRDw1ud8OgXhivxFvxN/a1jHWJcsJbYLUm+LVPoRGczge8hmn+juh8TS+qMk6VX6gouCj7ox dx21TUJ+roCuAISALOjpkmWTItlhd3MSseAjbrQSAhQ/DSh6r5o5n2lFNGKzl8aNGyKMGm0BRh3 qLEU6UfwOzGoeOxHEm/Jue1Q7NQEHGqAilD0SG9sRMoaCNDWtrc4cI6JX88b9tcR+crP/OyT5sA +ZQ1r1xVV X-Google-Smtp-Source: AGHT+IHxlYe4ryyt7iamMLejSVDDh3Di87AjXNaxLkZFDgqyOg2hzFde38WRzabL0cNBc6e8o30lBHe5Vcjf X-Received: by 2002:a05:6830:438b:b0:758:85e2:99ce with SMTP id 46e09a7af769-7c69678eab5mr1342401a34.23.1761879379851; Thu, 30 Oct 2025 19:56:19 -0700 (PDT) Received: from postal.iol.unh.edu (postal.iol.unh.edu. [2606:4100:3880:1234::84]) by smtp-relay.gmail.com with ESMTPS id 46e09a7af769-7c699bbee0fsm51567a34.2.2025.10.30.19.56.19 (version=TLS1_2 cipher=ECDHE-ECDSA-AES128-GCM-SHA256 bits=128/128); Thu, 30 Oct 2025 19:56:19 -0700 (PDT) X-Relaying-Domain: iol.unh.edu Date: Thu, 30 Oct 2025 19:56:19 -0700 (PDT) Message-ID: <69042553.050a0220.f3047.2e5cSMTPIN_ADDED_MISSING@mx.google.com> Received: from [172.21.0.2] (unknown [172.18.0.240]) by postal.iol.unh.edu (Postfix) with ESMTP id 05E276051830; Thu, 30 Oct 2025 22:56:19 -0400 (EDT) Subject: |WARNING| pw158311 [PATCH] [v1,1/1] net/nbl: use hardware MAC addres From: dpdklab@iol.unh.edu To: Test Report Cc: dpdk-test-reports@iol.unh.edu, Stephen Hemminger In-Reply-To: <20251031014417.3424934-2-dimon.zhao@nebula-matrix.com> References: <20251031014417.3424934-2-dimon.zhao@nebula-matrix.com> Content-Type: text/plain X-BeenThere: test-report@dpdk.org X-Mailman-Version: 2.1.29 Precedence: list List-Id: automatic DPDK test reports List-Unsubscribe: , List-Archive: List-Post: List-Help: List-Subscribe: , Errors-To: test-report-bounces@dpdk.org Test-Label: iol-compile-amd64-testing Test-Status: WARNING http://dpdk.org/patch/158311 _Testing issues_ Submitter: Dimon Zhao Date: Friday, October 31 2025 01:44:16 DPDK git baseline: Repo:dpdk-next-net Branch: master CommitID:5d2900b5b1a9da68c19d53d3f8e1075bee0a5f47 158311 --> testing issues Upstream job id: Generic-DPDK-Compile-Meson#439428 Test environment and result as below: +-------------------------------+--------------------+-------------------+------------------+-------------------------+-------------------+----------------------+ | Environment | dpdk_meson_compile | dpdk_compile_spdk | dpdk_compile_ovs | dpdk_llvm_clang_compile | dpdk_msvc_compile | dpdk_mingw64_compile | +===============================+====================+===================+==================+=========================+===================+======================+ | CentOS Stream 9 | PASS | WARN | SKIPPED | SKIPPED | SKIPPED | SKIPPED | +-------------------------------+--------------------+-------------------+------------------+-------------------------+-------------------+----------------------+ | CentOS Stream 10 | PASS | SKIPPED | SKIPPED | SKIPPED | SKIPPED | SKIPPED | +-------------------------------+--------------------+-------------------+------------------+-------------------------+-------------------+----------------------+ | Fedora Linux 42 | PASS | WARN | PASS | SKIPPED | SKIPPED | SKIPPED | +-------------------------------+--------------------+-------------------+------------------+-------------------------+-------------------+----------------------+ | Debian GNU/Linux 12 | PASS | WARN | SKIPPED | SKIPPED | SKIPPED | SKIPPED | +-------------------------------+--------------------+-------------------+------------------+-------------------------+-------------------+----------------------+ | Ubuntu 20.04 | PASS | SKIPPED | SKIPPED | SKIPPED | SKIPPED | SKIPPED | +-------------------------------+--------------------+-------------------+------------------+-------------------------+-------------------+----------------------+ | openSUSE Leap 15.6 | PASS | SKIPPED | SKIPPED | SKIPPED | SKIPPED | SKIPPED | +-------------------------------+--------------------+-------------------+------------------+-------------------------+-------------------+----------------------+ | Red Hat Enterprise Linux 9.5 | PASS | SKIPPED | SKIPPED | SKIPPED | SKIPPED | SKIPPED | +-------------------------------+--------------------+-------------------+------------------+-------------------------+-------------------+----------------------+ | Red Hat Enterprise Linux 8.10 | PASS | SKIPPED | SKIPPED | SKIPPED | SKIPPED | SKIPPED | +-------------------------------+--------------------+-------------------+------------------+-------------------------+-------------------+----------------------+ | Ubuntu 22.04 | PASS | WARN | SKIPPED | SKIPPED | SKIPPED | SKIPPED | +-------------------------------+--------------------+-------------------+------------------+-------------------------+-------------------+----------------------+ | FreeBSD 14.2 | PASS | SKIPPED | SKIPPED | SKIPPED | SKIPPED | SKIPPED | +-------------------------------+--------------------+-------------------+------------------+-------------------------+-------------------+----------------------+ | Ubuntu 24.04 | PASS | WARN | PASS | SKIPPED | SKIPPED | SKIPPED | +-------------------------------+--------------------+-------------------+------------------+-------------------------+-------------------+----------------------+ | Alpine Linux 3.22.0 | PASS | SKIPPED | SKIPPED | SKIPPED | SKIPPED | SKIPPED | +-------------------------------+--------------------+-------------------+------------------+-------------------------+-------------------+----------------------+ | Windows Server 2022 | SKIPPED | SKIPPED | SKIPPED | PASS | PASS | PASS | +-------------------------------+--------------------+-------------------+------------------+-------------------------+-------------------+----------------------+ ==== 20 line log output for Ubuntu 24.04 (dpdk_compile_spdk): ==== --- Failed to get log output --- ==== End log output ==== CentOS Stream 9 Kernel: 5.15 Compiler: gcc gcc (GCC) 11.5.0 20240719 (Red Hat 11.5.0-11) CentOS Stream 10 Kernel: 5.15 Compiler: gcc gcc (GCC) 14.2.1 20250110 (Red Hat 14.2.1-8) Fedora Linux 42 Kernel: 5.15 Compiler: clang gcc (GCC) 15.2.1 20250808 (Red Hat 15.2.1-1) Debian GNU/Linux 12 Kernel: 5.15 Compiler: gcc gcc (Debian 12.2.0-14+deb12u1) 12.2.0 Ubuntu 20.04 Kernel: 4.19 Compiler: gcc gcc (Ubuntu 9.4.0-1ubuntu1~20.04.2) 9.4.0 openSUSE Leap 15.6 Kernel: 5.15 Compiler: gcc gcc (SUSE Linux) 7.5.0 Red Hat Enterprise Linux 9.5 Kernel: 5.15 Compiler: gcc gcc (GCC) 11.5.0 20240719 (Red Hat 11.5.0-2) Red Hat Enterprise Linux 8.10 Kernel: 5.15 Compiler: gcc gcc (GCC) 8.5.0 20210514 (Red Hat 8.5.0-22) Ubuntu 22.04 Kernel: 5.15 Compiler: gcc gcc (Ubuntu 11.4.0-1ubuntu1~22.04) 11.4.0 FreeBSD 14.2 Kernel: 14.2-RELEASE Compiler: clang 18.1.6 Ubuntu 24.04 Kernel: 5.15 Compiler: gcc gcc (Ubuntu 13.3.0-6ubuntu2~24.04) 13.3.0 Alpine Linux 3.22.0 Kernel: 5.15 Compiler: gcc gcc (Alpine 14.2.0) 14.2.0 Windows Server 2022 Kernel: 10.0.20348.2031 Compiler: clang 15.0.7, gcc 14.1.0 (MinGW), and MSVC VS 19.39.33521 To view detailed results, visit: https://lab.dpdk.org/results/dashboard/patchsets/34427/ UNH-IOL DPDK Community Lab To manage your email subscriptions, visit: https://lab.dpdk.org/results/dashboard/preferences/subscriptions/