From mboxrd@z Thu Jan 1 00:00:00 1970 Return-Path: Received: from mails.dpdk.org (mails.dpdk.org [217.70.189.124]) by inbox.dpdk.org (Postfix) with ESMTP id 6902248A1D for ; Fri, 31 Oct 2025 03:56:48 +0100 (CET) Received: from mails.dpdk.org (localhost [127.0.0.1]) by mails.dpdk.org (Postfix) with ESMTP id 6364E4026F; Fri, 31 Oct 2025 03:56:48 +0100 (CET) Received: from mail-yw1-f227.google.com (mail-yw1-f227.google.com [209.85.128.227]) by mails.dpdk.org (Postfix) with ESMTP id AC8D24026F for ; Fri, 31 Oct 2025 03:56:47 +0100 (CET) Received: by mail-yw1-f227.google.com with SMTP id 00721157ae682-78619d34979so18632397b3.2 for ; Thu, 30 Oct 2025 19:56:47 -0700 (PDT) DKIM-Signature: v=1; a=rsa-sha256; c=relaxed/relaxed; d=iol.unh.edu; s=unh-iol; t=1761879407; x=1762484207; darn=dpdk.org; h=references:in-reply-to:cc:to:from:subject:message-id:date:from:to :cc:subject:date:message-id:reply-to; bh=OxyprxcEtkHp1z7Fq34jePuqln6BRRXA3T760FCHunk=; b=G71eYiL5mrLjPsgyFmJlbm4uTfzuyuAEPBi9DC/GUPvDMXNbc29kpoyJ5mYP+IWh7r 0ZeIB6FCm4CE40fMv1aEC1JF4wvZxTo/BBsy4jv2PicSzoyZXpO6Rx9ddOTNxpHvvruV EJOGblsSl9SniZoz7eoWJ1huDzRetXb4Ju7hk= X-Google-DKIM-Signature: v=1; a=rsa-sha256; c=relaxed/relaxed; d=1e100.net; s=20230601; t=1761879407; x=1762484207; h=references:in-reply-to:cc:to:from:subject:message-id:date :x-gm-message-state:from:to:cc:subject:date:message-id:reply-to; bh=OxyprxcEtkHp1z7Fq34jePuqln6BRRXA3T760FCHunk=; b=J7vvYLrtkTeI2VXtudk0jJLu2/pLdlsy/oXqp+0s7lc+sqyV17dxJYBxt/miZU81B2 3pA2u+nMHjpqJ031R7M94lNzamrXYcxT6wGCzFIZfcVVAoNrq6lPYsKMxZO7nvmG5LFS 2KC/n1+pjMle+31L57A+wlyXglI1Bwq/OOWl9NaJ5ZQrJkbKB2JCtobCPDnYDLKwfz4F D1c6C330Fso5SjNVoRpPA+scS6+0yLBLj6Qtc7aTYX/6tcEI5UeJIVFhLSVUnAuDUb71 cJy9O2/POtedRGOK86sGZWMKUfZwneUUPFrh0qKVnc/VNfFegg1GQ1JyngwbSXB4fcqk 2tFw== X-Gm-Message-State: AOJu0YxbjnlCIq7lD3gSOGNL+NwJ0QkY6GRly5A+jSE+hcC7kmINEanR CFZPMXeuWosZUycHMOQG0ehVjsYo1eyxZtcqg+AaUKKI3FbK8o05uRTeKJX0vLa4Ly081zhfljX iAv1qb2+ck8UUefaiXapt1zVtej7iGBjRWBsXS+K7Lcli X-Gm-Gg: ASbGncuc+iAno93sVfC3hCSVud4EiGCiC3cElzre8OHWPj+psS8XyBXlBWQmYI/dJ8H 1X9gOnxcncvMOrLOVuPhITzwX5Gkad+EeWpyd513EZFovTD7l5CBE+SeO4QmdnJydPsVkPpwqdI moZI+DOcrTN/hkZ3FWSsN8cR6WfMk0gWyD1ezpUld7NEnYtdtBn0onJN73D9pNZPE1BGUdC9SVd FYSJKfYPR8SFWmCfnfrKTnR6uDBxQMA7R8xyAmWksZL9Poz82vsxYAfxaXZOX2+U99n5ftFjp6A WfmJQ926Qsds+Wn1Ny1pKFjFvSXJquaPJq8MZzBoz05FQ5y8PS0LctXyQwYTEhPxZz5nAJgvSqs xnJOqwyBk5fyGP3J0UhPD2JLXofoJupI= X-Google-Smtp-Source: AGHT+IGRgWUMLWeRpLvN4pqzcuW794iTX/1iBJdZDej/+8P6awEPAw/wiy/vfHNCaadEuP+b16hTjXWVn5io X-Received: by 2002:a05:690c:7288:b0:77f:949a:d08e with SMTP id 00721157ae682-7864840b229mr16292537b3.26.1761879407021; Thu, 30 Oct 2025 19:56:47 -0700 (PDT) Received: from postal.iol.unh.edu (postal.iol.unh.edu. [132.177.123.84]) by smtp-relay.gmail.com with ESMTPS id 00721157ae682-7864ba75da7sm376307b3.7.2025.10.30.19.56.46 (version=TLS1_2 cipher=ECDHE-ECDSA-AES128-GCM-SHA256 bits=128/128); Thu, 30 Oct 2025 19:56:47 -0700 (PDT) X-Relaying-Domain: iol.unh.edu Date: Thu, 30 Oct 2025 19:56:47 -0700 (PDT) Message-ID: <6904256f.050a0220.45da0.211fSMTPIN_ADDED_MISSING@mx.google.com> Received: from [172.21.0.2] (unknown [172.18.0.240]) by postal.iol.unh.edu (Postfix) with ESMTP id 672776051830; Thu, 30 Oct 2025 22:56:46 -0400 (EDT) Subject: |SUCCESS| pw158311 [PATCH] [v1,1/1] net/nbl: use hardware MAC addres From: dpdklab@iol.unh.edu To: Test Report Cc: dpdk-test-reports@iol.unh.edu, Stephen Hemminger In-Reply-To: <20251031014417.3424934-2-dimon.zhao@nebula-matrix.com> References: <20251031014417.3424934-2-dimon.zhao@nebula-matrix.com> Content-Type: text/plain X-BeenThere: test-report@dpdk.org X-Mailman-Version: 2.1.29 Precedence: list List-Id: automatic DPDK test reports List-Unsubscribe: , List-Archive: List-Post: List-Help: List-Subscribe: , Errors-To: test-report-bounces@dpdk.org Test-Label: iol-unit-amd64-testing Test-Status: SUCCESS http://dpdk.org/patch/158311 _Testing PASS_ Submitter: Dimon Zhao Date: Friday, October 31 2025 01:44:16 DPDK git baseline: Repo:dpdk-next-net Branch: master CommitID:5d2900b5b1a9da68c19d53d3f8e1075bee0a5f47 158311 --> testing pass Upstream job id: Generic-VM-Unit-Test-DPDK#32189 Test environment and result as below: +-------------------------------+----------------+ | Environment | dpdk_unit_test | +===============================+================+ | CentOS Stream 9 | PASS | +-------------------------------+----------------+ | CentOS Stream 10 | PASS | +-------------------------------+----------------+ | Debian GNU/Linux 12 | PASS | +-------------------------------+----------------+ | Fedora Linux 40 | PASS | +-------------------------------+----------------+ | Fedora Linux 41 | PASS | +-------------------------------+----------------+ | Fedora Linux 42 | PASS | +-------------------------------+----------------+ | Ubuntu 20.04 | PASS | +-------------------------------+----------------+ | Ubuntu 22.04 | PASS | +-------------------------------+----------------+ | Red Hat Enterprise Linux 9.5 | PASS | +-------------------------------+----------------+ | Red Hat Enterprise Linux 8.10 | PASS | +-------------------------------+----------------+ | Ubuntu 24.04 | PASS | +-------------------------------+----------------+ | Windows Server 2022 | PASS | +-------------------------------+----------------+ CentOS Stream 9 Kernel: 5.15 Compiler: gcc gcc (GCC) 11.5.0 20240719 (Red Hat 11.5.0-11) CentOS Stream 10 Kernel: 5.15 Compiler: gcc gcc (GCC) 14.2.1 20250110 (Red Hat 14.2.1-8) Debian GNU/Linux 12 Kernel: 5.15 Compiler: gcc gcc (Debian 12.2.0-14+deb12u1) 12.2.0 Fedora Linux 40 Kernel: 5.15 Compiler: clang gcc (GCC) 14.2.1 20240912 (Red Hat 14.2.1-3) Fedora Linux 41 Kernel: 5.15 Compiler: gcc gcc (GCC) 14.3.1 20250523 (Red Hat 14.3.1-1) Fedora Linux 42 Kernel: 5.15 Compiler: gcc gcc (GCC) 15.2.1 20250808 (Red Hat 15.2.1-1) Ubuntu 20.04 Kernel: 5.15 Compiler: gcc gcc (Ubuntu 9.4.0-1ubuntu1~20.04.2) 9.4.0 Ubuntu 22.04 Kernel: 5.15 Compiler: gcc gcc (Ubuntu 11.4.0-1ubuntu1~22.04) 11.4.0 Red Hat Enterprise Linux 9.5 Kernel: 5.15 Compiler: gcc gcc (GCC) 11.5.0 20240719 (Red Hat 11.5.0-2) Red Hat Enterprise Linux 8.10 Kernel: 5.15 Compiler: gcc gcc (GCC) 8.5.0 20210514 (Red Hat 8.5.0-22) Ubuntu 24.04 Kernel: 5.15 Compiler: gcc gcc (Ubuntu 13.3.0-6ubuntu2~24.04) 13.3.0 Windows Server 2022 Kernel: 10.0.20348.2031 Compiler: clang 15.0.7, gcc 14.1.0 (MinGW), and MSVC VS 19.39.33521 To view detailed results, visit: https://lab.dpdk.org/results/dashboard/patchsets/34427/ UNH-IOL DPDK Community Lab To manage your email subscriptions, visit: https://lab.dpdk.org/results/dashboard/preferences/subscriptions/