From mboxrd@z Thu Jan 1 00:00:00 1970 Return-Path: Received: from mails.dpdk.org (mails.dpdk.org [217.70.189.124]) by inbox.dpdk.org (Postfix) with ESMTP id 24D7D48A1D for ; Fri, 31 Oct 2025 04:01:45 +0100 (CET) Received: from mails.dpdk.org (localhost [127.0.0.1]) by mails.dpdk.org (Postfix) with ESMTP id 18A064026F; Fri, 31 Oct 2025 04:01:45 +0100 (CET) Received: from mail-il1-f228.google.com (mail-il1-f228.google.com [209.85.166.228]) by mails.dpdk.org (Postfix) with ESMTP id 9BD244026F for ; Fri, 31 Oct 2025 04:01:43 +0100 (CET) Received: by mail-il1-f228.google.com with SMTP id e9e14a558f8ab-432fb3a05d1so15693465ab.3 for ; Thu, 30 Oct 2025 20:01:43 -0700 (PDT) DKIM-Signature: v=1; a=rsa-sha256; c=relaxed/relaxed; d=iol.unh.edu; s=unh-iol; t=1761879703; x=1762484503; darn=dpdk.org; h=references:in-reply-to:cc:to:from:subject:message-id:date:from:to :cc:subject:date:message-id:reply-to; bh=myrrmN/CFm90IxKvWEBcL3p8G9iaEPh1sZyhPBbizbk=; b=Ata1P8PVRd7jijkPEpsKx4zH8xfNI++Gxka7P0t75XESAjyeCOs5m9I1yxTLTQXN/M gPB4xIyJXsu0axBBQ0wJ9YwfbwjDLm+ApjTEe+N0IfMn8NxdLGKMIM2BDP+FrIgbZu71 WuJrCa5dYpEtJArc4XwOB4IG2rZSUTKpcGkjo= X-Google-DKIM-Signature: v=1; a=rsa-sha256; c=relaxed/relaxed; d=1e100.net; s=20230601; t=1761879703; x=1762484503; h=references:in-reply-to:cc:to:from:subject:message-id:date :x-gm-message-state:from:to:cc:subject:date:message-id:reply-to; bh=myrrmN/CFm90IxKvWEBcL3p8G9iaEPh1sZyhPBbizbk=; b=a5XDt+ogrxBZMLhCc+k+jnnu/hcgrZKQFRGpPPiy8n3ck+LQOA6LFJNM0DKHrNBGEu sJcSnyGdTYz1HpjypUlLiEWzHk8yBEvXUmYONUdeJIIcnROn1KYHquqV8lR0LBpv2nZS BVTBoLvU7d5a45770WyKB56Wg9hWZv+kQjLQ2UGPBIHz67Cz4O0oWPH2fKy7it9vKT/I SJgZ37fpYItHUEAZusDBcfME0KYdasb78n0jKbrN5wCS/1tShRCWx4ahkSXEonieKacw CUFnN0fTKgJsi2JziU+ahWD9yx6DShnTW+n8wFqkOLECg5o0Zy8Lu0OxixbIzAJaEVCp B2mA== X-Gm-Message-State: AOJu0YwwhlQfZR5W/rD45YIUQNTCuMQlsIzbpEr3JvZu79rVe72i+UJq 1mUZaaFFIByGkMp6mF2/dWX8ZZAx6vwMI/Oq68iOah99pN2PCY+Udi9toaApxOwxNFKrorzSReK ltksohBVvXIrU2BLh5Y3rFzc3hfvtIHBa5ItWDJt7UlIjX3SL9wkynNWWxMGq X-Gm-Gg: ASbGncvuprJFIMcIAVhZSLfTBrZtV4es31zPmM0dnwlUmQeU3ehr0XjgXhV2IYhb2kd XbV0VWSLBGp7S9dVoo9Uk7aUxcDWBtOLBetQ6xT8jt+DDDsg4EmvXpgbAiLGXLHZHyBJg0Rob2a zN9tOcP4HGHxsKGmxDBZrP3NOsbBey4PQDC53n+bpigYFZohmkeHGNtEM3xiLw6Ef1hjfeuIHg4 eCLGEsdgmZFKxfohwSnVErjQ0FdIB2benqL+0106Kg6W7SArPAZTAvP13AcMv6OGE67z1w1vLiR RdHBM3IcpcuWMzZGyuyfltjJdeF/VlODstobZTXRG3FljFTlZs7pKBr3AZ50k+1Os8GwOsLCUKs NOUpEt333 X-Google-Smtp-Source: AGHT+IFgWfVREFwfnaac20Pb499Bxl1tIbnyOM82SD1kgX4GQgHyQV6qe270J69yPH/3L/jxhwtxK/GhwubY X-Received: by 2002:a05:6e02:3b89:b0:42f:983e:e54d with SMTP id e9e14a558f8ab-4330d122699mr38846095ab.4.1761879702863; Thu, 30 Oct 2025 20:01:42 -0700 (PDT) Received: from postal.iol.unh.edu (postal.iol.unh.edu. [2606:4100:3880:1234::84]) by smtp-relay.gmail.com with ESMTPS id e9e14a558f8ab-433103396a7sm418995ab.27.2025.10.30.20.01.42 (version=TLS1_2 cipher=ECDHE-ECDSA-AES128-GCM-SHA256 bits=128/128); Thu, 30 Oct 2025 20:01:42 -0700 (PDT) X-Relaying-Domain: iol.unh.edu Date: Thu, 30 Oct 2025 20:01:42 -0700 (PDT) Message-ID: <69042696.050a0220.c53d.2292SMTPIN_ADDED_MISSING@mx.google.com> Received: from [172.21.0.3] (unknown [172.18.0.240]) by postal.iol.unh.edu (Postfix) with ESMTP id 7A8ED6051830; Thu, 30 Oct 2025 23:01:42 -0400 (EDT) Subject: |SUCCESS| pw158311 [PATCH] [v1,1/1] net/nbl: use hardware MAC addres From: dpdklab@iol.unh.edu To: Test Report Cc: dpdk-test-reports@iol.unh.edu, Stephen Hemminger In-Reply-To: <20251031014417.3424934-2-dimon.zhao@nebula-matrix.com> References: <20251031014417.3424934-2-dimon.zhao@nebula-matrix.com> Content-Type: text/plain X-BeenThere: test-report@dpdk.org X-Mailman-Version: 2.1.29 Precedence: list List-Id: automatic DPDK test reports List-Unsubscribe: , List-Archive: List-Post: List-Help: List-Subscribe: , Errors-To: test-report-bounces@dpdk.org Test-Label: iol-unit-amd64-testing Test-Status: SUCCESS http://dpdk.org/patch/158311 _Testing PASS_ Submitter: Dimon Zhao Date: Friday, October 31 2025 01:44:16 DPDK git baseline: Repo:dpdk-next-net Branch: master CommitID:5d2900b5b1a9da68c19d53d3f8e1075bee0a5f47 158311 --> testing pass Upstream job id: Generic-VM-Unit-Test-DPDK#32190 Test environment and result as below: +-------------------------------+----------------+ | Environment | dpdk_unit_test | +===============================+================+ | CentOS Stream 9 | PASS | +-------------------------------+----------------+ | CentOS Stream 10 | PASS | +-------------------------------+----------------+ | Debian GNU/Linux 12 | PASS | +-------------------------------+----------------+ | Fedora Linux 40 | PASS | +-------------------------------+----------------+ | Fedora Linux 41 | PASS | +-------------------------------+----------------+ | Fedora Linux 42 | PASS | +-------------------------------+----------------+ | Ubuntu 20.04 | PASS | +-------------------------------+----------------+ | Ubuntu 22.04 | PASS | +-------------------------------+----------------+ | Red Hat Enterprise Linux 9.5 | PASS | +-------------------------------+----------------+ | Red Hat Enterprise Linux 8.10 | PASS | +-------------------------------+----------------+ | Ubuntu 24.04 | PASS | +-------------------------------+----------------+ | Windows Server 2022 | PASS | +-------------------------------+----------------+ CentOS Stream 9 Kernel: 5.15 Compiler: gcc gcc (GCC) 11.5.0 20240719 (Red Hat 11.5.0-11) CentOS Stream 10 Kernel: 5.15 Compiler: gcc gcc (GCC) 14.2.1 20250110 (Red Hat 14.2.1-8) Debian GNU/Linux 12 Kernel: 5.15 Compiler: gcc gcc (Debian 12.2.0-14+deb12u1) 12.2.0 Fedora Linux 40 Kernel: 5.15 Compiler: clang gcc (GCC) 14.2.1 20240912 (Red Hat 14.2.1-3) Fedora Linux 41 Kernel: 5.15 Compiler: gcc gcc (GCC) 14.3.1 20250523 (Red Hat 14.3.1-1) Fedora Linux 42 Kernel: 5.15 Compiler: gcc gcc (GCC) 15.2.1 20250808 (Red Hat 15.2.1-1) Ubuntu 20.04 Kernel: 5.15 Compiler: gcc gcc (Ubuntu 9.4.0-1ubuntu1~20.04.2) 9.4.0 Ubuntu 22.04 Kernel: 5.15 Compiler: gcc gcc (Ubuntu 11.4.0-1ubuntu1~22.04) 11.4.0 Red Hat Enterprise Linux 9.5 Kernel: 5.15 Compiler: gcc gcc (GCC) 11.5.0 20240719 (Red Hat 11.5.0-2) Red Hat Enterprise Linux 8.10 Kernel: 5.15 Compiler: gcc gcc (GCC) 8.5.0 20210514 (Red Hat 8.5.0-22) Ubuntu 24.04 Kernel: 5.15 Compiler: gcc gcc (Ubuntu 13.3.0-6ubuntu2~24.04) 13.3.0 Windows Server 2022 Kernel: 10.0.20348.2031 Compiler: clang 15.0.7, gcc 14.1.0 (MinGW), and MSVC VS 19.39.33521 To view detailed results, visit: https://lab.dpdk.org/results/dashboard/patchsets/34427/ UNH-IOL DPDK Community Lab To manage your email subscriptions, visit: https://lab.dpdk.org/results/dashboard/preferences/subscriptions/