From mboxrd@z Thu Jan 1 00:00:00 1970 Return-Path: Received: from mails.dpdk.org (mails.dpdk.org [217.70.189.124]) by inbox.dpdk.org (Postfix) with ESMTP id D687848A21 for ; Fri, 31 Oct 2025 07:21:39 +0100 (CET) Received: from mails.dpdk.org (localhost [127.0.0.1]) by mails.dpdk.org (Postfix) with ESMTP id D23134026F; Fri, 31 Oct 2025 07:21:39 +0100 (CET) Received: from mail-yw1-f227.google.com (mail-yw1-f227.google.com [209.85.128.227]) by mails.dpdk.org (Postfix) with ESMTP id 49A2F4026F for ; Fri, 31 Oct 2025 07:21:39 +0100 (CET) Received: by mail-yw1-f227.google.com with SMTP id 00721157ae682-785d3a5f641so21669847b3.1 for ; Thu, 30 Oct 2025 23:21:39 -0700 (PDT) DKIM-Signature: v=1; a=rsa-sha256; c=relaxed/relaxed; d=iol.unh.edu; s=unh-iol; t=1761891698; x=1762496498; darn=dpdk.org; h=cc:to:from:subject:message-id:date:from:to:cc:subject:date :message-id:reply-to; bh=eNOwF5Jph15vuxp2eNzdxVqW5P4c5y6FqYoIiQWBYJM=; b=IDpWr9OgQcyX31hsT+quYp9tmnfMnAtq3N5fwNloQmWSSGhHmJrBUjA9ZQxkRf+1X/ YldLA34Lej3DhAs71MtBsr1Ndrqt619YCgtiJbto43SdYvK9Ptl3qii76DeuLo9JeyCk MVItZRTlmBAwc12gPcNgurUrT/bL82PG8KRbo= X-Google-DKIM-Signature: v=1; a=rsa-sha256; c=relaxed/relaxed; d=1e100.net; s=20230601; t=1761891698; x=1762496498; h=cc:to:from:subject:message-id:date:x-gm-message-state:from:to:cc :subject:date:message-id:reply-to; bh=eNOwF5Jph15vuxp2eNzdxVqW5P4c5y6FqYoIiQWBYJM=; b=I6ESrCLgLIvAe0TD90A2uuUii0Rn79V8rHcE9vcBxKFMfGpn7Hq3HYtegGDGv1/5tc s9m939eiW7rerE/JXeFeS1I4sE/jCdFDnQVgzniJAnWc4lUBaVSHD5TC18a95nun9Pjh xMi8rhJfHtPibi8YRSj9xqZDoKku6Ff0Bbnstz5XQIC2kG5tcWpzMurXukgj02/M0vr3 sbN9HfZvMuNNajWCiYjIKxcngYa/9wlNBL7iM3tBgehEWk/a6FwRtVGJFlyQOLVpKq2X WfNcwyXjcHdBtt7AIhPXwM9JltGHUhWskWGigUEP3uWqvtcwwOHBrXZOz8DtKU5Y7KCb 3VNQ== X-Gm-Message-State: AOJu0YyWmvDTQw+sLMCMkNP96twhvW85bFkE6VlB8hQpuUkAcPMT+lAp hc5gvXmaM1Eai//bf0VisOkNKXbjlt9Xgix1/mGjgurBgbAHyRmI4P03fVupZQeJqKfIUJpZi0V 2Gjeg1552jTUs2o2fqXbGpddR4pA5u54nPkr9Fguk0hYoo8vusoA0 X-Gm-Gg: ASbGncuTeucP0XyKbdTJmCIRu1PdZW+AouzQCiBABlgp3+v/fnzRvrw0M+holc1t3Nl WTp9b/drEFUyWxQG0fufE8OoZ4V/xlsBCTAbploOsaw7BEUyDnjVQBra2FHq5Al9t3QLDb7Bp48 4jTue6K0EEVKYEYa0G7EbJmf8k/dn45P48BERPoDyLLIflHckMSdTuSHkCtSXIrzJjAjT2lBUZ9 tEr8AakVDfSP9AnHVcOiSgsBEfvTRWsuXTuUShMNPAKC2RAcb0VxO6cTq0LDN8DEc45s+mYFzht QoHRzAurc1r8eNd8XCDjAkNBOXzWnVO42RWka8vZgEkuABsYhA1XRuZTFutlvarjmbmO9htefZg aHBFSKTWn X-Google-Smtp-Source: AGHT+IGGIXTUU4eJMzwCEUHBH/fN9ONlghRibBTtPZebXpvxOiLRs3o942NoAc5rhvQTKmlwtOLYm9nZqWnA X-Received: by 2002:a05:690c:6085:b0:786:2afe:17b8 with SMTP id 00721157ae682-7864859131cmr20035537b3.67.1761891698623; Thu, 30 Oct 2025 23:21:38 -0700 (PDT) Received: from postal.iol.unh.edu (postal.iol.unh.edu. [2606:4100:3880:1234::84]) by smtp-relay.gmail.com with ESMTPS id 00721157ae682-7864c292b85sm591377b3.22.2025.10.30.23.21.38 (version=TLS1_2 cipher=ECDHE-ECDSA-AES128-GCM-SHA256 bits=128/128); Thu, 30 Oct 2025 23:21:38 -0700 (PDT) X-Relaying-Domain: iol.unh.edu Date: Thu, 30 Oct 2025 23:21:38 -0700 (PDT) Message-ID: <69045572.050a0220.3548d7.352aSMTPIN_ADDED_MISSING@mx.google.com> Received: from [172.21.0.2] (unknown [172.18.0.240]) by postal.iol.unh.edu (Postfix) with ESMTP id 3F45E60003E7; Fri, 31 Oct 2025 02:21:38 -0400 (EDT) Subject: |SUCCESS| [GIT MASTER] b287e404643aeab5bb5db084c142789df187844e From: dpdklab@iol.unh.edu To: Test Report Cc: dpdk-test-reports@iol.unh.edu, Xueming Li , Christian Ehrhardt , Kevin Traynor , Luca Boccassi Content-Type: text/plain X-BeenThere: test-report@dpdk.org X-Mailman-Version: 2.1.29 Precedence: list List-Id: automatic DPDK test reports List-Unsubscribe: , List-Archive: List-Post: List-Help: List-Subscribe: , Errors-To: test-report-bounces@dpdk.org _Testing PASS_ Branch: tags/v24.11 b287e404643aeab5bb5db084c142789df187844e --> testing pass Upstream job id: Generic-DPDK-Compile-Meson#439522 Test environment and result as below: +-------------------------------+--------------------+-------------------+------------------+-------------------+-------------------------+----------------------+ | Environment | dpdk_meson_compile | dpdk_compile_spdk | dpdk_compile_ovs | dpdk_msvc_compile | dpdk_llvm_clang_compile | dpdk_mingw64_compile | +===============================+====================+===================+==================+===================+=========================+======================+ | CentOS Stream 9 | PASS | PASS | SKIPPED | SKIPPED | SKIPPED | SKIPPED | +-------------------------------+--------------------+-------------------+------------------+-------------------+-------------------------+----------------------+ | CentOS Stream 10 | PASS | SKIPPED | SKIPPED | SKIPPED | SKIPPED | SKIPPED | +-------------------------------+--------------------+-------------------+------------------+-------------------+-------------------------+----------------------+ | Fedora Linux 42 | PASS | PASS | PASS | SKIPPED | SKIPPED | SKIPPED | +-------------------------------+--------------------+-------------------+------------------+-------------------+-------------------------+----------------------+ | Debian GNU/Linux 12 | PASS | PASS | SKIPPED | SKIPPED | SKIPPED | SKIPPED | +-------------------------------+--------------------+-------------------+------------------+-------------------+-------------------------+----------------------+ | Red Hat Enterprise Linux 9.5 | PASS | SKIPPED | SKIPPED | SKIPPED | SKIPPED | SKIPPED | +-------------------------------+--------------------+-------------------+------------------+-------------------+-------------------------+----------------------+ | Ubuntu 20.04 | PASS | SKIPPED | SKIPPED | SKIPPED | SKIPPED | SKIPPED | +-------------------------------+--------------------+-------------------+------------------+-------------------+-------------------------+----------------------+ | openSUSE Leap 15.6 | PASS | SKIPPED | SKIPPED | SKIPPED | SKIPPED | SKIPPED | +-------------------------------+--------------------+-------------------+------------------+-------------------+-------------------------+----------------------+ | Ubuntu 22.04 | PASS | PASS | SKIPPED | SKIPPED | SKIPPED | SKIPPED | +-------------------------------+--------------------+-------------------+------------------+-------------------+-------------------------+----------------------+ | Red Hat Enterprise Linux 8.10 | PASS | SKIPPED | SKIPPED | SKIPPED | SKIPPED | SKIPPED | +-------------------------------+--------------------+-------------------+------------------+-------------------+-------------------------+----------------------+ | Ubuntu 24.04 | PASS | PASS | PASS | SKIPPED | SKIPPED | SKIPPED | +-------------------------------+--------------------+-------------------+------------------+-------------------+-------------------------+----------------------+ | Alpine Linux 3.22.0 | PASS | SKIPPED | SKIPPED | SKIPPED | SKIPPED | SKIPPED | +-------------------------------+--------------------+-------------------+------------------+-------------------+-------------------------+----------------------+ | FreeBSD 14.2 | PASS | SKIPPED | SKIPPED | SKIPPED | SKIPPED | SKIPPED | +-------------------------------+--------------------+-------------------+------------------+-------------------+-------------------------+----------------------+ | Windows Server 2022 | SKIPPED | SKIPPED | SKIPPED | PASS | PASS | PASS | +-------------------------------+--------------------+-------------------+------------------+-------------------+-------------------------+----------------------+ CentOS Stream 9 Kernel: 5.15 Compiler: gcc gcc (GCC) 11.5.0 20240719 (Red Hat 11.5.0-11) CentOS Stream 10 Kernel: 5.15 Compiler: gcc gcc (GCC) 14.2.1 20250110 (Red Hat 14.2.1-8) Fedora Linux 42 Kernel: 5.15 Compiler: gcc gcc (GCC) 15.2.1 20250808 (Red Hat 15.2.1-1) Debian GNU/Linux 12 Kernel: 5.15 Compiler: gcc gcc (Debian 12.2.0-14+deb12u1) 12.2.0 Red Hat Enterprise Linux 9.5 Kernel: 5.15 Compiler: gcc gcc (GCC) 11.5.0 20240719 (Red Hat 11.5.0-2) Ubuntu 20.04 Kernel: 5.15 Compiler: gcc gcc (Ubuntu 9.4.0-1ubuntu1~20.04.2) 9.4.0 openSUSE Leap 15.6 Kernel: 5.15 Compiler: gcc gcc (SUSE Linux) 7.5.0 Ubuntu 22.04 Kernel: 5.15 Compiler: gcc gcc (Ubuntu 11.4.0-1ubuntu1~22.04) 11.4.0 Red Hat Enterprise Linux 8.10 Kernel: 5.15 Compiler: gcc gcc (GCC) 8.5.0 20210514 (Red Hat 8.5.0-22) Ubuntu 24.04 Kernel: 5.15 Compiler: gcc gcc (Ubuntu 13.3.0-6ubuntu2~24.04) 13.3.0 Alpine Linux 3.22.0 Kernel: 5.15 Compiler: gcc gcc (Alpine 14.2.0) 14.2.0 FreeBSD 14.2 Kernel: 14.2-RELEASE Compiler: clang 18.1.6 Windows Server 2022 Kernel: 10.0.20348.2031 Compiler: clang 15.0.7, gcc 14.1.0 (MinGW), and MSVC VS 19.39.33521 To view detailed results, visit: https://lab.dpdk.org/results/dashboard/tarballs/35408/ UNH-IOL DPDK Community Lab To manage your email subscriptions, visit: https://lab.dpdk.org/results/dashboard/preferences/subscriptions/