From mboxrd@z Thu Jan 1 00:00:00 1970 Return-Path: Received: from mails.dpdk.org (mails.dpdk.org [217.70.189.124]) by inbox.dpdk.org (Postfix) with ESMTP id CAA8248A21 for ; Fri, 31 Oct 2025 07:31:38 +0100 (CET) Received: from mails.dpdk.org (localhost [127.0.0.1]) by mails.dpdk.org (Postfix) with ESMTP id C6F314026F; Fri, 31 Oct 2025 07:31:38 +0100 (CET) Received: from mail-qt1-f225.google.com (mail-qt1-f225.google.com [209.85.160.225]) by mails.dpdk.org (Postfix) with ESMTP id 64ECB4026F for ; Fri, 31 Oct 2025 07:31:37 +0100 (CET) Received: by mail-qt1-f225.google.com with SMTP id d75a77b69052e-4ed08085d17so7201291cf.3 for ; Thu, 30 Oct 2025 23:31:37 -0700 (PDT) DKIM-Signature: v=1; a=rsa-sha256; c=relaxed/relaxed; d=iol.unh.edu; s=unh-iol; t=1761892297; x=1762497097; darn=dpdk.org; h=references:in-reply-to:cc:to:from:subject:message-id:date:from:to :cc:subject:date:message-id:reply-to; bh=t+UXLqsj4fYMrwbhZJSWgmBINXDZXQ3UTywfGiJ1e24=; b=Jd2q4eEzsjOElOW+T8U/bV6dxhk3sXq+mjeF/UmYtX3j7rVE5WF288sroB+KpCcaJ/ ezTZbBc/wKhwIhJzmsT20UBSbadJDt1Xv8TPE/V4SxcQEJ4C1cI7xQT3Zk0Rmzk8rRwP PsisVBp36AKLSTrUjwJAYmrUu4lWttz3jnqdw= X-Google-DKIM-Signature: v=1; a=rsa-sha256; c=relaxed/relaxed; d=1e100.net; s=20230601; t=1761892297; x=1762497097; h=references:in-reply-to:cc:to:from:subject:message-id:date :x-gm-message-state:from:to:cc:subject:date:message-id:reply-to; bh=t+UXLqsj4fYMrwbhZJSWgmBINXDZXQ3UTywfGiJ1e24=; b=VQND/fSPFqon7Bxh+jgdkSmxhZf6ioaYIT+cEM/YfGpD94B2QiwOTzUDZl3D+frekQ 7xs6PlTEUSYr2XlHcEMf3uFkoF9/EnzFKOLmyLYf8TSWeiDFLvFCFiLZ91inovubeelt 14c1ggMP50QCiV27KFx7nhvCQfk/w6GwLXis5wiPDtK7IRDx+AVlk2RymrvxVPiXRApg 7WrEd09KKpkv7Kx7dQMgFlMMHyskG1FKzTNRrBuw63jBGH+Sl+oNe7+FOXTyGE+PCJuj gYTCkTF1306BCFhxjI3cnHThR8E50oUKnD9sBAeI+zEjakI91WwLyAnUhv9MEyE4eMy7 darg== X-Gm-Message-State: AOJu0YyS5HAzSMpzrC40MRq/pGIyIZmN/+BiPvktnDoW4jA1N5Rirw7e fJDaOCxsGA6k7ND2PQaQDsNnk2m1RwDAZky+LRonfHU5XwtFQFCkdKgIZmvhq59ErHJaYBBb7N7 XfPb5izok6+6szhcvOF67QzfFRixt176uVV687YWlFgP2 X-Gm-Gg: ASbGnctw1e1SZMwr14UzpTpHQtdVGLecSmjqZJlE1Og50v78RvzaLPdjKLkWHFp1iyR eMTtSZQZDgCFSQnDCmNfxnNkIg1FF0v9IEVIaDgK80U8gdhl6X7TxeFH7f8jTOfsGenBTJU0Qzd TVoko1ClqNOawznjGowFJv92rsw5G8h7EBck7ExXFG2i3gC8kzl9UM1N9X6QL1DzlpiUmAeCd4H RB5rPep/Al9suH6M8D/wKgdIG8ziCo3J0sqY1wP6XKLLda7mxVCQ/hT3McgMvKlHDI1aX6lA9EO p58ECdvXy2hBm5Ry1FM8uEGPAZtaro+Ve/BfMLSnI31nrV3CA3Sq9wni46yPQMwamaTGuS5QALD mRlo5mx2jCVmKLx6IiBC1RIHPVYmNXRg= X-Google-Smtp-Source: AGHT+IHFQAlPvyr4EjqXI1n/X/HAxn1nOPmT7YjzcpNmd0cmrrmzb6LnaL7TIuCVE7eOGvN51QgfNf6SuAHS X-Received: by 2002:a05:622a:28a:b0:4ec:fa43:4d58 with SMTP id d75a77b69052e-4ed30fd4be7mr28906761cf.50.1761892296758; Thu, 30 Oct 2025 23:31:36 -0700 (PDT) Received: from postal.iol.unh.edu (postal.iol.unh.edu. [132.177.123.84]) by smtp-relay.gmail.com with ESMTPS id 6a1803df08f44-880363389e3sm819716d6.28.2025.10.30.23.31.36 (version=TLS1_2 cipher=ECDHE-ECDSA-AES128-GCM-SHA256 bits=128/128); Thu, 30 Oct 2025 23:31:36 -0700 (PDT) X-Relaying-Domain: iol.unh.edu Date: Thu, 30 Oct 2025 23:31:36 -0700 (PDT) Message-ID: <690457c8.d40a0220.4272c.432aSMTPIN_ADDED_MISSING@mx.google.com> Received: from [172.21.0.2] (unknown [172.18.0.240]) by postal.iol.unh.edu (Postfix) with ESMTP id 7C31D6051830; Fri, 31 Oct 2025 02:31:36 -0400 (EDT) Subject: |SUCCESS| pw158311 [PATCH] [v1,1/1] net/nbl: use hardware MAC addres From: dpdklab@iol.unh.edu To: Test Report Cc: dpdk-test-reports@iol.unh.edu, Stephen Hemminger In-Reply-To: <20251031014417.3424934-2-dimon.zhao@nebula-matrix.com> References: <20251031014417.3424934-2-dimon.zhao@nebula-matrix.com> Content-Type: text/plain X-BeenThere: test-report@dpdk.org X-Mailman-Version: 2.1.29 Precedence: list List-Id: automatic DPDK test reports List-Unsubscribe: , List-Archive: List-Post: List-Help: List-Subscribe: , Errors-To: test-report-bounces@dpdk.org Test-Label: iol-compile-arm64-testing Test-Status: SUCCESS http://dpdk.org/patch/158311 _Testing PASS_ Submitter: Dimon Zhao Date: Friday, October 31 2025 01:44:16 DPDK git baseline: Repo:dpdk-next-net Branch: master CommitID:5d2900b5b1a9da68c19d53d3f8e1075bee0a5f47 158311 --> testing pass Upstream job id: Generic-DPDK-Compile-Meson#439441 Test environment and result as below: +------------------------------+--------------------+ | Environment | dpdk_meson_compile | +==============================+====================+ | Red Hat Enterprise Linux 9.5 | PASS | +------------------------------+--------------------+ | Ubuntu 20.04 | PASS | +------------------------------+--------------------+ | Debian GNU/Linux 12 | PASS | +------------------------------+--------------------+ | Fedora Linux 42 | PASS | +------------------------------+--------------------+ | Ubuntu 22.04 | PASS | +------------------------------+--------------------+ | Ubuntu 24.04 | PASS | +------------------------------+--------------------+ | CentOS Stream 10 | PASS | +------------------------------+--------------------+ | CentOS Stream 9 | PASS | +------------------------------+--------------------+ Red Hat Enterprise Linux 9.5 Kernel: 5.4 Compiler: gcc gcc (GCC) 11.5.0 20240719 (Red Hat 11.5.0-2) Ubuntu 20.04 Kernel: 5.15 Compiler: aarch64-linux-gnu-gcc gcc (Ubuntu 9.4.0-1ubuntu1~20.04.2) 9.4.0 Debian GNU/Linux 12 Kernel: 5.4 Compiler: gcc gcc (Debian 12.2.0-14+deb12u1) 12.2.0 Fedora Linux 42 Kernel: 5.4 Compiler: gcc gcc (GCC) 15.2.1 20250808 (Red Hat 15.2.1-1) Ubuntu 22.04 Kernel: 5.4 Compiler: gcc gcc (Ubuntu 11.4.0-1ubuntu1~22.04) 11.4.0 Ubuntu 24.04 Kernel: 5.4 Compiler: gcc gcc (Ubuntu 13.3.0-6ubuntu2~24.04) 13.3.0 CentOS Stream 10 Kernel: 5.4 Compiler: gcc gcc (GCC) 14.2.1 20250110 (Red Hat 14.2.1-8) CentOS Stream 9 Kernel: 5.4 Compiler: gcc gcc (GCC) 11.5.0 20240719 (Red Hat 11.5.0-11) To view detailed results, visit: https://lab.dpdk.org/results/dashboard/patchsets/34427/ UNH-IOL DPDK Community Lab To manage your email subscriptions, visit: https://lab.dpdk.org/results/dashboard/preferences/subscriptions/