From mboxrd@z Thu Jan 1 00:00:00 1970 Return-Path: Received: from mails.dpdk.org (mails.dpdk.org [217.70.189.124]) by inbox.dpdk.org (Postfix) with ESMTP id 4DCBB48A21 for ; Fri, 31 Oct 2025 07:36:42 +0100 (CET) Received: from mails.dpdk.org (localhost [127.0.0.1]) by mails.dpdk.org (Postfix) with ESMTP id 4A3044026F; Fri, 31 Oct 2025 07:36:42 +0100 (CET) Received: from mail-vk1-f227.google.com (mail-vk1-f227.google.com [209.85.221.227]) by mails.dpdk.org (Postfix) with ESMTP id B22984026F for ; Fri, 31 Oct 2025 07:36:41 +0100 (CET) Received: by mail-vk1-f227.google.com with SMTP id 71dfb90a1353d-5563c36f6d4so1986114e0c.1 for ; Thu, 30 Oct 2025 23:36:41 -0700 (PDT) DKIM-Signature: v=1; a=rsa-sha256; c=relaxed/relaxed; d=iol.unh.edu; s=unh-iol; t=1761892601; x=1762497401; darn=dpdk.org; h=cc:to:from:subject:message-id:date:from:to:cc:subject:date :message-id:reply-to; bh=V5P+0ZxqDRt1nbYHpLAk9S5Ky4z9+WopMh25sRUWbqI=; b=R5UKLmnXEh4sawCjSopa56+S7MnR9iWbznhbk/5hSLQH8GFxkrBikeSI87OjcHkRTu vY7zXzCPK/br0SrJtuLknUxPS0YDOLft8LvPeYZVH2LHbm/2K10QptmjpKgrrwQEFuyA 0PBiXUOyo7VfKGbs4ED5XafwXptP5Bmq+aznY= X-Google-DKIM-Signature: v=1; a=rsa-sha256; c=relaxed/relaxed; d=1e100.net; s=20230601; t=1761892601; x=1762497401; h=cc:to:from:subject:message-id:date:x-gm-message-state:from:to:cc :subject:date:message-id:reply-to; bh=V5P+0ZxqDRt1nbYHpLAk9S5Ky4z9+WopMh25sRUWbqI=; b=S6xe+9uGHTQcTDL4z3uL0ePMTZta1Ctc2x4x7P21rAHTwYMRPWPoiV/0IfALN5uzZm CrelRDt67K8Ulh6WCtlhxlnvqbKqanJ7sBIt3YGx5m8Ctd5q6J/VSIOEhzfH7kxc+CEs wJnW5YmBHzUsmEz38L+EdXZylZ7t9nUpLMsK3s31B6QrDLeWY6FcgYlgUT7SUXbVXWUO fmASRnaWNzixaNBjA3J8oFFJlcnX42uQd2Dr9gIyFy07J4tvxOiW+F+V6jB7ZkUSOvG1 jzHZJT3W/eOJYSBl16mxLnGdPEuNACgZJBHP389ljMSt50cLCsGapqWNp7d0BiH7ARdr skYg== X-Gm-Message-State: AOJu0YybcWW9dtpMdOWGVjWTSfbd9se2P9zd+z4WSi9Ed0CBJUsku1W2 Y/HzTHJ7h5ijwMLGOJ05YOpbKSZTBfgap4JyW82NM5zIiGAapHJkWUHnPlyQfDGVBLn+7tscdlp /pxR5wIU4TLsxpx1VIQeYIjyNhK37/2ow08mR X-Gm-Gg: ASbGncv/YpQzlFjADbEEFA5qs8Kaodxtb9INLq8lQl5E9XWjY+99h/JT+QAMFVaz9bY 6BfGKxCC6F7isu/kNmBbDswae9Ac/6wlJWfQZSFRZI6WGBmhz+igPewyqARWWhoXDTo32zZhm8x x/MhGxen2i9M0ftKs/ZcZ0+a6j92s374s9huyWgD5Pce48VZ4qG14P6Ltep/lYZvou4nWV3t3Vd AK+h9pdvQww5XRQNba3hv/PdRXmWbN5CwRPNciE85c6EeEdH/KqDBDrTlDDsDF9yNFFi/GjntyO 61O9/T4x0385efz+3XnX7SigbV4556w95N2b6tayG5haJ6Bj8TuxFmffELPQrfvITVnTinXll4L zZHKAJ2zKMQ0n5mTiiY8dbotxTucu3qA= X-Google-Smtp-Source: AGHT+IGvVeFPG9v0ahIxB5PrUnpM1pQbP1Sr0eV/6GcuXSE9v5JqOSLRGwCfevpEPv0O18wBPeX3dcLjduEF X-Received: by 2002:a05:6122:366f:b0:54a:a58f:e989 with SMTP id 71dfb90a1353d-5584c1fbd2fmr1443060e0c.8.1761892601006; Thu, 30 Oct 2025 23:36:41 -0700 (PDT) Received: from postal.iol.unh.edu (postal.iol.unh.edu. [132.177.123.84]) by smtp-relay.gmail.com with ESMTPS id 71dfb90a1353d-5594496de0esm88582e0c.1.2025.10.30.23.36.40 (version=TLS1_2 cipher=ECDHE-ECDSA-AES128-GCM-SHA256 bits=128/128); Thu, 30 Oct 2025 23:36:41 -0700 (PDT) X-Relaying-Domain: iol.unh.edu Date: Thu, 30 Oct 2025 23:36:41 -0700 (PDT) Message-ID: <690458f8.050a0220.4b68e.4a96SMTPIN_ADDED_MISSING@mx.google.com> Received: from [172.21.0.2] (unknown [172.18.0.240]) by postal.iol.unh.edu (Postfix) with ESMTP id ADF976051830; Fri, 31 Oct 2025 02:36:40 -0400 (EDT) Subject: |SUCCESS| [GIT MASTER] b287e404643aeab5bb5db084c142789df187844e From: dpdklab@iol.unh.edu To: Test Report Cc: dpdk-test-reports@iol.unh.edu, Xueming Li , Christian Ehrhardt , Kevin Traynor , Luca Boccassi Content-Type: text/plain X-BeenThere: test-report@dpdk.org X-Mailman-Version: 2.1.29 Precedence: list List-Id: automatic DPDK test reports List-Unsubscribe: , List-Archive: List-Post: List-Help: List-Subscribe: , Errors-To: test-report-bounces@dpdk.org _Testing PASS_ Branch: tags/v24.11 b287e404643aeab5bb5db084c142789df187844e --> testing pass Upstream job id: Generic-Unit-Test-DPDK#387246 Test environment and result as below: +-------------------------------+----------------+ | Environment | dpdk_unit_test | +===============================+================+ | CentOS Stream 10 | PASS | +-------------------------------+----------------+ | CentOS Stream 9 | PASS | +-------------------------------+----------------+ | Debian GNU/Linux 12 | PASS | +-------------------------------+----------------+ | Fedora Linux 40 | PASS | +-------------------------------+----------------+ | Fedora Linux 41 | PASS | +-------------------------------+----------------+ | Fedora Linux 42 | PASS | +-------------------------------+----------------+ | Red Hat Enterprise Linux 8.10 | PASS | +-------------------------------+----------------+ | Ubuntu 24.04 | PASS | +-------------------------------+----------------+ | Red Hat Enterprise Linux 9.5 | PASS | +-------------------------------+----------------+ | Ubuntu 20.04 | PASS | +-------------------------------+----------------+ | Ubuntu 22.04 | PASS | +-------------------------------+----------------+ | Windows Server 2022 | PASS | +-------------------------------+----------------+ CentOS Stream 10 Kernel: 5.15 Compiler: gcc gcc (GCC) 14.2.1 20250110 (Red Hat 14.2.1-8) CentOS Stream 9 Kernel: 5.15 Compiler: gcc gcc (GCC) 11.5.0 20240719 (Red Hat 11.5.0-11) Debian GNU/Linux 12 Kernel: 5.15 Compiler: gcc gcc (Debian 12.2.0-14+deb12u1) 12.2.0 Fedora Linux 40 Kernel: 5.15 Compiler: gcc gcc (GCC) 14.2.1 20240912 (Red Hat 14.2.1-3) Fedora Linux 41 Kernel: 5.15 Compiler: clang gcc (GCC) 14.3.1 20250523 (Red Hat 14.3.1-1) Fedora Linux 42 Kernel: 5.15 Compiler: gcc gcc (GCC) 15.2.1 20250808 (Red Hat 15.2.1-1) Red Hat Enterprise Linux 8.10 Kernel: 5.15 Compiler: gcc gcc (GCC) 8.5.0 20210514 (Red Hat 8.5.0-22) Ubuntu 24.04 Kernel: 5.15 Compiler: gcc gcc (Ubuntu 13.3.0-6ubuntu2~24.04) 13.3.0 Red Hat Enterprise Linux 9.5 Kernel: 5.15 Compiler: gcc gcc (GCC) 11.5.0 20240719 (Red Hat 11.5.0-2) Ubuntu 20.04 Kernel: 5.15 Compiler: gcc gcc (Ubuntu 9.4.0-1ubuntu1~20.04.2) 9.4.0 Ubuntu 22.04 Kernel: 5.15 Compiler: gcc gcc (Ubuntu 11.4.0-1ubuntu1~22.04) 11.4.0 Windows Server 2022 Kernel: 10.0.20348.2031 Compiler: clang 15.0.7, gcc 14.1.0 (MinGW), and MSVC VS 19.39.33521 To view detailed results, visit: https://lab.dpdk.org/results/dashboard/tarballs/35408/ UNH-IOL DPDK Community Lab To manage your email subscriptions, visit: https://lab.dpdk.org/results/dashboard/preferences/subscriptions/