From mboxrd@z Thu Jan 1 00:00:00 1970 Return-Path: Received: from mails.dpdk.org (mails.dpdk.org [217.70.189.124]) by inbox.dpdk.org (Postfix) with ESMTP id A855448A21 for ; Fri, 31 Oct 2025 07:39:10 +0100 (CET) Received: from mails.dpdk.org (localhost [127.0.0.1]) by mails.dpdk.org (Postfix) with ESMTP id 88A124026F; Fri, 31 Oct 2025 07:39:10 +0100 (CET) Received: from mail-il1-f225.google.com (mail-il1-f225.google.com [209.85.166.225]) by mails.dpdk.org (Postfix) with ESMTP id 608854026F for ; Fri, 31 Oct 2025 07:39:09 +0100 (CET) Received: by mail-il1-f225.google.com with SMTP id e9e14a558f8ab-430d098121cso8375045ab.0 for ; Thu, 30 Oct 2025 23:39:09 -0700 (PDT) DKIM-Signature: v=1; a=rsa-sha256; c=relaxed/relaxed; d=iol.unh.edu; s=unh-iol; t=1761892748; x=1762497548; darn=dpdk.org; h=cc:to:from:subject:message-id:date:from:to:cc:subject:date :message-id:reply-to; bh=SoVGD6Ho+UkkncQTTdIUKvm9WRMcID3LtysBn2of5Vw=; b=VYJMMv9W66EomtzSj7rBwXeidpJqvnQBUp9QqCMNp8mDnNO8iU6ZLFrSuebqQK8+0R z/tnWxlCSTOj9ZxTwpmOewwvw1srE7B9hMmzTui7Vbh5VpPG4xcMA9Y1wwdPD2Y4Tly+ ydXVlEd0Jf/tdjKG5WrejkvlPtVBEwShzxcLU= X-Google-DKIM-Signature: v=1; a=rsa-sha256; c=relaxed/relaxed; d=1e100.net; s=20230601; t=1761892748; x=1762497548; h=cc:to:from:subject:message-id:date:x-gm-message-state:from:to:cc :subject:date:message-id:reply-to; bh=SoVGD6Ho+UkkncQTTdIUKvm9WRMcID3LtysBn2of5Vw=; b=R9lLhIswntINUdm3qvr/bBeIp3JcMuiFY7c4D4MECYgC73gntA1ciZTkYqtValgX28 T/+j0NPc73MyIUEl23jbDgXUFODxazl7F0PyFs2U04Nj1GhM14S7rI5CtuV5IRpztzxF txD1WSdQXMSEMu2finy6GcG+vMVaL6Iq5wy76NeFb7kXSNPFyrlDh43XTQHDEDAef8UC AGbf3SlimIUp2MZdMTzkUnCmX4nJQx/DigON/GGVlKqt2+xQHtok5u3Knuf0Ox9dlk2a T3CIX4Wjmb+iYBUgv/SWE926VCYgW3r3dFYmpolom63WUpg9j+CFl/tRXcLVwHaQtEfS IYIg== X-Gm-Message-State: AOJu0YxMzLB7ppl22F/f0ouS/05mKfFvioNiYR/RXv3MzrN4KK6XMq23 gqbUZSdUzvgOnSe8FCZddPlWDJKJfSWGjzeYc7F/KgnoZ3EqM+l3R44RVoy3DD2FNJv3JtTMZLy PlDkgmElu64BUWxfv9/h90kVdy2RqyvO+7Uzn X-Gm-Gg: ASbGncvwpmnz+dP/gd0bj6A5yoaXWLkuJOosScJVt417s/u+hEe755VxNtHj65xE82W pTuM5j2LEVlYS2120/sjYGq8Dzk1a5FLpAguHYp+uGp4eZnvRy//pD20+F0CrNmnj6coGMJLqy4 9Wi214URS2Xc3i4p7CBupmPv9uh/CbwaEOUtHFnLVPF/ylqKRcxvSrkZTsOnddfAxUSEJoH5NGV Wq/fR3cP/MJwRwNvPXXYwWdYrEVXLPaBOSV1UcCgAUrabKozP50QCmffAEeGx0DRG8sIVnjshtO BGgUxIqe3DYPwZYRxqCfw+bREQEs+OcKFqcrF39AaJDZ7d3q/gbGWdYP+FjXdvttYMV7owbpqXf mFk5PX2xJhh2SigMrQhvU2VfuxE1l8OE= X-Google-Smtp-Source: AGHT+IHc4QBqCfK/nv1eQFo6EKsZlrj5TZZeMT4pwwsXQ5UE4Wqx/xbZEKsuIcwBTzEDg1AAJuKl5isNVRng X-Received: by 2002:a05:6e02:2147:b0:430:9104:3894 with SMTP id e9e14a558f8ab-4330d23394bmr36926725ab.30.1761892748555; Thu, 30 Oct 2025 23:39:08 -0700 (PDT) Received: from postal.iol.unh.edu (postal.iol.unh.edu. [132.177.123.84]) by smtp-relay.gmail.com with ESMTPS id 8926c6da1cb9f-5b6a634d822sm88476173.37.2025.10.30.23.39.08 (version=TLS1_2 cipher=ECDHE-ECDSA-AES128-GCM-SHA256 bits=128/128); Thu, 30 Oct 2025 23:39:08 -0700 (PDT) X-Relaying-Domain: iol.unh.edu Date: Thu, 30 Oct 2025 23:39:08 -0700 (PDT) Message-ID: <6904598c.050a0220.9b5ef.48ecSMTPIN_ADDED_MISSING@mx.google.com> Received: from [172.21.0.3] (unknown [172.18.0.240]) by postal.iol.unh.edu (Postfix) with ESMTP id 14B3E6051830; Fri, 31 Oct 2025 02:39:08 -0400 (EDT) Subject: |SUCCESS| [GIT MASTER] 3b43ce3f4a54468e7ef65760c2fd7b4d6ee6d9fc From: dpdklab@iol.unh.edu To: Test Report Cc: dpdk-test-reports@iol.unh.edu, Xueming Li , Christian Ehrhardt , Kevin Traynor , Luca Boccassi Content-Type: text/plain X-BeenThere: test-report@dpdk.org X-Mailman-Version: 2.1.29 Precedence: list List-Id: automatic DPDK test reports List-Unsubscribe: , List-Archive: List-Post: List-Help: List-Subscribe: , Errors-To: test-report-bounces@dpdk.org _Testing PASS_ Branch: tags/v22.11 3b43ce3f4a54468e7ef65760c2fd7b4d6ee6d9fc --> testing pass Upstream job id: Generic-DPDK-Compile-Meson#439550 Test environment and result as below: +-------------------------------+--------------------+-------------------------+----------------------+ | Environment | dpdk_meson_compile | dpdk_llvm_clang_compile | dpdk_mingw64_compile | +===============================+====================+=========================+======================+ | CentOS Stream 9 | PASS | SKIPPED | SKIPPED | +-------------------------------+--------------------+-------------------------+----------------------+ | FreeBSD 14.2 | PASS | SKIPPED | SKIPPED | +-------------------------------+--------------------+-------------------------+----------------------+ | CentOS Stream 10 | PASS | SKIPPED | SKIPPED | +-------------------------------+--------------------+-------------------------+----------------------+ | Ubuntu 20.04 | PASS | SKIPPED | SKIPPED | +-------------------------------+--------------------+-------------------------+----------------------+ | Debian GNU/Linux 12 | PASS | SKIPPED | SKIPPED | +-------------------------------+--------------------+-------------------------+----------------------+ | Fedora Linux 42 | PASS | SKIPPED | SKIPPED | +-------------------------------+--------------------+-------------------------+----------------------+ | openSUSE Leap 15.6 | PASS | SKIPPED | SKIPPED | +-------------------------------+--------------------+-------------------------+----------------------+ | Red Hat Enterprise Linux 8.10 | PASS | SKIPPED | SKIPPED | +-------------------------------+--------------------+-------------------------+----------------------+ | Red Hat Enterprise Linux 9.5 | PASS | SKIPPED | SKIPPED | +-------------------------------+--------------------+-------------------------+----------------------+ | Ubuntu 22.04 | PASS | SKIPPED | SKIPPED | +-------------------------------+--------------------+-------------------------+----------------------+ | Ubuntu 24.04 | PASS | SKIPPED | SKIPPED | +-------------------------------+--------------------+-------------------------+----------------------+ | Windows Server 2022 | SKIPPED | PASS | PASS | +-------------------------------+--------------------+-------------------------+----------------------+ CentOS Stream 9 Kernel: 5.15 Compiler: gcc gcc (GCC) 11.5.0 20240719 (Red Hat 11.5.0-11) FreeBSD 14.2 Kernel: 14.2-RELEASE Compiler: clang 18.1.6 CentOS Stream 10 Kernel: 5.15 Compiler: gcc gcc (GCC) 14.2.1 20250110 (Red Hat 14.2.1-8) Ubuntu 20.04 Kernel: 4.19 Compiler: gcc gcc (Ubuntu 9.4.0-1ubuntu1~20.04.2) 9.4.0 Debian GNU/Linux 12 Kernel: 5.15 Compiler: gcc gcc (Debian 12.2.0-14+deb12u1) 12.2.0 Fedora Linux 42 Kernel: 5.15 Compiler: clang gcc (GCC) 15.2.1 20250808 (Red Hat 15.2.1-1) openSUSE Leap 15.6 Kernel: 5.15 Compiler: gcc gcc (SUSE Linux) 7.5.0 Red Hat Enterprise Linux 8.10 Kernel: 5.15 Compiler: gcc gcc (GCC) 8.5.0 20210514 (Red Hat 8.5.0-22) Red Hat Enterprise Linux 9.5 Kernel: 5.15 Compiler: gcc gcc (GCC) 11.5.0 20240719 (Red Hat 11.5.0-2) Ubuntu 22.04 Kernel: 5.15 Compiler: gcc gcc (Ubuntu 11.4.0-1ubuntu1~22.04) 11.4.0 Ubuntu 24.04 Kernel: 5.15 Compiler: gcc gcc (Ubuntu 13.3.0-6ubuntu2~24.04) 13.3.0 Windows Server 2022 Kernel: 10.0.20348.2031 Compiler: clang 15.0.7, gcc 14.1.0 (MinGW), and MSVC VS 19.39.33521 To view detailed results, visit: https://lab.dpdk.org/results/dashboard/tarballs/35406/ UNH-IOL DPDK Community Lab To manage your email subscriptions, visit: https://lab.dpdk.org/results/dashboard/preferences/subscriptions/