From mboxrd@z Thu Jan 1 00:00:00 1970 Return-Path: Received: from mails.dpdk.org (mails.dpdk.org [217.70.189.124]) by inbox.dpdk.org (Postfix) with ESMTP id 164D548A21 for ; Fri, 31 Oct 2025 07:43:39 +0100 (CET) Received: from mails.dpdk.org (localhost [127.0.0.1]) by mails.dpdk.org (Postfix) with ESMTP id 147374026F; Fri, 31 Oct 2025 07:43:39 +0100 (CET) Received: from mail-pl1-f225.google.com (mail-pl1-f225.google.com [209.85.214.225]) by mails.dpdk.org (Postfix) with ESMTP id 8874F4026F for ; Fri, 31 Oct 2025 07:43:37 +0100 (CET) Received: by mail-pl1-f225.google.com with SMTP id d9443c01a7336-290aaff555eso17330345ad.2 for ; Thu, 30 Oct 2025 23:43:37 -0700 (PDT) DKIM-Signature: v=1; a=rsa-sha256; c=relaxed/relaxed; d=iol.unh.edu; s=unh-iol; t=1761893017; x=1762497817; darn=dpdk.org; h=references:in-reply-to:cc:to:from:subject:message-id:date:from:to :cc:subject:date:message-id:reply-to; bh=d7gL7eDwhHyU8zfyn5ny++aeDR0isgMsOC8jigdWAU4=; b=W6d9yX6knGUf8Pod1HN/sbVfOhbIcrR7ApLA9gekHsC002zHT5Mu/Q2YauSrRVzbga sRKGGtid9K0hQM1jfxDpV6WKmuPXB23YO2ohKUdxxLbYGHkLHy+hRUNeL8YDiH8IiMz3 23yQlW5QCZy8mttXD8wFkLbOhw43IVlBftntM= X-Google-DKIM-Signature: v=1; a=rsa-sha256; c=relaxed/relaxed; d=1e100.net; s=20230601; t=1761893017; x=1762497817; h=references:in-reply-to:cc:to:from:subject:message-id:date :x-gm-message-state:from:to:cc:subject:date:message-id:reply-to; bh=d7gL7eDwhHyU8zfyn5ny++aeDR0isgMsOC8jigdWAU4=; b=lxpB0YQEILOxxkEwgYdQTBOC3YEec1AZKkJtl6QwaPimUIRqYkJwNXaD/vpjSbf1L4 IMySOSNcCzpGLnHV8SND6WFGeXy8MfHbiopNGbXMZex0EDPd8sdeLQffXewYO4lWgXmc tNfvh10asuRBTpqsY6OWdvW0uhawWQuYN3wTbJ6pXKb0iK8Y9H+BQPIsXqwJ5uOtZYhP ww0juNkOD0AJODA6FgXnI3mi6NNWvI0Aht8IyfILTzHFXKs6+P/d4YzLk4zxYVRZgD5e x2aywbPxEPGQ5AZfp185vF8O5nlhHK1o4jw3u2DshS98eyQFd7HrPSsgbzqwqzmwvIS7 h1LQ== X-Gm-Message-State: AOJu0Yzu/MxIHMwZN6yGjM+CE4drQTVGwKEfhUcI0t5iBlAcc5m4kDqo qFgkfF+eyiG0Q0NzZGhsfBUc6mLzDLXFqXuJdtstl3uPfSe6FR+Sgl/bHYERYDXUz+jSa0Q6d4S GR2q2btLySZMLlS7fv/iYCsyKo+Tk9XtAq9XcrHFP+M4aYIIwVhl5SV5ziHBj X-Gm-Gg: ASbGncssDDzmAtKX9W6VyVkv/9Njac5KcINsPs47O9wiS2rTH8cp0FfHLZnsGbx5mgx bwpoEfpEbJF7EQdIWeRyNYpZfB3FXX+1ZGSucrKZ5bAtRSecCukloGUxzsz6T2p1pICnsBDoyb/ F+r4mf1jOjRVliRdwneXWAKT/LwSsWkfItiS8dTYINndWARSf0GfF2ddz64k0uJEfHLNOZTBNHP 80FUMSyijD39eHdpQruMPuf1alrJ1qmMPuRiyN/EddDYQ50QbeIr/GEoCTZ7UE2LM0OSw0NS3sZ CE3pNCI6az7lHE+IR/fO3kJ901fF1GbgyvTtJzsD4Yd2WhB9HoXoeRclLievTeagMITPBXkrYv+ 9XW/50tBx X-Google-Smtp-Source: AGHT+IHsCQfvH0npsXyZegkfJHmX/nN9rQzMFArp452ahhvNVbde2yXnDtqXJc0Yya4qrS1eRpR6lkGeKccg X-Received: by 2002:a17:902:d505:b0:24c:965a:f94d with SMTP id d9443c01a7336-2951a486843mr34719285ad.46.1761893016692; Thu, 30 Oct 2025 23:43:36 -0700 (PDT) Received: from postal.iol.unh.edu (postal.iol.unh.edu. [2606:4100:3880:1234::84]) by smtp-relay.gmail.com with ESMTPS id 98e67ed59e1d1-3407b30934bsm188555a91.0.2025.10.30.23.43.36 (version=TLS1_2 cipher=ECDHE-ECDSA-AES128-GCM-SHA256 bits=128/128); Thu, 30 Oct 2025 23:43:36 -0700 (PDT) X-Relaying-Domain: iol.unh.edu Date: Thu, 30 Oct 2025 23:43:36 -0700 (PDT) Message-ID: <69045a98.170a0220.1b4f62.a2e7SMTPIN_ADDED_MISSING@mx.google.com> Received: from [172.21.0.4] (unknown [172.18.0.240]) by postal.iol.unh.edu (Postfix) with ESMTP id 215E66051830; Fri, 31 Oct 2025 02:43:36 -0400 (EDT) Subject: |SUCCESS| pw158307-158309 [PATCH] [v4,4/4] net/tap: configure link c From: dpdklab@iol.unh.edu To: Test Report Cc: dpdk-test-reports@iol.unh.edu, Stephen Hemminger In-Reply-To: <20251030175537.219641-11-rjarry@redhat.com> References: <20251030175537.219641-11-rjarry@redhat.com> Content-Type: text/plain X-BeenThere: test-report@dpdk.org X-Mailman-Version: 2.1.29 Precedence: list List-Id: automatic DPDK test reports List-Unsubscribe: , List-Archive: List-Post: List-Help: List-Subscribe: , Errors-To: test-report-bounces@dpdk.org Test-Label: iol-unit-arm64-testing Test-Status: SUCCESS http://dpdk.org/patch/158309 _Testing PASS_ Submitter: Robin Jarry Date: Thursday, October 30 2025 17:55:43 DPDK git baseline: Repo:dpdk-next-net Branch: master CommitID:bd9b8a264598adb8e50c1e9e5fe97e75b6009db9 158307-158309 --> testing pass Upstream job id: Generic-Unit-Test-DPDK#387074 Test environment and result as below: +------------------------------+----------------+--------------+------------------------------+---------------------------+ | Environment | dpdk_unit_test | lpm_autotest | cryptodev_sw_snow3g_autotest | cryptodev_sw_zuc_autotest | +==============================+================+==============+==============================+===========================+ | CentOS Stream 10 | PASS | SKIPPED | SKIPPED | SKIPPED | +------------------------------+----------------+--------------+------------------------------+---------------------------+ | CentOS Stream 9 | PASS | SKIPPED | SKIPPED | SKIPPED | +------------------------------+----------------+--------------+------------------------------+---------------------------+ | Debian GNU/Linux 12 | PASS | SKIPPED | SKIPPED | SKIPPED | +------------------------------+----------------+--------------+------------------------------+---------------------------+ | Fedora Linux 40 | PASS | SKIPPED | SKIPPED | SKIPPED | +------------------------------+----------------+--------------+------------------------------+---------------------------+ | Fedora Linux 41 | PASS | SKIPPED | SKIPPED | SKIPPED | +------------------------------+----------------+--------------+------------------------------+---------------------------+ | Red Hat Enterprise Linux 9.5 | PASS | SKIPPED | SKIPPED | SKIPPED | +------------------------------+----------------+--------------+------------------------------+---------------------------+ | Fedora Linux 42 | PASS | SKIPPED | SKIPPED | SKIPPED | +------------------------------+----------------+--------------+------------------------------+---------------------------+ | Ubuntu 20.04 | PASS | PASS | SKIPPED | SKIPPED | +------------------------------+----------------+--------------+------------------------------+---------------------------+ | Ubuntu 24.04 | PASS | SKIPPED | SKIPPED | SKIPPED | +------------------------------+----------------+--------------+------------------------------+---------------------------+ | Ubuntu 22.04 | PASS | SKIPPED | SKIPPED | SKIPPED | +------------------------------+----------------+--------------+------------------------------+---------------------------+ | Debian 12 (arm) | SKIPPED | SKIPPED | PASS | PASS | +------------------------------+----------------+--------------+------------------------------+---------------------------+ CentOS Stream 10 Kernel: 5.4 Compiler: gcc gcc (GCC) 14.2.1 20250110 (Red Hat 14.2.1-8) CentOS Stream 9 Kernel: 5.4 Compiler: gcc gcc (GCC) 11.5.0 20240719 (Red Hat 11.5.0-11) Debian GNU/Linux 12 Kernel: 5.4 Compiler: gcc gcc (Debian 12.2.0-14+deb12u1) 12.2.0 Fedora Linux 40 Kernel: 5.4 Compiler: gcc gcc (GCC) 14.2.1 20240912 (Red Hat 14.2.1-3) Fedora Linux 41 Kernel: 5.4 Compiler: gcc gcc (GCC) 14.3.1 20250523 (Red Hat 14.3.1-1) Red Hat Enterprise Linux 9.5 Kernel: 5.4 Compiler: gcc gcc (GCC) 11.5.0 20240719 (Red Hat 11.5.0-2) Fedora Linux 42 Kernel: 5.4 Compiler: clang gcc (GCC) 15.2.1 20250808 (Red Hat 15.2.1-1) Ubuntu 20.04 Kernel: 5.4 Compiler: gcc gcc (Ubuntu 9.4.0-1ubuntu1~20.04.2) 9.4.0 Ubuntu 24.04 Kernel: 5.4 Compiler: gcc gcc (Ubuntu 13.3.0-6ubuntu2~24.04) 13.3.0 Ubuntu 22.04 Kernel: 5.4 Compiler: gcc gcc (Ubuntu 11.4.0-1ubuntu1~22.04) 11.4.0 Debian 12 (arm) Kernel: Depends on container host Compiler: gcc (Debian 12.2.0-14) 12.2.0 To view detailed results, visit: https://lab.dpdk.org/results/dashboard/patchsets/34425/ UNH-IOL DPDK Community Lab To manage your email subscriptions, visit: https://lab.dpdk.org/results/dashboard/preferences/subscriptions/