From mboxrd@z Thu Jan 1 00:00:00 1970 Return-Path: Received: from mails.dpdk.org (mails.dpdk.org [217.70.189.124]) by inbox.dpdk.org (Postfix) with ESMTP id DC63148A24 for ; Fri, 31 Oct 2025 08:29:00 +0100 (CET) Received: from mails.dpdk.org (localhost [127.0.0.1]) by mails.dpdk.org (Postfix) with ESMTP id B1C224026F; Fri, 31 Oct 2025 08:29:00 +0100 (CET) Received: from mail-pj1-f98.google.com (mail-pj1-f98.google.com [209.85.216.98]) by mails.dpdk.org (Postfix) with ESMTP id 11F4F4026F for ; Fri, 31 Oct 2025 08:28:59 +0100 (CET) Received: by mail-pj1-f98.google.com with SMTP id 98e67ed59e1d1-339d7c403b6so1897559a91.2 for ; Fri, 31 Oct 2025 00:28:58 -0700 (PDT) DKIM-Signature: v=1; a=rsa-sha256; c=relaxed/relaxed; d=iol.unh.edu; s=unh-iol; t=1761895738; x=1762500538; darn=dpdk.org; h=references:in-reply-to:cc:to:from:subject:message-id:date:from:to :cc:subject:date:message-id:reply-to; bh=eQE7nE6EIsoq9+xcmdYURZc7FAqMk8BhUltDoeRAyHY=; b=Lda8ux3LDuwcDVw0axLyguWaVZVmP2zOQTAHU+ENEmSQUQ+onDt5bICd7vYDQ1YZMP 1diMmX2WHC5n//cxAQjv6EGglgCyZXMGF7fsC4O11x1mYQBZl8NOZt8627FIEp3CXFyt 9IPZG1xWUdp9yryz2u2Tzq07M2DTF/GbY0cTU= X-Google-DKIM-Signature: v=1; a=rsa-sha256; c=relaxed/relaxed; d=1e100.net; s=20230601; t=1761895738; x=1762500538; h=references:in-reply-to:cc:to:from:subject:message-id:date :x-gm-message-state:from:to:cc:subject:date:message-id:reply-to; bh=eQE7nE6EIsoq9+xcmdYURZc7FAqMk8BhUltDoeRAyHY=; b=LfnLSHle8utm32gkqS2Ee5toemEU3ZSTachUeKGZwhbIxegJL0kHz7ZvF4Hdc2PMMO VSTRZTLX6C6I1UpJFUdNuQx7YvvWAggS9vC4fvx6PfyPdtwar8Jy+YQm+waoK7C3uvIt exanIPtD5y614z4Xcq9ft6MIt8GdeVSo9l1lKk4GhiDWJn3ylBPuOAHvhcN28ZSExDs8 47KtliRy1g8Log3x0V879lYyGcAT+KRg2gp9SWJiuMxoIoL7hG19u4ol6rlvpsf+9y7b PIm/1TUaf7fN8ymLUF3S8aCWqv/3tkj5NP4TtnghmClabDOPD183RMZTGJuWLjavXQyv qQdQ== X-Gm-Message-State: AOJu0YxEdLWrUMcTmViBN61Vxl5O1Y0MYI5IEvev4PeKdadMJgLmYbms lPZ6P1AqfRGpHkbruHpaNRcThd3XYw+dsbcj/Tijb2lqmZo3T/XVK3w28xkqyTCjheZMmLtgb4N /KKmtU746313fiDmtOkrOX6fJHlpkZQIrH09XqZh5nOtXGT8ZgIpl+gPIWovK X-Gm-Gg: ASbGncsTRyIiomx1x7qjfBIoL969TDkOssn8BdF6v9+yGBHq+kSDQJqqIU5Nr7nhhyA F7pktiX+arsC8Mij/Y3pCAPNOTDkUZwi6SvLeK+3Iy/T9LK/NXDUL2OywVEw776B2iU6aKWPisQ MqeuKaCwGxdZeQowiLdp/qRdvy8EQBQl9bctH6fT2MYmEV+Z73X7bse04Qj9sVpn43fZzAAffSe dBi5rLO+u758M8WYKCU+72VmxEcVOQc2Wti7Nyi50SxdYFjs8cx2FV5cL0hyfBQKAZVUjyX7Wv0 bbzwjKpnIpZX7HhRRmTIgP2cvIF/ZfVkktM6xKyKIHWJhebvprCb8tSoVwhw5qGWJsavFeFm6n5 79unviMO5 X-Google-Smtp-Source: AGHT+IHyF2nOZS3xhGz1n+33kEow7X2BV9ZWFLOJTAyEDlZYLC+jhzpqCn2B5AiYQMVXlmMkk2nZDWlVkYXI X-Received: by 2002:a17:90b:5150:b0:335:228c:6f1f with SMTP id 98e67ed59e1d1-34082fc9de8mr4089354a91.12.1761895738123; Fri, 31 Oct 2025 00:28:58 -0700 (PDT) Received: from postal.iol.unh.edu (postal.iol.unh.edu. [2606:4100:3880:1234::84]) by smtp-relay.gmail.com with ESMTPS id 98e67ed59e1d1-34092692192sm84918a91.1.2025.10.31.00.28.58 (version=TLS1_2 cipher=ECDHE-ECDSA-AES128-GCM-SHA256 bits=128/128); Fri, 31 Oct 2025 00:28:58 -0700 (PDT) X-Relaying-Domain: iol.unh.edu Date: Fri, 31 Oct 2025 00:28:58 -0700 (PDT) Message-ID: <6904653a.170a0220.be819.46e3SMTPIN_ADDED_MISSING@mx.google.com> Received: from [172.21.0.2] (unknown [172.18.0.240]) by postal.iol.unh.edu (Postfix) with ESMTP id 683486051830; Fri, 31 Oct 2025 03:28:57 -0400 (EDT) Subject: |WARNING| pw158313 [PATCH] [v3] app/testpmd: fix devargs format in p From: dpdklab@iol.unh.edu To: Test Report Cc: dpdk-test-reports@iol.unh.edu, Stephen Hemminger In-Reply-To: <20251031061816.333400-1-getelson@nvidia.com> References: <20251031061816.333400-1-getelson@nvidia.com> Content-Type: text/plain X-BeenThere: test-report@dpdk.org X-Mailman-Version: 2.1.29 Precedence: list List-Id: automatic DPDK test reports List-Unsubscribe: , List-Archive: List-Post: List-Help: List-Subscribe: , Errors-To: test-report-bounces@dpdk.org Test-Label: iol-compile-amd64-testing Test-Status: WARNING http://dpdk.org/patch/158313 _Testing issues_ Submitter: Gregory Etelson Date: Friday, October 31 2025 06:18:16 DPDK git baseline: Repo:dpdk-next-net Branch: master CommitID:5d2900b5b1a9da68c19d53d3f8e1075bee0a5f47 158313 --> testing issues Upstream job id: Generic-DPDK-Compile-Meson#439554 Test environment and result as below: +-------------------------------+--------------------+-------------------+------------------+-------------------------+-------------------+----------------------+ | Environment | dpdk_meson_compile | dpdk_compile_spdk | dpdk_compile_ovs | dpdk_llvm_clang_compile | dpdk_msvc_compile | dpdk_mingw64_compile | +===============================+====================+===================+==================+=========================+===================+======================+ | CentOS Stream 9 | PASS | WARN | SKIPPED | SKIPPED | SKIPPED | SKIPPED | +-------------------------------+--------------------+-------------------+------------------+-------------------------+-------------------+----------------------+ | CentOS Stream 10 | PASS | SKIPPED | SKIPPED | SKIPPED | SKIPPED | SKIPPED | +-------------------------------+--------------------+-------------------+------------------+-------------------------+-------------------+----------------------+ | Debian GNU/Linux 12 | PASS | WARN | SKIPPED | SKIPPED | SKIPPED | SKIPPED | +-------------------------------+--------------------+-------------------+------------------+-------------------------+-------------------+----------------------+ | Fedora Linux 42 | PASS | WARN | PASS | SKIPPED | SKIPPED | SKIPPED | +-------------------------------+--------------------+-------------------+------------------+-------------------------+-------------------+----------------------+ | openSUSE Leap 15.6 | PASS | SKIPPED | SKIPPED | SKIPPED | SKIPPED | SKIPPED | +-------------------------------+--------------------+-------------------+------------------+-------------------------+-------------------+----------------------+ | Ubuntu 20.04 | PASS | SKIPPED | SKIPPED | SKIPPED | SKIPPED | SKIPPED | +-------------------------------+--------------------+-------------------+------------------+-------------------------+-------------------+----------------------+ | Red Hat Enterprise Linux 8.10 | PASS | SKIPPED | SKIPPED | SKIPPED | SKIPPED | SKIPPED | +-------------------------------+--------------------+-------------------+------------------+-------------------------+-------------------+----------------------+ | Red Hat Enterprise Linux 9.5 | PASS | SKIPPED | SKIPPED | SKIPPED | SKIPPED | SKIPPED | +-------------------------------+--------------------+-------------------+------------------+-------------------------+-------------------+----------------------+ | Ubuntu 22.04 | PASS | WARN | SKIPPED | SKIPPED | SKIPPED | SKIPPED | +-------------------------------+--------------------+-------------------+------------------+-------------------------+-------------------+----------------------+ | FreeBSD 14.2 | PASS | SKIPPED | SKIPPED | SKIPPED | SKIPPED | SKIPPED | +-------------------------------+--------------------+-------------------+------------------+-------------------------+-------------------+----------------------+ | Ubuntu 24.04 | PASS | WARN | PASS | SKIPPED | SKIPPED | SKIPPED | +-------------------------------+--------------------+-------------------+------------------+-------------------------+-------------------+----------------------+ | Alpine Linux 3.22.0 | PASS | SKIPPED | SKIPPED | SKIPPED | SKIPPED | SKIPPED | +-------------------------------+--------------------+-------------------+------------------+-------------------------+-------------------+----------------------+ | Windows Server 2022 | SKIPPED | SKIPPED | SKIPPED | PASS | PASS | PASS | +-------------------------------+--------------------+-------------------+------------------+-------------------------+-------------------+----------------------+ ==== 20 line log output for Ubuntu 24.04 (dpdk_compile_spdk): ==== --- Failed to get log output --- ==== End log output ==== CentOS Stream 9 Kernel: 5.15 Compiler: gcc gcc (GCC) 11.5.0 20240719 (Red Hat 11.5.0-11) CentOS Stream 10 Kernel: 5.15 Compiler: gcc gcc (GCC) 14.2.1 20250110 (Red Hat 14.2.1-8) Debian GNU/Linux 12 Kernel: 5.15 Compiler: gcc gcc (Debian 12.2.0-14+deb12u1) 12.2.0 Fedora Linux 42 Kernel: 5.15 Compiler: clang gcc (GCC) 15.2.1 20250808 (Red Hat 15.2.1-1) openSUSE Leap 15.6 Kernel: 5.15 Compiler: gcc gcc (SUSE Linux) 7.5.0 Ubuntu 20.04 Kernel: 4.19 Compiler: gcc gcc (Ubuntu 9.4.0-1ubuntu1~20.04.2) 9.4.0 Red Hat Enterprise Linux 8.10 Kernel: 5.15 Compiler: gcc gcc (GCC) 8.5.0 20210514 (Red Hat 8.5.0-22) Red Hat Enterprise Linux 9.5 Kernel: 5.15 Compiler: gcc gcc (GCC) 11.5.0 20240719 (Red Hat 11.5.0-2) Ubuntu 22.04 Kernel: 5.15 Compiler: gcc gcc (Ubuntu 11.4.0-1ubuntu1~22.04) 11.4.0 FreeBSD 14.2 Kernel: 14.2-RELEASE Compiler: clang 18.1.6 Ubuntu 24.04 Kernel: 5.15 Compiler: gcc gcc (Ubuntu 13.3.0-6ubuntu2~24.04) 13.3.0 Alpine Linux 3.22.0 Kernel: 5.15 Compiler: gcc gcc (Alpine 14.2.0) 14.2.0 Windows Server 2022 Kernel: 10.0.20348.2031 Compiler: clang 15.0.7, gcc 14.1.0 (MinGW), and MSVC VS 19.39.33521 To view detailed results, visit: https://lab.dpdk.org/results/dashboard/patchsets/34429/ UNH-IOL DPDK Community Lab To manage your email subscriptions, visit: https://lab.dpdk.org/results/dashboard/preferences/subscriptions/