From mboxrd@z Thu Jan 1 00:00:00 1970 Return-Path: Received: from mails.dpdk.org (mails.dpdk.org [217.70.189.124]) by inbox.dpdk.org (Postfix) with ESMTP id E444F48A42 for ; Fri, 31 Oct 2025 08:50:25 +0100 (CET) Received: from mails.dpdk.org (localhost [127.0.0.1]) by mails.dpdk.org (Postfix) with ESMTP id DD4134026F; Fri, 31 Oct 2025 08:50:25 +0100 (CET) Received: from mail-oo1-f98.google.com (mail-oo1-f98.google.com [209.85.161.98]) by mails.dpdk.org (Postfix) with ESMTP id 3C3B54026F for ; Fri, 31 Oct 2025 08:50:24 +0100 (CET) Received: by mail-oo1-f98.google.com with SMTP id 006d021491bc7-654ecc2af8eso474988eaf.1 for ; Fri, 31 Oct 2025 00:50:24 -0700 (PDT) DKIM-Signature: v=1; a=rsa-sha256; c=relaxed/relaxed; d=iol.unh.edu; s=unh-iol; t=1761897023; x=1762501823; darn=dpdk.org; h=references:in-reply-to:cc:to:from:subject:message-id:date:from:to :cc:subject:date:message-id:reply-to; bh=sGa1XUtKFmR07DzXmqiXLOWAZKPxNFX03eBK0n3N+DM=; b=YZ8N3XjfK4BA+wXRM0la/jvzuEvbAVJh0xZBSHbF64HY1JOeZn3WSeNzTvNhlMWYkE MNv/2WnlByVOj8bOfpDTeAqglNnr15Al+Z21A6xeDCD87oskEBRUK+yVxG0CuQLMcO2O 50xqpDlkFPK9ZPU2wNeguz3G9+3l69/TCEcgo= X-Google-DKIM-Signature: v=1; a=rsa-sha256; c=relaxed/relaxed; d=1e100.net; s=20230601; t=1761897023; x=1762501823; h=references:in-reply-to:cc:to:from:subject:message-id:date :x-gm-message-state:from:to:cc:subject:date:message-id:reply-to; bh=sGa1XUtKFmR07DzXmqiXLOWAZKPxNFX03eBK0n3N+DM=; b=Ghl0kGHLAgd+4z8NIkJHG2XpY2z94g3Fk/GeYTAnwSJ7E11eezsVbA4u45AOMM1Xvc xYheimEr1vkD3VZRXi9Mdb0YtKZ4lWim45oSB+uItKOAARgR/tYB6g32Ee+HKcbzN0xf KWFjs4rniKZwkGDSk+bKBnICGdc41iEsLmSCiF4+DQOkapwPv+oAW6dmSUNHMt1zvDu9 ZiGVF/RBBxicfMKMtCCrukRE9DAhwMCBnShEctWIz+lNCtHTAD+W5sx5J5qlqomMB6Ti k7lQotDhY1Cfef8hlbVF+aRkXg08RsOkFvpb8B5+Ox8QQ0LHeE01JArmVRLu4LAK0AaY fkpA== X-Gm-Message-State: AOJu0YwIKSkgrGCV4wGxLwv8cjIQqd+R1eMcwuQYO9ZlbXdFfiUJRlgp GF5EVfMmz+oFc8sucSkPWVpG6sVywO2h+LW/oqNFXl+Nn4d+UqxiZojR82MvCKXiPKb7HUEuppc rB9Q0D3C3pe+VBqWyH4AXMCiDFGQEXWsu2cN8YZBEt5kDApmXC1z3QxBCdc+o X-Gm-Gg: ASbGncvHrH4bnB2WRnDN3K/lQcKR8p9+/Fb7Nu7NutCUTtYUU41NrExYTKGUvrmwwgu 1YAwhGnSho+/i5gCHozcmWdX7oz/eeix01mXyJ2X/IE4IKhJ1R6ZgfkuazQlhbgGnN5UOzSt4g0 R9o6807G4dGAwWLx3TqtZV9AbOf33BTwaZ5A5Hh0JjFNsg9IWcyQ2yg4XXSwmMgtbEvA/ki5bYE /Y+gGM44nDwbAs5b1iXu9cugTRpUWTezo1Ar3KROLKMegbaCnWS2B/hHw9q3hGDlH3iwcXDIiZA SrMSURRRe3c73DToXr8+mdIgWEMK1AQ7+KauebwpV6GxqkA3wiiTK0Q+Eey1JSvcz0w3mXVoTy2 f1K4S9v+P X-Google-Smtp-Source: AGHT+IFBKr18ifbn/cT3VeACTEEC5t9BZM8OAC/5+Mrp9aXf07mE80MFJYTHz46oD9uS21gBbCz7sz3Tt3gY X-Received: by 2002:a05:6871:240a:b0:3c9:aae4:7c25 with SMTP id 586e51a60fabf-3dacc1c4bf8mr1004302fac.24.1761897023344; Fri, 31 Oct 2025 00:50:23 -0700 (PDT) Received: from postal.iol.unh.edu (postal.iol.unh.edu. [2606:4100:3880:1234::84]) by smtp-relay.gmail.com with ESMTPS id 586e51a60fabf-3db3efac2a1sm94270fac.3.2025.10.31.00.50.23 (version=TLS1_2 cipher=ECDHE-ECDSA-AES128-GCM-SHA256 bits=128/128); Fri, 31 Oct 2025 00:50:23 -0700 (PDT) X-Relaying-Domain: iol.unh.edu Date: Fri, 31 Oct 2025 00:50:23 -0700 (PDT) Message-ID: <69046a3f.050a0220.3483f5.4a5bSMTPIN_ADDED_MISSING@mx.google.com> Received: from [172.21.0.2] (unknown [172.18.0.240]) by postal.iol.unh.edu (Postfix) with ESMTP id D98986051830; Fri, 31 Oct 2025 03:50:22 -0400 (EDT) Subject: |SUCCESS| pw158305-158306 [PATCH] [2/2] test/hash: reduce time of fu From: dpdklab@iol.unh.edu To: Test Report Cc: dpdk-test-reports@iol.unh.edu In-Reply-To: <20251030175329.4041960-3-thomas@monjalon.net> References: <20251030175329.4041960-3-thomas@monjalon.net> Content-Type: text/plain X-BeenThere: test-report@dpdk.org X-Mailman-Version: 2.1.29 Precedence: list List-Id: automatic DPDK test reports List-Unsubscribe: , List-Archive: List-Post: List-Help: List-Subscribe: , Errors-To: test-report-bounces@dpdk.org Test-Label: iol-unit-arm64-testing Test-Status: SUCCESS http://dpdk.org/patch/158306 _Testing PASS_ Submitter: Thomas Monjalon Date: Thursday, October 30 2025 17:50:12 DPDK git baseline: Repo:dpdk Branch: master CommitID:39b54f2dcf44ad1f91eabc7080cd5dea763607fd 158305-158306 --> testing pass Upstream job id: Generic-Unit-Test-DPDK#387113 Test environment and result as below: +------------------------------+----------------+--------------+---------------------------+------------------------------+ | Environment | dpdk_unit_test | lpm_autotest | cryptodev_sw_zuc_autotest | cryptodev_sw_snow3g_autotest | +==============================+================+==============+===========================+==============================+ | CentOS Stream 9 | PASS | SKIPPED | SKIPPED | SKIPPED | +------------------------------+----------------+--------------+---------------------------+------------------------------+ | Fedora Linux 40 | PASS | SKIPPED | SKIPPED | SKIPPED | +------------------------------+----------------+--------------+---------------------------+------------------------------+ | Debian GNU/Linux 12 | PASS | SKIPPED | SKIPPED | SKIPPED | +------------------------------+----------------+--------------+---------------------------+------------------------------+ | CentOS Stream 10 | PASS | SKIPPED | SKIPPED | SKIPPED | +------------------------------+----------------+--------------+---------------------------+------------------------------+ | Fedora Linux 41 | PASS | SKIPPED | SKIPPED | SKIPPED | +------------------------------+----------------+--------------+---------------------------+------------------------------+ | Fedora Linux 42 | PASS | SKIPPED | SKIPPED | SKIPPED | +------------------------------+----------------+--------------+---------------------------+------------------------------+ | Red Hat Enterprise Linux 9.5 | PASS | SKIPPED | SKIPPED | SKIPPED | +------------------------------+----------------+--------------+---------------------------+------------------------------+ | Ubuntu 20.04 | PASS | PASS | SKIPPED | SKIPPED | +------------------------------+----------------+--------------+---------------------------+------------------------------+ | Ubuntu 22.04 | PASS | SKIPPED | SKIPPED | SKIPPED | +------------------------------+----------------+--------------+---------------------------+------------------------------+ | Ubuntu 24.04 | PASS | SKIPPED | SKIPPED | SKIPPED | +------------------------------+----------------+--------------+---------------------------+------------------------------+ | Debian 12 (arm) | SKIPPED | SKIPPED | PASS | PASS | +------------------------------+----------------+--------------+---------------------------+------------------------------+ CentOS Stream 9 Kernel: 5.4 Compiler: gcc gcc (GCC) 11.5.0 20240719 (Red Hat 11.5.0-11) Fedora Linux 40 Kernel: 5.4 Compiler: gcc gcc (GCC) 14.2.1 20240912 (Red Hat 14.2.1-3) Debian GNU/Linux 12 Kernel: 5.4 Compiler: gcc gcc (Debian 12.2.0-14+deb12u1) 12.2.0 CentOS Stream 10 Kernel: 5.4 Compiler: gcc gcc (GCC) 14.2.1 20250110 (Red Hat 14.2.1-8) Fedora Linux 41 Kernel: 5.4 Compiler: clang gcc (GCC) 14.3.1 20250523 (Red Hat 14.3.1-1) Fedora Linux 42 Kernel: 5.4 Compiler: gcc gcc (GCC) 15.2.1 20250808 (Red Hat 15.2.1-1) Red Hat Enterprise Linux 9.5 Kernel: 5.4 Compiler: gcc gcc (GCC) 11.5.0 20240719 (Red Hat 11.5.0-2) Ubuntu 20.04 Kernel: 5.4 Compiler: gcc gcc (Ubuntu 9.4.0-1ubuntu1~20.04.2) 9.4.0 Ubuntu 22.04 Kernel: 5.4 Compiler: gcc gcc (Ubuntu 11.4.0-1ubuntu1~22.04) 11.4.0 Ubuntu 24.04 Kernel: 5.4 Compiler: gcc gcc (Ubuntu 13.3.0-6ubuntu2~24.04) 13.3.0 Debian 12 (arm) Kernel: Depends on container host Compiler: gcc (Debian 12.2.0-14) 12.2.0 To view detailed results, visit: https://lab.dpdk.org/results/dashboard/patchsets/34426/ UNH-IOL DPDK Community Lab To manage your email subscriptions, visit: https://lab.dpdk.org/results/dashboard/preferences/subscriptions/