From mboxrd@z Thu Jan 1 00:00:00 1970 Return-Path: Received: from mails.dpdk.org (mails.dpdk.org [217.70.189.124]) by inbox.dpdk.org (Postfix) with ESMTP id 30B4648A1C for ; Fri, 31 Oct 2025 10:31:29 +0100 (CET) Received: from mails.dpdk.org (localhost [127.0.0.1]) by mails.dpdk.org (Postfix) with ESMTP id 071B240270; Fri, 31 Oct 2025 10:31:29 +0100 (CET) Received: from mail-yx1-f100.google.com (mail-yx1-f100.google.com [74.125.224.100]) by mails.dpdk.org (Postfix) with ESMTP id 92A8140270 for ; Fri, 31 Oct 2025 10:31:27 +0100 (CET) Received: by mail-yx1-f100.google.com with SMTP id 956f58d0204a3-63f97ab5cfcso389976d50.0 for ; Fri, 31 Oct 2025 02:31:27 -0700 (PDT) DKIM-Signature: v=1; a=rsa-sha256; c=relaxed/relaxed; d=iol.unh.edu; s=unh-iol; t=1761903087; x=1762507887; darn=dpdk.org; h=references:in-reply-to:cc:to:from:subject:message-id:date:from:to :cc:subject:date:message-id:reply-to; bh=IKlimBUIEYeENFGNPU3PJdaQ/sj/YeQGEB29jZtScYo=; b=gEIrvlI3hn5PioU+pv6ZVH0YEbeK/hWCuaaoo7zkOW/Ejfhc9pIVDUrGEltmZkBQqA +cWRuT4MYKdyEw/N16x7RFhBS63WSkNqbLnY7PIyenAPXJRctuKFB6xxzpM6abbTcqyB f6Ut4rrkce/ap1Dn1PR+SbJJpsD+SPFFkUNkE= X-Google-DKIM-Signature: v=1; a=rsa-sha256; c=relaxed/relaxed; d=1e100.net; s=20230601; t=1761903087; x=1762507887; h=references:in-reply-to:cc:to:from:subject:message-id:date :x-gm-message-state:from:to:cc:subject:date:message-id:reply-to; bh=IKlimBUIEYeENFGNPU3PJdaQ/sj/YeQGEB29jZtScYo=; b=rwqcuWLN8EFRTVNq2wnojF1LmdEndHw8eoQo2+Gc4A1267HU2sQy7x3ik2tSiE6DZX ydRlPrZSn2WT5UfZoVY/ONFlpMv7MJ+RtSlnkZ7co0YNTKIoNnQyykYidjRl2e4Ns2XJ PDb2iuyXe7IcL/bbmyMnBPay8r8T+fYGaZCTD4GkDnljn4yuDt/w6bdcCo+Z2CUtzKnB s8Y8ay+rwW+Jhgmdg6cz42LPDaLe+SQ66a6gOws3yo4/mxxBKVqwx59d6QFwbTX+HjPe lGrOH8geVlvRx7LB8ySfI9yvX+kK26bCW2ziv/Pfn/ZolAKJhZIJDltjwIiqzM1+3KnR e7ug== X-Gm-Message-State: AOJu0Yz4JNjWrArYer2pnfCVszlbkIZ0QAK1fcQlpbasPoc23UXHqV8A AV1UgEbrXjdGYVsCXR6NMmW4zzzk4ryCPix96I0wNeB1iLxVG7OggrGHu2F9BxbEGMO+0SzDfI1 gFOSbgDnd1f/rIsKPxsprY/lSzn0XY2Fq6Mh6ySDRMADqPz2zIgj2gYFlsd// X-Gm-Gg: ASbGnctolXthT0FwhsB6Xdf8OPWKBD11lshdcN0N0/Dg0IUQH0XR4AuxDErw7x+NcRo PBZ5VzWw/XXOO3ipC9P4fOLo3ZqbDHiv0kBed33zxa0a73CTtacwnL/7afTF0ReinzUBduzNk+b 9Upg+x5Whfc6dyMPBbY3m6EIi0g8JEHKKF+wyHpbDtPNlQlUpmlj5VXHXN04ebr7dyIs4aMhhwA pU865PBUdAaYOxJMhxm9sE3KOaTGz92uOaPCIjDCBWAl06gBLLaTfqN9EU70KTTx+GiLa/PSFA7 rzZF5Wr/Y0HBgP8CoyFT3+8WjdcgrjD8bptsyU7Cr3Hzl58oAL0IY2pVcCZ57L7PGIctqGOwPXl AdBBi20u+ X-Google-Smtp-Source: AGHT+IH7/QG+2I825CXx/PMhHx/rrgG1wBz2C9WQt/GVl07kb8ebm04V3EK3yUgAXw7VI0kS2SNrHil/rx3u X-Received: by 2002:a53:e7c2:0:b0:63e:2b26:a8ad with SMTP id 956f58d0204a3-63f922ee8famr1595537d50.38.1761903086669; Fri, 31 Oct 2025 02:31:26 -0700 (PDT) Received: from postal.iol.unh.edu (postal.iol.unh.edu. [2606:4100:3880:1234::84]) by smtp-relay.gmail.com with ESMTPS id 956f58d0204a3-63f9675c93csm62337d50.4.2025.10.31.02.31.26 (version=TLS1_2 cipher=ECDHE-ECDSA-AES128-GCM-SHA256 bits=128/128); Fri, 31 Oct 2025 02:31:26 -0700 (PDT) X-Relaying-Domain: iol.unh.edu Date: Fri, 31 Oct 2025 02:31:26 -0700 (PDT) Message-ID: <690481ee.530a0220.29ea0.316dSMTPIN_ADDED_MISSING@mx.google.com> Received: from [172.21.0.2] (unknown [172.18.0.240]) by postal.iol.unh.edu (Postfix) with ESMTP id 16B6D60003F4; Fri, 31 Oct 2025 05:31:26 -0400 (EDT) Subject: |SUCCESS| pw158311 [PATCH] [v1,1/1] net/nbl: use hardware MAC addres From: dpdklab@iol.unh.edu To: Test Report Cc: dpdk-test-reports@iol.unh.edu, Stephen Hemminger In-Reply-To: <20251031014417.3424934-2-dimon.zhao@nebula-matrix.com> References: <20251031014417.3424934-2-dimon.zhao@nebula-matrix.com> Content-Type: text/plain X-BeenThere: test-report@dpdk.org X-Mailman-Version: 2.1.29 Precedence: list List-Id: automatic DPDK test reports List-Unsubscribe: , List-Archive: List-Post: List-Help: List-Subscribe: , Errors-To: test-report-bounces@dpdk.org Test-Label: iol-unit-arm64-testing Test-Status: SUCCESS http://dpdk.org/patch/158311 _Testing PASS_ Submitter: Dimon Zhao Date: Friday, October 31 2025 01:44:16 DPDK git baseline: Repo:dpdk-next-net Branch: master CommitID:5d2900b5b1a9da68c19d53d3f8e1075bee0a5f47 158311 --> testing pass Upstream job id: Generic-Unit-Test-DPDK#387124 Test environment and result as below: +------------------------------+---------------------------+--------------+----------------+------------------------------+ | Environment | cryptodev_sw_zuc_autotest | lpm_autotest | dpdk_unit_test | cryptodev_sw_snow3g_autotest | +==============================+===========================+==============+================+==============================+ | Debian 12 (arm) | PASS | SKIPPED | SKIPPED | PASS | +------------------------------+---------------------------+--------------+----------------+------------------------------+ | Ubuntu 20.04 | SKIPPED | PASS | PASS | SKIPPED | +------------------------------+---------------------------+--------------+----------------+------------------------------+ | CentOS Stream 9 | SKIPPED | SKIPPED | PASS | SKIPPED | +------------------------------+---------------------------+--------------+----------------+------------------------------+ | CentOS Stream 10 | SKIPPED | SKIPPED | PASS | SKIPPED | +------------------------------+---------------------------+--------------+----------------+------------------------------+ | Fedora Linux 40 | SKIPPED | SKIPPED | PASS | SKIPPED | +------------------------------+---------------------------+--------------+----------------+------------------------------+ | Debian GNU/Linux 12 | SKIPPED | SKIPPED | PASS | SKIPPED | +------------------------------+---------------------------+--------------+----------------+------------------------------+ | Fedora Linux 41 | SKIPPED | SKIPPED | PASS | SKIPPED | +------------------------------+---------------------------+--------------+----------------+------------------------------+ | Fedora Linux 42 | SKIPPED | SKIPPED | PASS | SKIPPED | +------------------------------+---------------------------+--------------+----------------+------------------------------+ | Ubuntu 22.04 | SKIPPED | SKIPPED | PASS | SKIPPED | +------------------------------+---------------------------+--------------+----------------+------------------------------+ | Red Hat Enterprise Linux 9.5 | SKIPPED | SKIPPED | PASS | SKIPPED | +------------------------------+---------------------------+--------------+----------------+------------------------------+ | Ubuntu 24.04 | SKIPPED | SKIPPED | PASS | SKIPPED | +------------------------------+---------------------------+--------------+----------------+------------------------------+ Debian 12 (arm) Kernel: Depends on container host Compiler: gcc (Debian 12.2.0-14) 12.2.0 Ubuntu 20.04 Kernel: 5.4 Compiler: gcc gcc (Ubuntu 9.4.0-1ubuntu1~20.04.2) 9.4.0 CentOS Stream 9 Kernel: 5.4 Compiler: gcc gcc (GCC) 11.5.0 20240719 (Red Hat 11.5.0-11) CentOS Stream 10 Kernel: 5.4 Compiler: gcc gcc (GCC) 14.2.1 20250110 (Red Hat 14.2.1-8) Fedora Linux 40 Kernel: 5.4 Compiler: clang gcc (GCC) 14.2.1 20240912 (Red Hat 14.2.1-3) Debian GNU/Linux 12 Kernel: 5.4 Compiler: gcc gcc (Debian 12.2.0-14+deb12u1) 12.2.0 Fedora Linux 41 Kernel: 5.4 Compiler: clang gcc (GCC) 14.3.1 20250523 (Red Hat 14.3.1-1) Fedora Linux 42 Kernel: 5.4 Compiler: clang gcc (GCC) 15.2.1 20250808 (Red Hat 15.2.1-1) Ubuntu 22.04 Kernel: 5.4 Compiler: gcc gcc (Ubuntu 11.4.0-1ubuntu1~22.04) 11.4.0 Red Hat Enterprise Linux 9.5 Kernel: 5.4 Compiler: gcc gcc (GCC) 11.5.0 20240719 (Red Hat 11.5.0-2) Ubuntu 24.04 Kernel: 5.4 Compiler: gcc gcc (Ubuntu 13.3.0-6ubuntu2~24.04) 13.3.0 To view detailed results, visit: https://lab.dpdk.org/results/dashboard/patchsets/34427/ UNH-IOL DPDK Community Lab To manage your email subscriptions, visit: https://lab.dpdk.org/results/dashboard/preferences/subscriptions/