From mboxrd@z Thu Jan 1 00:00:00 1970 Return-Path: Received: from mails.dpdk.org (mails.dpdk.org [217.70.189.124]) by inbox.dpdk.org (Postfix) with ESMTP id 9F09448A42 for ; Fri, 31 Oct 2025 10:52:12 +0100 (CET) Received: from mails.dpdk.org (localhost [127.0.0.1]) by mails.dpdk.org (Postfix) with ESMTP id 98FCC402EE; Fri, 31 Oct 2025 10:52:12 +0100 (CET) Received: from mail-qv1-f99.google.com (mail-qv1-f99.google.com [209.85.219.99]) by mails.dpdk.org (Postfix) with ESMTP id 3563740270 for ; Fri, 31 Oct 2025 10:52:11 +0100 (CET) Received: by mail-qv1-f99.google.com with SMTP id 6a1803df08f44-88022546bc4so11935586d6.1 for ; Fri, 31 Oct 2025 02:52:11 -0700 (PDT) DKIM-Signature: v=1; a=rsa-sha256; c=relaxed/relaxed; d=iol.unh.edu; s=unh-iol; t=1761904330; x=1762509130; darn=dpdk.org; h=cc:to:from:subject:message-id:date:from:to:cc:subject:date :message-id:reply-to; bh=g1irNyq/+foEOVqyFqE6Hl6l1EFK4+vRv3uRkhwJhhU=; b=QGYbiqLPrJGag6vSh1upr1x3RqK6zPD5YK0zM/DHAK4Yjze2xp2WtVf8kBz7mKSKrF knv2sqAWWDgNjyZG/n8tmbH95Qj5cLRBuDcivq43MXtPZSM2FZoCOcAKUtUgd7D8buZs ycWsuNQODoxJV2oKdtjwikWzzto1azdJjYUEw= X-Google-DKIM-Signature: v=1; a=rsa-sha256; c=relaxed/relaxed; d=1e100.net; s=20230601; t=1761904330; x=1762509130; h=cc:to:from:subject:message-id:date:x-gm-message-state:from:to:cc :subject:date:message-id:reply-to; bh=g1irNyq/+foEOVqyFqE6Hl6l1EFK4+vRv3uRkhwJhhU=; b=Cqkd1j0XWwPPPEZWJyNNcbIG0v0HsnirQQN2eXcJFYQHr/JqoeTY7I/XJSZ/cBeiy8 dg9TjvP3QZ/1i2dvtpdAQB5KXkQamaIejng72m3lMYlhlJPbTVnoxWC453pqjnrctrUs AsV9OhEHBWDwqxmjpIa5z00VIGjmceiug8UDKGWAjrbQh43P5bTfHSHK2kTc88Z926Zm ghTpTWiJQ3tJicisdrXEfFkmBbJDpObnKtCznKCzbytGj+wE3VHJfikmu1d5Eaohxb5f Tb3iQTGYvjRiKtJACCe0cgATC8swRG81aeE0yKEhhdMWZF2RmFyBahygFhXatVZ09SBU fx+A== X-Gm-Message-State: AOJu0YzLNy5Xj+4YdLxuKqKli0uHyLON9/b0swlV/hNsv5BAfIerzzrf zEG9uzMVmZ6lODp2jep264UG/RHySUVGxKN6hLkep+uaN2u7NALiHUDuMvYT7rM/cTgYoTTEI0y m6ZaWeEnAQ2sdA/2UOAmh3nHKvvs3suHYsUdg X-Gm-Gg: ASbGncvkp8HD+I3Kyv2iU8C/NV0veYXiPG9chHkhWR4dKK/2TvgIeRug5XvdheA0HKl Ucbzq4kQ0PmGHPHXBt9h+AKPF2GkeeitcdJ+Aa8qNqLnm8Cv8SGei6V7qSdSsout8d6xkPuvKtK GNX+vFNLUqVcvhp0+HNBh5Z3TBrD1xFdEAh3lEr9Tvy8yxdh05/UdgOjSvFCPKBtifme0SisEE9 nSCyuEZWy4FwTF3aymXGY4cK3dqtIOBvRlbm9BT12dFieqXJIN15+Dv5PQyuYOGNTSL4H9iiHW4 QTZodGeeMfR7OobEdv68xp3xNXnDh1mZrXHDcrnGlvBchSoxV9098i4+RmY/3qHcGV7nqezgLpd joISwhI89YQHx4c7n7N34e46vq987Jio= X-Google-Smtp-Source: AGHT+IHn6CHYiD/OlM/WVhlJ3JXJ31Efk/ZOvdCBRSnksdoPzNvL15HD/qHUnqNM3Ncf+7iHaqxLSJ4GUPo2 X-Received: by 2002:ad4:5baf:0:b0:768:f173:a0a1 with SMTP id 6a1803df08f44-8802f47469fmr35834246d6.42.1761904330492; Fri, 31 Oct 2025 02:52:10 -0700 (PDT) Received: from postal.iol.unh.edu (postal.iol.unh.edu. [132.177.123.84]) by smtp-relay.gmail.com with ESMTPS id 6a1803df08f44-880362c5fb3sm1204926d6.21.2025.10.31.02.52.10 (version=TLS1_2 cipher=ECDHE-ECDSA-AES128-GCM-SHA256 bits=128/128); Fri, 31 Oct 2025 02:52:10 -0700 (PDT) X-Relaying-Domain: iol.unh.edu Date: Fri, 31 Oct 2025 02:52:10 -0700 (PDT) Message-ID: <690486ca.050a0220.17b9ed.62b0SMTPIN_ADDED_MISSING@mx.google.com> Received: from [172.21.0.2] (unknown [172.18.0.240]) by postal.iol.unh.edu (Postfix) with ESMTP id EF2086051830; Fri, 31 Oct 2025 05:52:09 -0400 (EDT) Subject: |SUCCESS| [GIT MASTER] b287e404643aeab5bb5db084c142789df187844e From: dpdklab@iol.unh.edu To: Test Report Cc: dpdk-test-reports@iol.unh.edu, Xueming Li , Christian Ehrhardt , Kevin Traynor , Luca Boccassi Content-Type: text/plain X-BeenThere: test-report@dpdk.org X-Mailman-Version: 2.1.29 Precedence: list List-Id: automatic DPDK test reports List-Unsubscribe: , List-Archive: List-Post: List-Help: List-Subscribe: , Errors-To: test-report-bounces@dpdk.org _Testing PASS_ Branch: tags/v24.11 b287e404643aeab5bb5db084c142789df187844e --> testing pass Upstream job id: Generic-DPDK-Compile-Meson#439520 Test environment and result as below: +------------------------------+--------------------+ | Environment | dpdk_meson_compile | +==============================+====================+ | Ubuntu 20.04 | PASS | +------------------------------+--------------------+ | Debian GNU/Linux 12 | PASS | +------------------------------+--------------------+ | Fedora Linux 42 | PASS | +------------------------------+--------------------+ | Ubuntu 22.04 | PASS | +------------------------------+--------------------+ | Red Hat Enterprise Linux 9.5 | PASS | +------------------------------+--------------------+ | Ubuntu 24.04 | PASS | +------------------------------+--------------------+ | CentOS Stream 9 | PASS | +------------------------------+--------------------+ | CentOS Stream 10 | PASS | +------------------------------+--------------------+ Ubuntu 20.04 Kernel: 5.15 Compiler: aarch64-linux-gnu-gcc gcc (Ubuntu 9.4.0-1ubuntu1~20.04.2) 9.4.0 Debian GNU/Linux 12 Kernel: 5.4 Compiler: gcc gcc (Debian 12.2.0-14+deb12u1) 12.2.0 Fedora Linux 42 Kernel: 5.4 Compiler: clang gcc (GCC) 15.2.1 20250808 (Red Hat 15.2.1-1) Ubuntu 22.04 Kernel: 5.4 Compiler: gcc gcc (Ubuntu 11.4.0-1ubuntu1~22.04) 11.4.0 Red Hat Enterprise Linux 9.5 Kernel: 5.4 Compiler: gcc gcc (GCC) 11.5.0 20240719 (Red Hat 11.5.0-2) Ubuntu 24.04 Kernel: 5.4 Compiler: gcc gcc (Ubuntu 13.3.0-6ubuntu2~24.04) 13.3.0 CentOS Stream 9 Kernel: 5.4 Compiler: gcc gcc (GCC) 11.5.0 20240719 (Red Hat 11.5.0-11) CentOS Stream 10 Kernel: 5.4 Compiler: gcc gcc (GCC) 14.2.1 20250110 (Red Hat 14.2.1-8) To view detailed results, visit: https://lab.dpdk.org/results/dashboard/tarballs/35408/ UNH-IOL DPDK Community Lab To manage your email subscriptions, visit: https://lab.dpdk.org/results/dashboard/preferences/subscriptions/