From mboxrd@z Thu Jan 1 00:00:00 1970 Return-Path: Received: from mails.dpdk.org (mails.dpdk.org [217.70.189.124]) by inbox.dpdk.org (Postfix) with ESMTP id 3A3E448A42 for ; Fri, 31 Oct 2025 11:11:11 +0100 (CET) Received: from mails.dpdk.org (localhost [127.0.0.1]) by mails.dpdk.org (Postfix) with ESMTP id 2910140270; Fri, 31 Oct 2025 11:11:11 +0100 (CET) Received: from mail-pf1-f227.google.com (mail-pf1-f227.google.com [209.85.210.227]) by mails.dpdk.org (Postfix) with ESMTP id 5F87F40270 for ; Fri, 31 Oct 2025 11:11:09 +0100 (CET) Received: by mail-pf1-f227.google.com with SMTP id d2e1a72fcca58-7a59ec9bef4so2693559b3a.2 for ; Fri, 31 Oct 2025 03:11:09 -0700 (PDT) DKIM-Signature: v=1; a=rsa-sha256; c=relaxed/relaxed; d=iol.unh.edu; s=unh-iol; t=1761905468; x=1762510268; darn=dpdk.org; h=references:in-reply-to:cc:to:from:subject:message-id:date:from:to :cc:subject:date:message-id:reply-to; bh=ZDJl+6WpnJiTwri0xfwtwat2zNrlIPlNKYOXAmUmmwY=; b=EyRUXBKx/J1bCYX/E7bHOQIaOPY3meDRovhzX328WJGGB5CCS8e+bpx235W7rAPT95 9k3CPYDsmw1W9AxRfgTqY+50a5g46zgN3uS4hytgoJmVmfL1oawNiL+wfs/A2+zEGan9 kNABnRU3rRl7K+5OEDjdKJ88tZKXu4fgjtHiw= X-Google-DKIM-Signature: v=1; a=rsa-sha256; c=relaxed/relaxed; d=1e100.net; s=20230601; t=1761905468; x=1762510268; h=references:in-reply-to:cc:to:from:subject:message-id:date :x-gm-message-state:from:to:cc:subject:date:message-id:reply-to; bh=ZDJl+6WpnJiTwri0xfwtwat2zNrlIPlNKYOXAmUmmwY=; b=P7CiM1Em/P1HDmAzEpvg+g/hASQm/flwQG995rBjdghL5ZlqTMdIBb0G78KF8v77v5 Z52YNcIWMfxSzxVH4goXT6yoKD0TZ38b+Tp5zDbnBaFkyxtRzPoCZGgWzVbAMHA/EVES VTtrRUO2+4OAEzREgKFwcbiMG3eDPQBJnJUOmc45WYgiDhOAlQ5rPd0cwtEeTCsemBPC KQOw9zidRhzLKysmzl21uCQnoG2zKqMOsTB0m7qBWk9Vw3HXMD32SMBKepOlUT0TWmBq Zvj+ALzcLlrWT6h+ciplT4fIJKQ9KmckEEF/ytS8VdEOLKM+J2hQ43vsXJ8RD1Wt17Cz HbyA== X-Gm-Message-State: AOJu0YwqFr4xyik5gWm2mX7bdJ43LA+wGH2aDoHnyh0lnq6UA8ObvXg2 gJqUMLL6PHeFpH/3OKrJsCKm3kA29vyoOXkaQ83buRuUCpa4tEKbupfFdmAA0CeayVzQSS+PClX H2tE3xzCgr/YMN18BftT7s+q7PRmNTr+n9H1ndumSLyxaPCCahCBtawrAnCtw X-Gm-Gg: ASbGncsEmKdBE18o/akxHksYMdfKm5H4YU4jt/0EjXVmZor0hRwy0pvbUtspFArS3Pw 386F8ERXMzTepM8ZhM4Qs3RvIzWZIR2lHfr1JK9q3srC5xmA7pvUtruIXKzsX1fe15xdNxBiXNY DdR3Uvqh7rCBReIC3qJ4QGR+5aV2/zMBxe0pD2SD5hLfpl1rz2qZba6Ne4SYh2ve+u5dMGXVEb9 Q2Qy+9S02+gJtqGKyAyo7jLEcdXLByoz+lrlnTs7p8NGcFMRHy5ZfLGIhva8ro4zEMII9Z10jzE NDeqXcNIVQ8HnIHxiKXJw2HGtc8mfwebiWHibXH96uALrczjcvnzkzVRLi5rV+GBoOnQfMsa0KD PgroEm/CW X-Google-Smtp-Source: AGHT+IFV2RTER9lxTKgLgZcv8fMQHDTEQGF4IV94Z3CQpBDmmEbnZ+GYqVPYK64e60V0BKvCL6V8ht/gTMzO X-Received: by 2002:a05:6300:218c:b0:334:a901:c052 with SMTP id adf61e73a8af0-348c76c466amr4208451637.0.1761905468162; Fri, 31 Oct 2025 03:11:08 -0700 (PDT) Received: from postal.iol.unh.edu (postal.iol.unh.edu. [2606:4100:3880:1234::84]) by smtp-relay.gmail.com with ESMTPS id 41be03b00d2f7-b93b88b5369sm98409a12.8.2025.10.31.03.11.08 (version=TLS1_2 cipher=ECDHE-ECDSA-AES128-GCM-SHA256 bits=128/128); Fri, 31 Oct 2025 03:11:08 -0700 (PDT) X-Relaying-Domain: iol.unh.edu Date: Fri, 31 Oct 2025 03:11:08 -0700 (PDT) Message-ID: <69048b3c.630a0220.273b59.514bSMTPIN_ADDED_MISSING@mx.google.com> Received: from [172.21.0.2] (unknown [172.18.0.240]) by postal.iol.unh.edu (Postfix) with ESMTP id 653BE6051830; Fri, 31 Oct 2025 06:11:07 -0400 (EDT) Subject: |SUCCESS| pw158313 [PATCH] [v3] app/testpmd: fix devargs format in p From: dpdklab@iol.unh.edu To: Test Report Cc: dpdk-test-reports@iol.unh.edu, Stephen Hemminger In-Reply-To: <20251031061816.333400-1-getelson@nvidia.com> References: <20251031061816.333400-1-getelson@nvidia.com> Content-Type: text/plain X-BeenThere: test-report@dpdk.org X-Mailman-Version: 2.1.29 Precedence: list List-Id: automatic DPDK test reports List-Unsubscribe: , List-Archive: List-Post: List-Help: List-Subscribe: , Errors-To: test-report-bounces@dpdk.org Test-Label: iol-compile-arm64-testing Test-Status: SUCCESS http://dpdk.org/patch/158313 _Testing PASS_ Submitter: Gregory Etelson Date: Friday, October 31 2025 06:18:16 DPDK git baseline: Repo:dpdk-next-net Branch: master CommitID:5d2900b5b1a9da68c19d53d3f8e1075bee0a5f47 158313 --> testing pass Upstream job id: Generic-DPDK-Compile-Meson#439569 Test environment and result as below: +------------------------------+--------------------+ | Environment | dpdk_meson_compile | +==============================+====================+ | Red Hat Enterprise Linux 9.5 | PASS | +------------------------------+--------------------+ | Ubuntu 20.04 | PASS | +------------------------------+--------------------+ | Fedora Linux 42 | PASS | +------------------------------+--------------------+ | Debian GNU/Linux 12 | PASS | +------------------------------+--------------------+ | Ubuntu 22.04 | PASS | +------------------------------+--------------------+ | Ubuntu 24.04 | PASS | +------------------------------+--------------------+ | CentOS Stream 9 | PASS | +------------------------------+--------------------+ | CentOS Stream 10 | PASS | +------------------------------+--------------------+ Red Hat Enterprise Linux 9.5 Kernel: 5.4 Compiler: gcc gcc (GCC) 11.5.0 20240719 (Red Hat 11.5.0-2) Ubuntu 20.04 Kernel: 5.15 Compiler: aarch64-linux-gnu-gcc gcc (Ubuntu 9.4.0-1ubuntu1~20.04.2) 9.4.0 Fedora Linux 42 Kernel: 5.4 Compiler: gcc gcc (GCC) 15.2.1 20250808 (Red Hat 15.2.1-1) Debian GNU/Linux 12 Kernel: 5.4 Compiler: gcc gcc (Debian 12.2.0-14+deb12u1) 12.2.0 Ubuntu 22.04 Kernel: 5.4 Compiler: gcc gcc (Ubuntu 11.4.0-1ubuntu1~22.04) 11.4.0 Ubuntu 24.04 Kernel: 5.4 Compiler: gcc gcc (Ubuntu 13.3.0-6ubuntu2~24.04) 13.3.0 CentOS Stream 9 Kernel: 5.4 Compiler: gcc gcc (GCC) 11.5.0 20240719 (Red Hat 11.5.0-11) CentOS Stream 10 Kernel: 5.4 Compiler: gcc gcc (GCC) 14.2.1 20250110 (Red Hat 14.2.1-8) To view detailed results, visit: https://lab.dpdk.org/results/dashboard/patchsets/34429/ UNH-IOL DPDK Community Lab To manage your email subscriptions, visit: https://lab.dpdk.org/results/dashboard/preferences/subscriptions/