From mboxrd@z Thu Jan 1 00:00:00 1970 Return-Path: Received: from mails.dpdk.org (mails.dpdk.org [217.70.189.124]) by inbox.dpdk.org (Postfix) with ESMTP id B7A3C48A42 for ; Fri, 31 Oct 2025 11:16:47 +0100 (CET) Received: from mails.dpdk.org (localhost [127.0.0.1]) by mails.dpdk.org (Postfix) with ESMTP id A222140270; Fri, 31 Oct 2025 11:16:47 +0100 (CET) Received: from mail-pl1-f227.google.com (mail-pl1-f227.google.com [209.85.214.227]) by mails.dpdk.org (Postfix) with ESMTP id 23D5140270 for ; Fri, 31 Oct 2025 11:16:46 +0100 (CET) Received: by mail-pl1-f227.google.com with SMTP id d9443c01a7336-29524abfba3so5563025ad.1 for ; Fri, 31 Oct 2025 03:16:46 -0700 (PDT) DKIM-Signature: v=1; a=rsa-sha256; c=relaxed/relaxed; d=iol.unh.edu; s=unh-iol; t=1761905805; x=1762510605; darn=dpdk.org; h=cc:to:from:subject:message-id:date:from:to:cc:subject:date :message-id:reply-to; bh=KULV4/gNLEgLSM0+9NyKGgB7nSD3YbjRRIAc2Bt8BmE=; b=cwSYux+z58xe0dhMFAbS7/LXZAQ/B9e6rpG1dacdvyqWO/hOnzUzkSWtpl+Wbzj4XC Yr14YhK/YzUF1I23CkLAhOzwRLD5zeRC+eISsC6ohW9Fnet3tid/Rp3mOnrnH6YvRhO8 ChZGkB8JjJUDOm/sApo5CqS8pvuhmO72zg6f0= X-Google-DKIM-Signature: v=1; a=rsa-sha256; c=relaxed/relaxed; d=1e100.net; s=20230601; t=1761905805; x=1762510605; h=cc:to:from:subject:message-id:date:x-gm-message-state:from:to:cc :subject:date:message-id:reply-to; bh=KULV4/gNLEgLSM0+9NyKGgB7nSD3YbjRRIAc2Bt8BmE=; b=poGwtbcD6fEsvpO2rc+VFy65rATjAZUT5huNn+NtOWtZ1PmOGO0oETD5wwkA/qFOTH CnhKK63Tc/EFiyMSWZ4Xd/8htNcJj+zcfKQqy1G3A3MVpgJicfz3V6S3M4OCyrGt07Zs EEp23Hx9UUlKCX0utf2L2eiu4/2l+2BJ4SqYnYVhy30XYv73sWvbp6QbLKmK4vMlYC79 NnJCOCyWk2zzi13fR+COAmDMMeqrb51sY4llYOpE3ybxWdgEeVr/QNS1kQ/qw+yOODSC WB0J1cE+yr0MJVOsQf/55Z/qxhmYTYgLhkSpSl0mtEmqR9lujP9MG31O6Yt3LqGzS27Z ODpQ== X-Gm-Message-State: AOJu0YzGsZLM3hnTMQGbH8woOx4NoeC9+IOUkY3nzXhX932pEK+HLPWC OMneDr/Afu6TW7imALGEfuOPtNt9I5kt6KyXoCrBxy3nXuN2bheBDQBYS2pdsTTOYBavmQtJZMv l1MN69IEY0aqd2ryf9j/NZDXSR1NpCM2njGry X-Gm-Gg: ASbGncvzIiTkrSb3isZcPc4IK8GYeMkgktMOvB1bc6IOkmYy4/RnjMvFHJL65/IyDsb RT7pp9yA91K7Q5FAiI5ZDmz7i96adsYXlvnJgWx6V2w2MLat/c1b6yEMXcnSdcGQGPGj2AFfnYF PtOpyQVj1REo0IqBlEf5/iMx21Tqb3C7IgXM+/12gt/l0NOHqNGbyWxJirk+PVtbOHid4hX9GmX JscnzWHKxSqhqVf3qzVqqyKpfyjn80lf1+/J8QIcPTwhoE3UPZbaFVfetUP02aIjmWAcdw4zup/ 9jOaSJ46BdoF4D9Pfdi2AgWAV5xE7CTm5496VTYgdI6Lq1qdYReXLu345vxO/xVDpAuu0iFcevZ e4bhl5wfpI9VT1omeT9bSju90sP/FJuQ= X-Google-Smtp-Source: AGHT+IHiWDSWkGv64XMwS7qDSCdmXuZxwUjpb6rmujvXzNPVJ52DoRFplR9GThq6+/SleuFV2Kv/54hgRo3X X-Received: by 2002:a17:902:cec4:b0:294:f70d:5e33 with SMTP id d9443c01a7336-2951a3a6503mr44674895ad.12.1761905805220; Fri, 31 Oct 2025 03:16:45 -0700 (PDT) Received: from postal.iol.unh.edu (postal.iol.unh.edu. [132.177.123.84]) by smtp-relay.gmail.com with ESMTPS id d9443c01a7336-2952689c33esm1153185ad.25.2025.10.31.03.16.45 (version=TLS1_2 cipher=ECDHE-ECDSA-AES128-GCM-SHA256 bits=128/128); Fri, 31 Oct 2025 03:16:45 -0700 (PDT) X-Relaying-Domain: iol.unh.edu Date: Fri, 31 Oct 2025 03:16:45 -0700 (PDT) Message-ID: <69048c8d.170a0220.167b1d.5df6SMTPIN_ADDED_MISSING@mx.google.com> Received: from [172.21.0.2] (unknown [172.18.0.240]) by postal.iol.unh.edu (Postfix) with ESMTP id 93FA86051830; Fri, 31 Oct 2025 06:16:44 -0400 (EDT) Subject: |SUCCESS| [GIT MASTER] 3b43ce3f4a54468e7ef65760c2fd7b4d6ee6d9fc From: dpdklab@iol.unh.edu To: Test Report Cc: dpdk-test-reports@iol.unh.edu, Xueming Li , Christian Ehrhardt , Kevin Traynor , Luca Boccassi Content-Type: text/plain X-BeenThere: test-report@dpdk.org X-Mailman-Version: 2.1.29 Precedence: list List-Id: automatic DPDK test reports List-Unsubscribe: , List-Archive: List-Post: List-Help: List-Subscribe: , Errors-To: test-report-bounces@dpdk.org _Testing PASS_ Branch: tags/v22.11 3b43ce3f4a54468e7ef65760c2fd7b4d6ee6d9fc --> testing pass Upstream job id: Generic-DPDK-Compile-Meson#439547 Test environment and result as below: +------------------------------+--------------------+ | Environment | dpdk_meson_compile | +==============================+====================+ | Red Hat Enterprise Linux 9.5 | PASS | +------------------------------+--------------------+ | Ubuntu 20.04 | PASS | +------------------------------+--------------------+ | Debian GNU/Linux 12 | PASS | +------------------------------+--------------------+ | Fedora Linux 42 | PASS | +------------------------------+--------------------+ | Ubuntu 22.04 | PASS | +------------------------------+--------------------+ | Ubuntu 24.04 | PASS | +------------------------------+--------------------+ | CentOS Stream 9 | PASS | +------------------------------+--------------------+ | CentOS Stream 10 | PASS | +------------------------------+--------------------+ Red Hat Enterprise Linux 9.5 Kernel: 5.4 Compiler: gcc gcc (GCC) 11.5.0 20240719 (Red Hat 11.5.0-2) Ubuntu 20.04 Kernel: 5.15 Compiler: aarch64-linux-gnu-gcc gcc (Ubuntu 9.4.0-1ubuntu1~20.04.2) 9.4.0 Debian GNU/Linux 12 Kernel: 5.4 Compiler: gcc gcc (Debian 12.2.0-14+deb12u1) 12.2.0 Fedora Linux 42 Kernel: 5.4 Compiler: gcc gcc (GCC) 15.2.1 20250808 (Red Hat 15.2.1-1) Ubuntu 22.04 Kernel: 5.4 Compiler: gcc gcc (Ubuntu 11.4.0-1ubuntu1~22.04) 11.4.0 Ubuntu 24.04 Kernel: 5.4 Compiler: gcc gcc (Ubuntu 13.3.0-6ubuntu2~24.04) 13.3.0 CentOS Stream 9 Kernel: 5.4 Compiler: gcc gcc (GCC) 11.5.0 20240719 (Red Hat 11.5.0-11) CentOS Stream 10 Kernel: 5.4 Compiler: gcc gcc (GCC) 14.2.1 20250110 (Red Hat 14.2.1-8) To view detailed results, visit: https://lab.dpdk.org/results/dashboard/tarballs/35406/ UNH-IOL DPDK Community Lab To manage your email subscriptions, visit: https://lab.dpdk.org/results/dashboard/preferences/subscriptions/