From mboxrd@z Thu Jan 1 00:00:00 1970 Return-Path: Received: from mails.dpdk.org (mails.dpdk.org [217.70.189.124]) by inbox.dpdk.org (Postfix) with ESMTP id 469B448A46 for ; Fri, 31 Oct 2025 13:28:13 +0100 (CET) Received: from mails.dpdk.org (localhost [127.0.0.1]) by mails.dpdk.org (Postfix) with ESMTP id 3270F40609; Fri, 31 Oct 2025 13:28:13 +0100 (CET) Received: from mail-pl1-f225.google.com (mail-pl1-f225.google.com [209.85.214.225]) by mails.dpdk.org (Postfix) with ESMTP id A081740609 for ; Fri, 31 Oct 2025 13:28:12 +0100 (CET) Received: by mail-pl1-f225.google.com with SMTP id d9443c01a7336-2907948c1d2so23363495ad.3 for ; Fri, 31 Oct 2025 05:28:12 -0700 (PDT) DKIM-Signature: v=1; a=rsa-sha256; c=relaxed/relaxed; d=iol.unh.edu; s=unh-iol; t=1761913692; x=1762518492; darn=dpdk.org; h=cc:to:from:subject:message-id:date:from:to:cc:subject:date :message-id:reply-to; bh=EMZ4tbKrs7jvVD0iymLp8yobBqpOvfYzVvWfQ5wLpC4=; b=CPmiwGDMBvztVTqDvJbAxSUcKpixTlUTN7NWkQvTrhZ9AqMxuw145ptKP5PH/DoJV4 0L9Gr13f1pppLfWqXmjTOK+V3qW6IyruI/MO5zJ9ILyB8P5hWv9uo7tiyoPfWHqUV3fq 1pjWe5RM6dyp76PAcJcbBGBR5P4zY94AyjidU= X-Google-DKIM-Signature: v=1; a=rsa-sha256; c=relaxed/relaxed; d=1e100.net; s=20230601; t=1761913692; x=1762518492; h=cc:to:from:subject:message-id:date:x-gm-message-state:from:to:cc :subject:date:message-id:reply-to; bh=EMZ4tbKrs7jvVD0iymLp8yobBqpOvfYzVvWfQ5wLpC4=; b=NULOazbx5dya9VIm0KuTuispRLQ+3qVwRYEYZSEz5DNHVHNe0CtWRKB9Y5QDC4tTSe lyVF8F4GjqxdksWRDtI66Fv9hj0R0hofKMZ9z8xWaOr9FXqcYqGGbwZiXmEVsHxGKud4 /4g3biPdrTGNvup/5j6L6BChG0n9sGPEGV3wXcQFf7OdSl8kYSqcE+70/rBYwjvXmdWb TE/HESBOjCmjJ7IsrfZ1vKkz0Mf3ESzbL987QS5C02Tbkr/NUVYQgSIkY/Mml1ud8rYn grbTDXa1CnVwkUtFbLQGCMs5D1ZiN0MrIKit9agP9S8YAllZpyCjOwYk8z4fqkj0pXGb lxGg== X-Gm-Message-State: AOJu0YzzoGLXg/89qWCZ7I8roCvlI9DnWyggajvgTW8estPs3lF5Wme/ lr8NVflT9npuwydgBkFPwi3yGE7KZvtQ+Ch8oJTDg3/TtkRxniD9U7Qz3dHJ6u1+8hdL3xq9QY3 FiPhf2o7VK1SGLkN6LqPHLyxflIKLc+zogu3NgQRalvsa1z4vWi0R X-Gm-Gg: ASbGncvbIvS088uxqDqllNz55riqGtxTTqCKAvOwtBk1sLFfpxpMiKk1UkLOkPiv4Ip nW92JN4e/SBI8WZ6iQ7dwWMihsWgKCrEH7KZ7YYgv/Zwpyhr9C3OJn/mSVJXmgu57lhjDA1uTat OVOIesev+7W8BpIOCtYzp2VePq/3MYrOGjKN/c2L+OQISJYbDVtfkICcV+/y1RGSssF0p1J/ZR9 QRT7upAED0SbNL76w6XoPMEF49wzBabAk0JDTWWZkWYviOGhMaKwOwlqjp6l/4o3YgpkzX5hY1o wJuaZ0W1q2kBFo6sBX7VsluZ4DCP8ajkwNIlG1Arjj5d72wfjloTb9z58O3xk7ddkZbeLflOGWq sldzJejts X-Google-Smtp-Source: AGHT+IGcHzEeXIeduy9fUoj+X3+E720KzJj6SJGcH/zoZsR2vmRsYBU8pYbcyd+SLUbQuqIz/Buj8QUHkezA X-Received: by 2002:a17:902:cecc:b0:290:d0fb:55ab with SMTP id d9443c01a7336-2951a51866amr45298125ad.50.1761913691623; Fri, 31 Oct 2025 05:28:11 -0700 (PDT) Received: from postal.iol.unh.edu (postal.iol.unh.edu. [2606:4100:3880:1234::84]) by smtp-relay.gmail.com with ESMTPS id d9443c01a7336-29526956379sm1423215ad.37.2025.10.31.05.28.11 (version=TLS1_2 cipher=ECDHE-ECDSA-AES128-GCM-SHA256 bits=128/128); Fri, 31 Oct 2025 05:28:11 -0700 (PDT) X-Relaying-Domain: iol.unh.edu Date: Fri, 31 Oct 2025 05:28:11 -0700 (PDT) Message-ID: <6904ab5b.170a0220.3b8baa.789aSMTPIN_ADDED_MISSING@mx.google.com> Received: from [172.21.0.2] (unknown [172.18.0.240]) by postal.iol.unh.edu (Postfix) with ESMTP id B5AF36051830; Fri, 31 Oct 2025 08:28:10 -0400 (EDT) Subject: |WARNING| [GIT MASTER] 62f583c49bf67dd4d6733ece14e55fe6839e66d1 From: dpdklab@iol.unh.edu To: Test Report Cc: dpdk-test-reports@iol.unh.edu, Xueming Li , Christian Ehrhardt , Kevin Traynor , Luca Boccassi Content-Type: text/plain X-BeenThere: test-report@dpdk.org X-Mailman-Version: 2.1.29 Precedence: list List-Id: automatic DPDK test reports List-Unsubscribe: , List-Archive: List-Post: List-Help: List-Subscribe: , Errors-To: test-report-bounces@dpdk.org _Testing issues_ Branch: tags/v23.11 62f583c49bf67dd4d6733ece14e55fe6839e66d1 --> testing issues Upstream job id: Generic-Unit-Test-DPDK#387208 Test environment and result as below: +------------------------------+----------------+--------------+------------------------------+---------------------------+ | Environment | dpdk_unit_test | lpm_autotest | cryptodev_sw_snow3g_autotest | cryptodev_sw_zuc_autotest | +==============================+================+==============+==============================+===========================+ | CentOS Stream 9 | PASS | SKIPPED | SKIPPED | SKIPPED | +------------------------------+----------------+--------------+------------------------------+---------------------------+ | CentOS Stream 10 | PASS | SKIPPED | SKIPPED | SKIPPED | +------------------------------+----------------+--------------+------------------------------+---------------------------+ | Debian GNU/Linux 12 | PASS | SKIPPED | SKIPPED | SKIPPED | +------------------------------+----------------+--------------+------------------------------+---------------------------+ | Fedora Linux 40 | PASS | SKIPPED | SKIPPED | SKIPPED | +------------------------------+----------------+--------------+------------------------------+---------------------------+ | Fedora Linux 41 | PASS | SKIPPED | SKIPPED | SKIPPED | +------------------------------+----------------+--------------+------------------------------+---------------------------+ | Fedora Linux 42 | PASS | SKIPPED | SKIPPED | SKIPPED | +------------------------------+----------------+--------------+------------------------------+---------------------------+ | Red Hat Enterprise Linux 9.5 | PASS | SKIPPED | SKIPPED | SKIPPED | +------------------------------+----------------+--------------+------------------------------+---------------------------+ | Ubuntu 22.04 | PASS | SKIPPED | SKIPPED | SKIPPED | +------------------------------+----------------+--------------+------------------------------+---------------------------+ | Ubuntu 20.04 | PASS | PASS | SKIPPED | SKIPPED | +------------------------------+----------------+--------------+------------------------------+---------------------------+ | Ubuntu 24.04 | PASS | SKIPPED | SKIPPED | SKIPPED | +------------------------------+----------------+--------------+------------------------------+---------------------------+ | Debian 12 (arm) | SKIPPED | SKIPPED | PASS | PASS | +------------------------------+----------------+--------------+------------------------------+---------------------------+ CentOS Stream 9 Kernel: 5.4 Compiler: gcc gcc (GCC) 11.5.0 20240719 (Red Hat 11.5.0-11) CentOS Stream 10 Kernel: 5.4 Compiler: gcc gcc (GCC) 14.2.1 20250110 (Red Hat 14.2.1-8) Debian GNU/Linux 12 Kernel: 5.4 Compiler: gcc gcc (Debian 12.2.0-14+deb12u1) 12.2.0 Fedora Linux 40 Kernel: 5.4 Compiler: gcc gcc (GCC) 14.2.1 20240912 (Red Hat 14.2.1-3) Fedora Linux 41 Kernel: 5.4 Compiler: gcc gcc (GCC) 14.3.1 20250523 (Red Hat 14.3.1-1) Fedora Linux 42 Kernel: 5.4 Compiler: gcc gcc (GCC) 15.2.1 20250808 (Red Hat 15.2.1-1) Red Hat Enterprise Linux 9.5 Kernel: 5.4 Compiler: gcc gcc (GCC) 11.5.0 20240719 (Red Hat 11.5.0-2) Ubuntu 22.04 Kernel: 5.4 Compiler: gcc gcc (Ubuntu 11.4.0-1ubuntu1~22.04) 11.4.0 Ubuntu 20.04 Kernel: 5.4 Compiler: gcc gcc (Ubuntu 9.4.0-1ubuntu1~20.04.2) 9.4.0 Ubuntu 24.04 Kernel: 5.4 Compiler: gcc gcc (Ubuntu 13.3.0-6ubuntu2~24.04) 13.3.0 Debian 12 (arm) Kernel: Depends on container host Compiler: gcc (Debian 12.2.0-14) 12.2.0 To view detailed results, visit: https://lab.dpdk.org/results/dashboard/tarballs/35407/ UNH-IOL DPDK Community Lab To manage your email subscriptions, visit: https://lab.dpdk.org/results/dashboard/preferences/subscriptions/