From mboxrd@z Thu Jan 1 00:00:00 1970 Return-Path: Received: from mails.dpdk.org (mails.dpdk.org [217.70.189.124]) by inbox.dpdk.org (Postfix) with ESMTP id 312B348A43 for ; Fri, 31 Oct 2025 13:57:03 +0100 (CET) Received: from mails.dpdk.org (localhost [127.0.0.1]) by mails.dpdk.org (Postfix) with ESMTP id F1D3940150; Fri, 31 Oct 2025 13:57:02 +0100 (CET) Received: from mail-pf1-f227.google.com (mail-pf1-f227.google.com [209.85.210.227]) by mails.dpdk.org (Postfix) with ESMTP id AC3E440150 for ; Fri, 31 Oct 2025 13:57:01 +0100 (CET) Received: by mail-pf1-f227.google.com with SMTP id d2e1a72fcca58-78118e163e5so2800974b3a.0 for ; Fri, 31 Oct 2025 05:57:01 -0700 (PDT) DKIM-Signature: v=1; a=rsa-sha256; c=relaxed/relaxed; d=iol.unh.edu; s=unh-iol; t=1761915421; x=1762520221; darn=dpdk.org; h=references:in-reply-to:cc:to:from:subject:message-id:date:from:to :cc:subject:date:message-id:reply-to; bh=EsxaV+U43Jx6KHLkkm3A359N8VrPYqEAgCV3IMZIi/c=; b=XEMEzRDxAtwSOOe3JCzSMfKjKIaGj4g9tqIzZdXzD4ElsapZGyNIDZ4vZNky5jPEc7 xDRnmeXUTeSeyDgBOnHVQ9h0YimTydH7wjwMxrv3hd6B96iyZ8NasdgrlqdREsbIr0AQ TsP9BevvmQ8BuGsb2cTkXlX50tWgutPuDCrsU= X-Google-DKIM-Signature: v=1; a=rsa-sha256; c=relaxed/relaxed; d=1e100.net; s=20230601; t=1761915421; x=1762520221; h=references:in-reply-to:cc:to:from:subject:message-id:date :x-gm-message-state:from:to:cc:subject:date:message-id:reply-to; bh=EsxaV+U43Jx6KHLkkm3A359N8VrPYqEAgCV3IMZIi/c=; b=IrGXw+SLo25xH1OOODKCR+8MSfvocG7BAPGp/t1ymJfiOqOC7sMg5YmpxL6OVrUwAi NgRjiFTARlIBfePu+MeH31oQi4CBRmIOw5OUCr1mQaWogNCFAAVG1QulVIqTNlU/wpA7 OyNpYMQzJEOg17eLfTtdrFHre+jHf1NIPX1f2wG22r7xGFrRlcIBhHqWsp+V4qaesuO2 S7CNBBFmH/LKE3jYtoySTNWugznAyhxSZzKITPDRGwb+lbFngjTR7LD4dqp3UXO+fXHw bKCfa0Ef6uq7H/W3IucNkCfvGR51RsMdnPPBZhw97Xgyl5/PPbbMdZHjCgPYDWCEDAbE Xi8Q== X-Gm-Message-State: AOJu0YyMHcGrXN1bvBIoqF0gj/ymm7M3+qzqkx5lrTR9eZNkaFG9xUxK 7fuwWg0ckrss6CIjbJH+8w+do86OYINJdOU5PQSyLDMKzfrAU3TQ1RHln9qZJFTAaBYoO9wUiBG kQl/d1/aCuTZpzjORfsjsmEIr5P9MDlxwlYsnYb+YtOtIN6Sz3hefDLgjD5AG X-Gm-Gg: ASbGncvSkaZOjTvfKVhh1RUPMdnGVPRZU0/o0eL8vOYIQvSv0tq3kfjRbmvs9n+14W/ PRmjlQ6+6SQJgF0au0jzKZ++zENJlyKsLJpwevn7fLb5iAlMD8Bq0FT3nVBLG2VC1wwgXH5GTVW 0iPr0GhoYtl/C1m0/3IYQcMgoBJD9Vus9EN0ExoTC0rVXl8qO8KPkBBKEvEcAL29/IVP/eSE4Iq x0uDHEgZeYqvA4l2eByT3Xy0IBd9tnJ4+O0mcZMbHoQaSgL1WcuMklzJM0k8gWVHAJiQ0RToU99 BzDqA9+pIzCdBznJTIFtJOvfg7RmVM8lf3Uy0+UU9V8v3ppVZVwglHaGkUy0RHNUsU6gTDupWNF wuOYjHx/j X-Google-Smtp-Source: AGHT+IH7+APIjcXjcT/m8giaK82tHk6irO3KjL6DSYdLPHb3cKQAM80vxcqGWn4dU2OzZy2UC06BZkKB3szw X-Received: by 2002:a17:903:1247:b0:26b:3cb5:a906 with SMTP id d9443c01a7336-294ed26e91fmr92852645ad.16.1761915420716; Fri, 31 Oct 2025 05:57:00 -0700 (PDT) Received: from postal.iol.unh.edu (postal.iol.unh.edu. [2606:4100:3880:1234::84]) by smtp-relay.gmail.com with ESMTPS id d9443c01a7336-2952689b4f9sm1476895ad.18.2025.10.31.05.57.00 (version=TLS1_2 cipher=ECDHE-ECDSA-AES128-GCM-SHA256 bits=128/128); Fri, 31 Oct 2025 05:57:00 -0700 (PDT) X-Relaying-Domain: iol.unh.edu Date: Fri, 31 Oct 2025 05:57:00 -0700 (PDT) Message-ID: <6904b21c.170a0220.234bfe.7bd4SMTPIN_ADDED_MISSING@mx.google.com> Received: from [172.21.0.2] (unknown [172.18.0.240]) by postal.iol.unh.edu (Postfix) with ESMTP id 35B236050A61; Fri, 31 Oct 2025 08:57:00 -0400 (EDT) Subject: |SUCCESS| pw158314 [PATCH] [1/1] test/memcpy: reduce duration From: dpdklab@iol.unh.edu To: Test Report Cc: dpdk-test-reports@iol.unh.edu In-Reply-To: <20251031114310.4062899-1-thomas@monjalon.net> References: <20251031114310.4062899-1-thomas@monjalon.net> Content-Type: text/plain X-BeenThere: test-report@dpdk.org X-Mailman-Version: 2.1.29 Precedence: list List-Id: automatic DPDK test reports List-Unsubscribe: , List-Archive: List-Post: List-Help: List-Subscribe: , Errors-To: test-report-bounces@dpdk.org Test-Label: iol-unit-amd64-testing Test-Status: SUCCESS http://dpdk.org/patch/158314 _Testing PASS_ Submitter: Thomas Monjalon Date: Friday, October 31 2025 11:43:09 DPDK git baseline: Repo:dpdk Branch: master CommitID:8c4861d00aabcf54ef9d6f1df2a4cfb37c06f6c2 158314 --> testing pass Upstream job id: Generic-VM-Unit-Test-DPDK#32201 Test environment and result as below: +-------------------------------+----------------+ | Environment | dpdk_unit_test | +===============================+================+ | Fedora Linux 40 | PASS | +-------------------------------+----------------+ | Fedora Linux 42 | PASS | +-------------------------------+----------------+ | CentOS Stream 10 | PASS | +-------------------------------+----------------+ | Red Hat Enterprise Linux 8.10 | PASS | +-------------------------------+----------------+ | Red Hat Enterprise Linux 9.5 | PASS | +-------------------------------+----------------+ | Ubuntu 20.04 | PASS | +-------------------------------+----------------+ | Debian GNU/Linux 12 | PASS | +-------------------------------+----------------+ | CentOS Stream 9 | PASS | +-------------------------------+----------------+ | Fedora Linux 41 | PASS | +-------------------------------+----------------+ | Ubuntu 24.04 | PASS | +-------------------------------+----------------+ | Ubuntu 22.04 | PASS | +-------------------------------+----------------+ | Windows Server 2022 | PASS | +-------------------------------+----------------+ Fedora Linux 40 Kernel: 5.15 Compiler: gcc gcc (GCC) 14.2.1 20240912 (Red Hat 14.2.1-3) Fedora Linux 42 Kernel: 5.15 Compiler: gcc gcc (GCC) 15.2.1 20250808 (Red Hat 15.2.1-1) CentOS Stream 10 Kernel: 5.15 Compiler: gcc gcc (GCC) 14.2.1 20250110 (Red Hat 14.2.1-8) Red Hat Enterprise Linux 8.10 Kernel: 5.15 Compiler: gcc gcc (GCC) 8.5.0 20210514 (Red Hat 8.5.0-22) Red Hat Enterprise Linux 9.5 Kernel: 5.15 Compiler: gcc gcc (GCC) 11.5.0 20240719 (Red Hat 11.5.0-2) Ubuntu 20.04 Kernel: 5.15 Compiler: gcc gcc (Ubuntu 9.4.0-1ubuntu1~20.04.2) 9.4.0 Debian GNU/Linux 12 Kernel: 5.15 Compiler: gcc gcc (Debian 12.2.0-14+deb12u1) 12.2.0 CentOS Stream 9 Kernel: 5.15 Compiler: gcc gcc (GCC) 11.5.0 20240719 (Red Hat 11.5.0-11) Fedora Linux 41 Kernel: 5.15 Compiler: clang gcc (GCC) 14.3.1 20250523 (Red Hat 14.3.1-1) Ubuntu 24.04 Kernel: 5.15 Compiler: gcc gcc (Ubuntu 13.3.0-6ubuntu2~24.04) 13.3.0 Ubuntu 22.04 Kernel: 5.15 Compiler: gcc gcc (Ubuntu 11.4.0-1ubuntu1~22.04) 11.4.0 Windows Server 2022 Kernel: 10.0.20348.2031 Compiler: clang 15.0.7, gcc 14.1.0 (MinGW), and MSVC VS 19.39.33521 To view detailed results, visit: https://lab.dpdk.org/results/dashboard/patchsets/34430/ UNH-IOL DPDK Community Lab To manage your email subscriptions, visit: https://lab.dpdk.org/results/dashboard/preferences/subscriptions/