From mboxrd@z Thu Jan 1 00:00:00 1970 Return-Path: Received: from mails.dpdk.org (mails.dpdk.org [217.70.189.124]) by inbox.dpdk.org (Postfix) with ESMTP id 2C90348A43 for ; Fri, 31 Oct 2025 13:58:26 +0100 (CET) Received: from mails.dpdk.org (localhost [127.0.0.1]) by mails.dpdk.org (Postfix) with ESMTP id 290CE40150; Fri, 31 Oct 2025 13:58:26 +0100 (CET) Received: from mail-yx1-f99.google.com (mail-yx1-f99.google.com [74.125.224.99]) by mails.dpdk.org (Postfix) with ESMTP id 3E4F340150 for ; Fri, 31 Oct 2025 13:58:25 +0100 (CET) Received: by mail-yx1-f99.google.com with SMTP id 956f58d0204a3-63f97ab5cfcso600441d50.0 for ; Fri, 31 Oct 2025 05:58:25 -0700 (PDT) DKIM-Signature: v=1; a=rsa-sha256; c=relaxed/relaxed; d=iol.unh.edu; s=unh-iol; t=1761915504; x=1762520304; darn=dpdk.org; h=references:in-reply-to:cc:to:from:subject:message-id:date:from:to :cc:subject:date:message-id:reply-to; bh=T62QD6qA0/prvJlu8uQSwXjvPn0a1zFrBX/Qp2YWPPs=; b=cWnWgvrUN3Z4zitiBsZ43iqcNnkwmx7aJPqfyOgQS7U68TRfXar0Z+bpEy1OLTxxLs bHLc726H8DLrNnInCJKOwrsHvStNVO8Zt0SL31nbXLjlqXUjPYA1H2ZgU0i2PGmbtFa0 LeezSd/8pqtzA5ath+bIhgNtPXuzDVM7yeWt0= X-Google-DKIM-Signature: v=1; a=rsa-sha256; c=relaxed/relaxed; d=1e100.net; s=20230601; t=1761915504; x=1762520304; h=references:in-reply-to:cc:to:from:subject:message-id:date :x-gm-message-state:from:to:cc:subject:date:message-id:reply-to; bh=T62QD6qA0/prvJlu8uQSwXjvPn0a1zFrBX/Qp2YWPPs=; b=ZRaX3yAAlKk0v0lSTjJgLzYx2Ul5h0ztwYGP/Yacyg8Io5G/W0rpH9cIVdHKn4b+nY EnNBXrQjR89l3ATZsRVfeT+yOjDZPrUG8++NShsOWr4OV34+K1+4WnkzmRp3SXR9KmPQ SOQszPHWObwBv7hZsF9tgqdftiDtc+Rq5g8qqIHm8YpI3S2/I3nR+VBkmgG4zDhZ7vY4 NxLesyAS2oSNnMdoNWrYDvyOkoyEwq8o5fsRnFwW3ChJoTCuvL3g1osAs7Th+Tfm30I1 Wy1Xl5QR2BkTBY2zpeGXBHrJiQmsCBrmt87FWib5Ge/PW05vZUxXdkJN4Mdas89+wH/6 x0CQ== X-Gm-Message-State: AOJu0YzDULdUKbrKcy8lPDGfyaSsxOtJTFi30O85F4fIyAF61SbvNU0Y 4QnFFIOV0MZy522nbVcYwvIaGzPOkYx3UJCXSpxw+BApD+g6NLiAR4wa8Tn4Sjpdmv3dD8pey8g ZHmQE9208zs3De2ERTQwarKViLzAitqnRghhRbn3BvH2lORwgn/DFLeV8qMAj X-Gm-Gg: ASbGncv8z3dK+54/JKKlCs5whogXgkFfl3mREovsr1EbXhyyfaNt6I7ssOZqcZEYfdn vDXlUCi6IMq9ngnYHMunW/vXGb1kSZgmMpqLOz6ZQQ5U4MVm4BsFgl0rajzbBs7B64TyBhuuncI Qd2Vlqan34rBvqBjWoKr07Tgy1lhMxMgpMkuXdVxlOC8cpJ1b1UCuAMym3wc2LxRx91eNMDxFia 3t8AteCVOtlWFnAE/R8jygh24XOVe0jjwLoym2KgLj4URr2izRJy6x6vhBJDrwpvgA11FLHu0YQ +m7Fm8/U4g34hIZdvKdT64cRzUtKc69qB4rK+BVfNnvYVTva1NDjgBkHCDvW/6v1eWhwpJaXds1 T0B0dnfNS X-Google-Smtp-Source: AGHT+IGcfcWX12b9T0oZ8nVjcyY24NmoHWn1As+a8zGp4H1MDDHV76HCzko+SM2MqrfNLkBIX3WMpUxNLaM1 X-Received: by 2002:a05:690e:250e:20b0:63e:34cb:511 with SMTP id 956f58d0204a3-63f9224eb3dmr2082008d50.23.1761915504503; Fri, 31 Oct 2025 05:58:24 -0700 (PDT) Received: from postal.iol.unh.edu (postal.iol.unh.edu. [2606:4100:3880:1234::84]) by smtp-relay.gmail.com with ESMTPS id 00721157ae682-7864c2d5a67sm1079427b3.24.2025.10.31.05.58.24 (version=TLS1_2 cipher=ECDHE-ECDSA-AES128-GCM-SHA256 bits=128/128); Fri, 31 Oct 2025 05:58:24 -0700 (PDT) X-Relaying-Domain: iol.unh.edu Date: Fri, 31 Oct 2025 05:58:24 -0700 (PDT) Message-ID: <6904b270.050a0220.6ad54.5b23SMTPIN_ADDED_MISSING@mx.google.com> Received: from [172.21.0.2] (unknown [172.18.0.240]) by postal.iol.unh.edu (Postfix) with ESMTP id 2DB396050A61; Fri, 31 Oct 2025 08:58:24 -0400 (EDT) Subject: |WARNING| pw158314 [PATCH] [1/1] test/memcpy: reduce duration From: dpdklab@iol.unh.edu To: Test Report Cc: dpdk-test-reports@iol.unh.edu In-Reply-To: <20251031114310.4062899-1-thomas@monjalon.net> References: <20251031114310.4062899-1-thomas@monjalon.net> Content-Type: text/plain X-BeenThere: test-report@dpdk.org X-Mailman-Version: 2.1.29 Precedence: list List-Id: automatic DPDK test reports List-Unsubscribe: , List-Archive: List-Post: List-Help: List-Subscribe: , Errors-To: test-report-bounces@dpdk.org Test-Label: iol-compile-amd64-testing Test-Status: WARNING http://dpdk.org/patch/158314 _Testing issues_ Submitter: Thomas Monjalon Date: Friday, October 31 2025 11:43:09 DPDK git baseline: Repo:dpdk Branch: master CommitID:8c4861d00aabcf54ef9d6f1df2a4cfb37c06f6c2 158314 --> testing issues Upstream job id: Windows-Compile-DPDK-Native#32028 Test environment and result as below: +-------------------------------+--------------------+------------------+-------------------+-------------------------+-------------------+----------------------+ | Environment | dpdk_meson_compile | dpdk_compile_ovs | dpdk_compile_spdk | dpdk_llvm_clang_compile | dpdk_msvc_compile | dpdk_mingw64_compile | +===============================+====================+==================+===================+=========================+===================+======================+ | Fedora Linux 42 | PASS | PASS | WARN | SKIPPED | SKIPPED | SKIPPED | +-------------------------------+--------------------+------------------+-------------------+-------------------------+-------------------+----------------------+ | CentOS Stream 10 | PASS | SKIPPED | SKIPPED | SKIPPED | SKIPPED | SKIPPED | +-------------------------------+--------------------+------------------+-------------------+-------------------------+-------------------+----------------------+ | CentOS Stream 9 | PASS | SKIPPED | WARN | SKIPPED | SKIPPED | SKIPPED | +-------------------------------+--------------------+------------------+-------------------+-------------------------+-------------------+----------------------+ | Red Hat Enterprise Linux 9.5 | PASS | SKIPPED | SKIPPED | SKIPPED | SKIPPED | SKIPPED | +-------------------------------+--------------------+------------------+-------------------+-------------------------+-------------------+----------------------+ | Debian GNU/Linux 12 | PASS | SKIPPED | WARN | SKIPPED | SKIPPED | SKIPPED | +-------------------------------+--------------------+------------------+-------------------+-------------------------+-------------------+----------------------+ | Red Hat Enterprise Linux 8.10 | PASS | SKIPPED | SKIPPED | SKIPPED | SKIPPED | SKIPPED | +-------------------------------+--------------------+------------------+-------------------+-------------------------+-------------------+----------------------+ | Ubuntu 20.04 | PASS | SKIPPED | SKIPPED | SKIPPED | SKIPPED | SKIPPED | +-------------------------------+--------------------+------------------+-------------------+-------------------------+-------------------+----------------------+ | openSUSE Leap 15.6 | PASS | SKIPPED | SKIPPED | SKIPPED | SKIPPED | SKIPPED | +-------------------------------+--------------------+------------------+-------------------+-------------------------+-------------------+----------------------+ | Ubuntu 22.04 | PASS | SKIPPED | WARN | SKIPPED | SKIPPED | SKIPPED | +-------------------------------+--------------------+------------------+-------------------+-------------------------+-------------------+----------------------+ | Ubuntu 24.04 | PASS | PASS | WARN | SKIPPED | SKIPPED | SKIPPED | +-------------------------------+--------------------+------------------+-------------------+-------------------------+-------------------+----------------------+ | FreeBSD 14.2 | PASS | SKIPPED | SKIPPED | SKIPPED | SKIPPED | SKIPPED | +-------------------------------+--------------------+------------------+-------------------+-------------------------+-------------------+----------------------+ | Alpine Linux 3.22.0 | PASS | SKIPPED | SKIPPED | SKIPPED | SKIPPED | SKIPPED | +-------------------------------+--------------------+------------------+-------------------+-------------------------+-------------------+----------------------+ | Windows Server 2022 | SKIPPED | SKIPPED | SKIPPED | PASS | PASS | PASS | +-------------------------------+--------------------+------------------+-------------------+-------------------------+-------------------+----------------------+ ==== 20 line log output for Ubuntu 24.04 (dpdk_compile_spdk): ==== --- Failed to get log output --- ==== End log output ==== Fedora Linux 42 Kernel: 5.15 Compiler: clang gcc (GCC) 15.2.1 20250808 (Red Hat 15.2.1-1) CentOS Stream 10 Kernel: 5.15 Compiler: gcc gcc (GCC) 14.2.1 20250110 (Red Hat 14.2.1-8) CentOS Stream 9 Kernel: 5.15 Compiler: gcc gcc (GCC) 11.5.0 20240719 (Red Hat 11.5.0-11) Red Hat Enterprise Linux 9.5 Kernel: 5.15 Compiler: gcc gcc (GCC) 11.5.0 20240719 (Red Hat 11.5.0-2) Debian GNU/Linux 12 Kernel: 5.15 Compiler: gcc gcc (Debian 12.2.0-14+deb12u1) 12.2.0 Red Hat Enterprise Linux 8.10 Kernel: 5.15 Compiler: gcc gcc (GCC) 8.5.0 20210514 (Red Hat 8.5.0-22) Ubuntu 20.04 Kernel: 5.15 Compiler: gcc gcc (Ubuntu 9.4.0-1ubuntu1~20.04.2) 9.4.0 openSUSE Leap 15.6 Kernel: 5.15 Compiler: gcc gcc (SUSE Linux) 7.5.0 Ubuntu 22.04 Kernel: 5.15 Compiler: gcc gcc (Ubuntu 11.4.0-1ubuntu1~22.04) 11.4.0 Ubuntu 24.04 Kernel: 5.15 Compiler: gcc gcc (Ubuntu 13.3.0-6ubuntu2~24.04) 13.3.0 FreeBSD 14.2 Kernel: 14.2-RELEASE Compiler: clang 18.1.6 Alpine Linux 3.22.0 Kernel: 5.15 Compiler: gcc gcc (Alpine 14.2.0) 14.2.0 Windows Server 2022 Kernel: 10.0.20348.2031 Compiler: clang 15.0.7, gcc 14.1.0 (MinGW), and MSVC VS 19.39.33521 To view detailed results, visit: https://lab.dpdk.org/results/dashboard/patchsets/34430/ UNH-IOL DPDK Community Lab To manage your email subscriptions, visit: https://lab.dpdk.org/results/dashboard/preferences/subscriptions/