From mboxrd@z Thu Jan 1 00:00:00 1970 Return-Path: Received: from mails.dpdk.org (mails.dpdk.org [217.70.189.124]) by inbox.dpdk.org (Postfix) with ESMTP id 9EF5D48A44 for ; Fri, 31 Oct 2025 14:01:48 +0100 (CET) Received: from mails.dpdk.org (localhost [127.0.0.1]) by mails.dpdk.org (Postfix) with ESMTP id 8068F40150; Fri, 31 Oct 2025 14:01:48 +0100 (CET) Received: from mail-yx1-f100.google.com (mail-yx1-f100.google.com [74.125.224.100]) by mails.dpdk.org (Postfix) with ESMTP id AD76E40150 for ; Fri, 31 Oct 2025 14:01:46 +0100 (CET) Received: by mail-yx1-f100.google.com with SMTP id 956f58d0204a3-63e1a326253so2687256d50.2 for ; Fri, 31 Oct 2025 06:01:46 -0700 (PDT) DKIM-Signature: v=1; a=rsa-sha256; c=relaxed/relaxed; d=iol.unh.edu; s=unh-iol; t=1761915706; x=1762520506; darn=dpdk.org; h=references:in-reply-to:cc:to:from:subject:message-id:date:from:to :cc:subject:date:message-id:reply-to; bh=qC+/LcAaY31pxCnhzhLxTgdHkK+0wZa9b6cpELKV/Go=; b=iaF4hE24EgoeXE6tlTIe5Eom4XOybknLdjzF3ogPoXJOhDSs/l/tZteeC1evS9knce Awf/AZmLnXrhOwJ8w5jRp0w8YcWWzv3kzFN+FWulgiU0VvED8a4K0QBQdKsMabbTlLAy y3m9N+i4RZrRueUQXbSmfDpSLdTNHfsThPuZo= X-Google-DKIM-Signature: v=1; a=rsa-sha256; c=relaxed/relaxed; d=1e100.net; s=20230601; t=1761915706; x=1762520506; h=references:in-reply-to:cc:to:from:subject:message-id:date :x-gm-message-state:from:to:cc:subject:date:message-id:reply-to; bh=qC+/LcAaY31pxCnhzhLxTgdHkK+0wZa9b6cpELKV/Go=; b=nWot9/YDNM1Ee71MYM9yvv8u6JbcRZ0MGQuAjmpORUP3DTp/adz7zbcQ+BFfhz5XRF p3IY7NmO6BTM+ttbpnjDXqQZvaWIYi7d+CrP0XUfJJP2U2K+4cDFxQdIzSbL/3CgoUbY Ycd8Tstatpo7uICDrBe8GV7jmTEuE4sbNCtUzQfC/ln0XRAOOEDodCrfW4d/gFbp2f20 ynGFb3QSD4BIH57Jr9nFEOiBGHOu0z7A+dFcVaItYFvqKYL05eX5C12RGnJ0tA5ancXE 9IRL8uBJJRSzpkG2hZd7inERu596eGBNR0niH4HPBcQ9xxd3dBDwYxoPg8KlKTQvVClE USiw== X-Gm-Message-State: AOJu0YwsmL2nM8sHH8iwu222jdbeirdG28xovC4y1u5WktQxH5QmbMuN taVEcpMEXzcfUBGEIdP8rKMs4ruHJqn3SE56XrMdRag91nDVfeQRIf1f1rfKquwgheYnoxQt9tR fT43u0NoKk2TX2ifQUfh4Yu2l3+ziceKbaMB28gRhULu1jpi3v5xSUW2alOBS X-Gm-Gg: ASbGncuxE5eNJxFZAx18zMC3Vs94hWssyEtI4yNp7QgUrPIljEfiWIHSdzOfj7yJu+t 3a3cV4MRs4OEcymoNCoRCqXpOZ1XA+FsG1CZEASSZMga5Cc9Q9qgh42oObIV7J0ELdk0US6G8T5 lztFHJ0lWVh+/cwmP94bJ86F0ghB+wdTOaLjvgWXsx+CD1Aa2dVQ6S2gWafOGaJgm802vLvhJZl 23L2Qd+4eJXMNP1CNdYPXacwDUbkcmFJTUvuSbY4PTBAfbEqULjjAX5VT0igZK8MNql8q+S1BLx pm0iXyvPDXi3KegfLTUZiRVE9eh7D9vIEY1AuO8HtN0Zqj8K2yPVCVB1k+o4N0RARrVGROA38Ue drzT9Iaox X-Google-Smtp-Source: AGHT+IHR58C47yxuugnixIY+whkMMilxZA+TPh5GTcYD+RdPooucV3ijCHgVDpSqxuFLj0x+2wUbAbZok/gI X-Received: by 2002:a53:d00a:0:b0:636:149a:f579 with SMTP id 956f58d0204a3-63f9224eb6emr2346361d50.23.1761915705786; Fri, 31 Oct 2025 06:01:45 -0700 (PDT) Received: from postal.iol.unh.edu (postal.iol.unh.edu. [2606:4100:3880:1234::84]) by smtp-relay.gmail.com with ESMTPS id 956f58d0204a3-63f96a401cdsm86702d50.13.2025.10.31.06.01.45 (version=TLS1_2 cipher=ECDHE-ECDSA-AES128-GCM-SHA256 bits=128/128); Fri, 31 Oct 2025 06:01:45 -0700 (PDT) X-Relaying-Domain: iol.unh.edu Date: Fri, 31 Oct 2025 06:01:45 -0700 (PDT) Message-ID: <6904b339.530a0220.1a9cf8.4a0eSMTPIN_ADDED_MISSING@mx.google.com> Received: from [172.21.0.3] (unknown [172.18.0.240]) by postal.iol.unh.edu (Postfix) with ESMTP id 77FC46050A61; Fri, 31 Oct 2025 09:01:45 -0400 (EDT) Subject: |SUCCESS| pw158314 [PATCH] [1/1] test/memcpy: reduce duration From: dpdklab@iol.unh.edu To: Test Report Cc: dpdk-test-reports@iol.unh.edu In-Reply-To: <20251031114310.4062899-1-thomas@monjalon.net> References: <20251031114310.4062899-1-thomas@monjalon.net> Content-Type: text/plain X-BeenThere: test-report@dpdk.org X-Mailman-Version: 2.1.29 Precedence: list List-Id: automatic DPDK test reports List-Unsubscribe: , List-Archive: List-Post: List-Help: List-Subscribe: , Errors-To: test-report-bounces@dpdk.org Test-Label: iol-unit-amd64-testing Test-Status: SUCCESS http://dpdk.org/patch/158314 _Testing PASS_ Submitter: Thomas Monjalon Date: Friday, October 31 2025 11:43:09 DPDK git baseline: Repo:dpdk Branch: master CommitID:8c4861d00aabcf54ef9d6f1df2a4cfb37c06f6c2 158314 --> testing pass Upstream job id: Generic-VM-Unit-Test-DPDK#32202 Test environment and result as below: +-------------------------------+----------------+ | Environment | dpdk_unit_test | +===============================+================+ | Fedora Linux 40 | PASS | +-------------------------------+----------------+ | Fedora Linux 42 | PASS | +-------------------------------+----------------+ | CentOS Stream 10 | PASS | +-------------------------------+----------------+ | Red Hat Enterprise Linux 8.10 | PASS | +-------------------------------+----------------+ | Red Hat Enterprise Linux 9.5 | PASS | +-------------------------------+----------------+ | Ubuntu 20.04 | PASS | +-------------------------------+----------------+ | Debian GNU/Linux 12 | PASS | +-------------------------------+----------------+ | CentOS Stream 9 | PASS | +-------------------------------+----------------+ | Fedora Linux 41 | PASS | +-------------------------------+----------------+ | Ubuntu 24.04 | PASS | +-------------------------------+----------------+ | Ubuntu 22.04 | PASS | +-------------------------------+----------------+ | Windows Server 2022 | PASS | +-------------------------------+----------------+ Fedora Linux 40 Kernel: 5.15 Compiler: gcc gcc (GCC) 14.2.1 20240912 (Red Hat 14.2.1-3) Fedora Linux 42 Kernel: 5.15 Compiler: gcc gcc (GCC) 15.2.1 20250808 (Red Hat 15.2.1-1) CentOS Stream 10 Kernel: 5.15 Compiler: gcc gcc (GCC) 14.2.1 20250110 (Red Hat 14.2.1-8) Red Hat Enterprise Linux 8.10 Kernel: 5.15 Compiler: gcc gcc (GCC) 8.5.0 20210514 (Red Hat 8.5.0-22) Red Hat Enterprise Linux 9.5 Kernel: 5.15 Compiler: gcc gcc (GCC) 11.5.0 20240719 (Red Hat 11.5.0-2) Ubuntu 20.04 Kernel: 5.15 Compiler: gcc gcc (Ubuntu 9.4.0-1ubuntu1~20.04.2) 9.4.0 Debian GNU/Linux 12 Kernel: 5.15 Compiler: gcc gcc (Debian 12.2.0-14+deb12u1) 12.2.0 CentOS Stream 9 Kernel: 5.15 Compiler: gcc gcc (GCC) 11.5.0 20240719 (Red Hat 11.5.0-11) Fedora Linux 41 Kernel: 5.15 Compiler: clang gcc (GCC) 14.3.1 20250523 (Red Hat 14.3.1-1) Ubuntu 24.04 Kernel: 5.15 Compiler: gcc gcc (Ubuntu 13.3.0-6ubuntu2~24.04) 13.3.0 Ubuntu 22.04 Kernel: 5.15 Compiler: gcc gcc (Ubuntu 11.4.0-1ubuntu1~22.04) 11.4.0 Windows Server 2022 Kernel: 10.0.20348.2031 Compiler: clang 15.0.7, gcc 14.1.0 (MinGW), and MSVC VS 19.39.33521 To view detailed results, visit: https://lab.dpdk.org/results/dashboard/patchsets/34430/ UNH-IOL DPDK Community Lab To manage your email subscriptions, visit: https://lab.dpdk.org/results/dashboard/preferences/subscriptions/