From mboxrd@z Thu Jan 1 00:00:00 1970 Return-Path: Received: from mails.dpdk.org (mails.dpdk.org [217.70.189.124]) by inbox.dpdk.org (Postfix) with ESMTP id EE27048A44 for ; Fri, 31 Oct 2025 14:24:07 +0100 (CET) Received: from mails.dpdk.org (localhost [127.0.0.1]) by mails.dpdk.org (Postfix) with ESMTP id CCE4840150; Fri, 31 Oct 2025 14:24:07 +0100 (CET) Received: from mail-qv1-f100.google.com (mail-qv1-f100.google.com [209.85.219.100]) by mails.dpdk.org (Postfix) with ESMTP id E60FB40150 for ; Fri, 31 Oct 2025 14:24:05 +0100 (CET) Received: by mail-qv1-f100.google.com with SMTP id 6a1803df08f44-7ea50f94045so32596546d6.1 for ; Fri, 31 Oct 2025 06:24:05 -0700 (PDT) DKIM-Signature: v=1; a=rsa-sha256; c=relaxed/relaxed; d=iol.unh.edu; s=unh-iol; t=1761917045; x=1762521845; darn=dpdk.org; h=cc:to:from:subject:message-id:date:from:to:cc:subject:date :message-id:reply-to; bh=3zAisoz3szI3RVAwiOausjFS+gxawQv7yEohtGUAZ1k=; b=W1Bnv5EBWLrBjGAmebAa44yKMkvicvBD6t1xdVr7KXP/lQni4wYhYd+Ns0gCInTzqM UlktS4AA9GNtVmNWDM39lMnNa6xNDC0grwa5Ac1xukvuwwozSBg1qbRC9LzDQKMuqSYt RRy9jlZARt+F8QX85NxCKvXx8ncoYJyOGP9OE= X-Google-DKIM-Signature: v=1; a=rsa-sha256; c=relaxed/relaxed; d=1e100.net; s=20230601; t=1761917045; x=1762521845; h=cc:to:from:subject:message-id:date:x-gm-message-state:from:to:cc :subject:date:message-id:reply-to; bh=3zAisoz3szI3RVAwiOausjFS+gxawQv7yEohtGUAZ1k=; b=dsRDGz4KNn9ZLvCpYxp5Wer71HQUmCwHH7mAWuO4Bg+Up0AGyx5InUIF36RfeN91Eb 8PHB+2pBXBLCqzhJminbkx7Jyd0UKfPA3PCSxbGYsZZYD46HNOeZeaBo9+aw9iraZOJZ XBLvVQV139uiVuQ1a0r+pLp7oUNU/vHwS/CpxlW+PkvkRDzaqrT7wMw5QvZoJ8tkFIMq 7EifelIKKtGbhxpGdo5aT70kEETXwa0TSBUFr8hrXlTk+tWxIr/NFWCjnVqlTYQZW90P pGkVMAmmMOjJ8a8LtHgETHEB8EHT8lK0+uvOedRhADKtBVnrks2+S4L6KXsovEYb3uCO KE6Q== X-Gm-Message-State: AOJu0YwxCT83WS828Po2TJLl9fMAGTF7pvS3GBNMKvj4MobZpUFWj2w/ LY1VaiAtAHMWeO1Xo5HdXeD71PsVN9I5EB3yylx5IiUQsZzy3DvUn5053GRBVPm+3LBacYUtOx7 ciL620X38xkZ+P2vlw35koJTOhhmmZv0jhmC1Y0+WifL1nW1bLf1Z X-Gm-Gg: ASbGncuSmQcfesQ51nvzYSIkidTAc38Z3EbEpaKR9w6AvL3J0xP+6uFJkyEe4P8axxJ Q/WKNY9ykn0MSbnw1uiqKOiO1fbzGtuIYzAKZ0agMHEyqwCPofqdACtnDXsTpyTHicyCaDVvyJ0 EozjPhEgwrGZlep5M0JZsBLjq4A9n6uwLKBuiUxBEQbJkj5HZaVE0qvNhPYtxzNf3qORlOsVlMa zpH3CYvF9LWfh2xZaf953cAEDnBY15zaHLzix+C463+IM0EqYlNG7VQkHTm215g+4z0uLDzUxWs S3yLZW0d9K+C7Tgw8NivBHE7X4YgoaH4QD1G2yO8po3OiDeioX9cfpYQQTBLQvGy98OmlqLKkKc N0fr7bvgm X-Google-Smtp-Source: AGHT+IFqLlrs5PML9UN4dPX3tq7YghF8HoDffle6H4tA26Atoc28h76rCLBt0AJZBgRMC7jDh9O5N/k3ToEP X-Received: by 2002:a05:6214:e81:b0:70f:b03d:2e85 with SMTP id 6a1803df08f44-8802d1169a6mr44108876d6.24.1761917045192; Fri, 31 Oct 2025 06:24:05 -0700 (PDT) Received: from postal.iol.unh.edu (postal.iol.unh.edu. [2606:4100:3880:1234::84]) by smtp-relay.gmail.com with ESMTPS id 6a1803df08f44-880360428b2sm1582186d6.13.2025.10.31.06.24.05 (version=TLS1_2 cipher=ECDHE-ECDSA-AES128-GCM-SHA256 bits=128/128); Fri, 31 Oct 2025 06:24:05 -0700 (PDT) X-Relaying-Domain: iol.unh.edu Date: Fri, 31 Oct 2025 06:24:05 -0700 (PDT) Message-ID: <6904b875.050a0220.3f43f.8366SMTPIN_ADDED_MISSING@mx.google.com> Received: from [172.21.0.2] (unknown [172.18.0.240]) by postal.iol.unh.edu (Postfix) with ESMTP id CBCF560003F7; Fri, 31 Oct 2025 09:24:04 -0400 (EDT) Subject: |SUCCESS| [GIT MASTER] 3b43ce3f4a54468e7ef65760c2fd7b4d6ee6d9fc From: dpdklab@iol.unh.edu To: Test Report Cc: dpdk-test-reports@iol.unh.edu, Xueming Li , Christian Ehrhardt , Kevin Traynor , Luca Boccassi Content-Type: text/plain X-BeenThere: test-report@dpdk.org X-Mailman-Version: 2.1.29 Precedence: list List-Id: automatic DPDK test reports List-Unsubscribe: , List-Archive: List-Post: List-Help: List-Subscribe: , Errors-To: test-report-bounces@dpdk.org _Testing PASS_ Branch: tags/v22.11 3b43ce3f4a54468e7ef65760c2fd7b4d6ee6d9fc --> testing pass Upstream job id: Generic-Unit-Test-DPDK#387249 Test environment and result as below: +-----------------+------------------------------+---------------------------+----------------+--------------+ | Environment | cryptodev_sw_snow3g_autotest | cryptodev_sw_zuc_autotest | dpdk_unit_test | lpm_autotest | +=================+==============================+===========================+================+==============+ | Debian 12 (arm) | PASS | PASS | SKIPPED | SKIPPED | +-----------------+------------------------------+---------------------------+----------------+--------------+ | Ubuntu 22.04 | SKIPPED | SKIPPED | PASS | SKIPPED | +-----------------+------------------------------+---------------------------+----------------+--------------+ | Ubuntu 20.04 | SKIPPED | SKIPPED | SKIPPED | PASS | +-----------------+------------------------------+---------------------------+----------------+--------------+ Debian 12 (arm) Kernel: Depends on container host Compiler: gcc (Debian 12.2.0-14) 12.2.0 Ubuntu 22.04 Kernel: 5.15 Compiler: gcc gcc (Ubuntu 11.4.0-1ubuntu1~22.04.2) 11.4.0 Ubuntu 20.04 Kernel: 5.4 Compiler: gcc gcc (Ubuntu 9.4.0-1ubuntu1~20.04.2) 9.4.0 To view detailed results, visit: https://lab.dpdk.org/results/dashboard/tarballs/35406/ UNH-IOL DPDK Community Lab To manage your email subscriptions, visit: https://lab.dpdk.org/results/dashboard/preferences/subscriptions/